BEGIN:VCALENDAR
VERSION:2.0
PRODID:https://www.kufer.de/kuferweb / DE
METHOD:PUBLISH
CALSCALE:GREGORIAN
X-WR-TIMEZONE:Europe/Berlin
BEGIN:VTIMEZONE
TZID:Europe/Berlin
X-LIC-LOCATION:Europe/Berlin
BEGIN:DAYLIGHT
TZOFFSETFROM:+0100
TZOFFSETTO:+0200
TZNAME:CEST
DTSTART:19700329T020000
RRULE:FREQ=YEARLY;INTERVAL=1;BYDAY=-1SU;BYMONTH=3
END:DAYLIGHT
BEGIN:STANDARD
TZOFFSETFROM:+0200
TZOFFSETTO:+0100
TZNAME:CET
DTSTART:19701025T030000
RRULE:FREQ=YEARLY;INTERVAL=1;BYDAY=-1SU;BYMONTH=10
END:STANDARD
END:VTIMEZONE
BEGIN:VEVENT
DTSTAMP:20260423T005651
DTSTART;TZID=Europe/Berlin:20260305T130000
DTEND;TZID=Europe/Berlin:20260305T170000
UID:V46126001-20260305T130000@VHSBÖBLINGEN-SINDELFINGEN
SUMMARY:Deutsch A1, Integrationskurs GL 6 (934) (V46126001) 
LOCATION:GHH, 203, 2.OG, Böblinger Str. 8, 71065 Sindelfingen
END:VEVENT
BEGIN:VEVENT
DTSTAMP:20260423T005651
DTSTART;TZID=Europe/Berlin:20260306T130000
DTEND;TZID=Europe/Berlin:20260306T170000
UID:V46126001-20260306T130000@VHSBÖBLINGEN-SINDELFINGEN
SUMMARY:Deutsch A1, Integrationskurs GL 6 (934) (V46126001) 
LOCATION:GHH, 203, 2.OG, Böblinger Str. 8, 71065 Sindelfingen
END:VEVENT
BEGIN:VEVENT
DTSTAMP:20260423T005651
DTSTART;TZID=Europe/Berlin:20260309T130000
DTEND;TZID=Europe/Berlin:20260309T170000
UID:V46126001-20260309T130000@VHSBÖBLINGEN-SINDELFINGEN
SUMMARY:Deutsch A1, Integrationskurs GL 6 (934) (V46126001) 
LOCATION:GHH, 203, 2.OG, Böblinger Str. 8, 71065 Sindelfingen
END:VEVENT
BEGIN:VEVENT
DTSTAMP:20260423T005651
DTSTART;TZID=Europe/Berlin:20260310T130000
DTEND;TZID=Europe/Berlin:20260310T170000
UID:V46126001-20260310T130000@VHSBÖBLINGEN-SINDELFINGEN
SUMMARY:Deutsch A1, Integrationskurs GL 6 (934) (V46126001) 
LOCATION:GHH, 203, 2.OG, Böblinger Str. 8, 71065 Sindelfingen
END:VEVENT
BEGIN:VEVENT
DTSTAMP:20260423T005651
DTSTART;TZID=Europe/Berlin:20260311T130000
DTEND;TZID=Europe/Berlin:20260311T170000
UID:V46126001-20260311T130000@VHSBÖBLINGEN-SINDELFINGEN
SUMMARY:Deutsch A1, Integrationskurs GL 6 (934) (V46126001) 
LOCATION:GHH, 203, 2.OG, Böblinger Str. 8, 71065 Sindelfingen
END:VEVENT
BEGIN:VEVENT
DTSTAMP:20260423T005651
DTSTART;TZID=Europe/Berlin:20260312T130000
DTEND;TZID=Europe/Berlin:20260312T170000
UID:V46126001-20260312T130000@VHSBÖBLINGEN-SINDELFINGEN
SUMMARY:Deutsch A1, Integrationskurs GL 6 (934) (V46126001) 
LOCATION:GHH, 203, 2.OG, Böblinger Str. 8, 71065 Sindelfingen
END:VEVENT
BEGIN:VEVENT
DTSTAMP:20260423T005651
DTSTART;TZID=Europe/Berlin:20260313T130000
DTEND;TZID=Europe/Berlin:20260313T170000
UID:V46126001-20260313T130000@VHSBÖBLINGEN-SINDELFINGEN
SUMMARY:Deutsch A1, Integrationskurs GL 6 (934) (V46126001) 
LOCATION:GHH, 203, 2.OG, Böblinger Str. 8, 71065 Sindelfingen
END:VEVENT
BEGIN:VEVENT
DTSTAMP:20260423T005651
DTSTART;TZID=Europe/Berlin:20260316T130000
DTEND;TZID=Europe/Berlin:20260316T170000
UID:V46126001-20260316T130000@VHSBÖBLINGEN-SINDELFINGEN
SUMMARY:Deutsch A1, Integrationskurs GL 6 (934) (V46126001) 
LOCATION:GHH, 203, 2.OG, Böblinger Str. 8, 71065 Sindelfingen
END:VEVENT
BEGIN:VEVENT
DTSTAMP:20260423T005651
DTSTART;TZID=Europe/Berlin:20260317T130000
DTEND;TZID=Europe/Berlin:20260317T170000
UID:V46126001-20260317T130000@VHSBÖBLINGEN-SINDELFINGEN
SUMMARY:Deutsch A1, Integrationskurs GL 6 (934) (V46126001) 
LOCATION:GHH, 203, 2.OG, Böblinger Str. 8, 71065 Sindelfingen
END:VEVENT
BEGIN:VEVENT
DTSTAMP:20260423T005651
DTSTART;TZID=Europe/Berlin:20260318T130000
DTEND;TZID=Europe/Berlin:20260318T170000
UID:V46126001-20260318T130000@VHSBÖBLINGEN-SINDELFINGEN
SUMMARY:Deutsch A1, Integrationskurs GL 6 (934) (V46126001) 
LOCATION:GHH, 203, 2.OG, Böblinger Str. 8, 71065 Sindelfingen
END:VEVENT
BEGIN:VEVENT
DTSTAMP:20260423T005651
DTSTART;TZID=Europe/Berlin:20260319T130000
DTEND;TZID=Europe/Berlin:20260319T170000
UID:V46126001-20260319T130000@VHSBÖBLINGEN-SINDELFINGEN
SUMMARY:Deutsch A1, Integrationskurs GL 6 (934) (V46126001) 
LOCATION:GHH, 203, 2.OG, Böblinger Str. 8, 71065 Sindelfingen
END:VEVENT
BEGIN:VEVENT
DTSTAMP:20260423T005651
DTSTART;TZID=Europe/Berlin:20260320T130000
DTEND;TZID=Europe/Berlin:20260320T170000
UID:V46126001-20260320T130000@VHSBÖBLINGEN-SINDELFINGEN
SUMMARY:Deutsch A1, Integrationskurs GL 6 (934) (V46126001) 
LOCATION:GHH, 203, 2.OG, Böblinger Str. 8, 71065 Sindelfingen
END:VEVENT
BEGIN:VEVENT
DTSTAMP:20260423T005651
DTSTART;TZID=Europe/Berlin:20260323T130000
DTEND;TZID=Europe/Berlin:20260323T170000
UID:V46126001-20260323T130000@VHSBÖBLINGEN-SINDELFINGEN
SUMMARY:Deutsch A1, Integrationskurs GL 6 (934) (V46126001) 
LOCATION:GHH, 203, 2.OG, Böblinger Str. 8, 71065 Sindelfingen
END:VEVENT
BEGIN:VEVENT
DTSTAMP:20260423T005651
DTSTART;TZID=Europe/Berlin:20260324T130000
DTEND;TZID=Europe/Berlin:20260324T170000
UID:V46126001-20260324T130000@VHSBÖBLINGEN-SINDELFINGEN
SUMMARY:Deutsch A1, Integrationskurs GL 6 (934) (V46126001) 
LOCATION:GHH, 203, 2.OG, Böblinger Str. 8, 71065 Sindelfingen
END:VEVENT
BEGIN:VEVENT
DTSTAMP:20260423T005651
DTSTART;TZID=Europe/Berlin:20260325T130000
DTEND;TZID=Europe/Berlin:20260325T170000
UID:V46126001-20260325T130000@VHSBÖBLINGEN-SINDELFINGEN
SUMMARY:Deutsch A1, Integrationskurs GL 6 (934) (V46126001) 
LOCATION:GHH, 203, 2.OG, Böblinger Str. 8, 71065 Sindelfingen
END:VEVENT
BEGIN:VEVENT
DTSTAMP:20260423T005651
DTSTART;TZID=Europe/Berlin:20260326T130000
DTEND;TZID=Europe/Berlin:20260326T170000
UID:V46126001-20260326T130000@VHSBÖBLINGEN-SINDELFINGEN
SUMMARY:Deutsch A1, Integrationskurs GL 6 (934) (V46126001) 
LOCATION:GHH, 203, 2.OG, Böblinger Str. 8, 71065 Sindelfingen
END:VEVENT
BEGIN:VEVENT
DTSTAMP:20260423T005651
DTSTART;TZID=Europe/Berlin:20260327T130000
DTEND;TZID=Europe/Berlin:20260327T170000
UID:V46126001-20260327T130000@VHSBÖBLINGEN-SINDELFINGEN
SUMMARY:Deutsch A1, Integrationskurs GL 6 (934) (V46126001) 
LOCATION:GHH, 203, 2.OG, Böblinger Str. 8, 71065 Sindelfingen
END:VEVENT
BEGIN:VEVENT
DTSTAMP:20260423T005651
DTSTART;TZID=Europe/Berlin:20260413T130000
DTEND;TZID=Europe/Berlin:20260413T170000
UID:V46126001-20260413T130000@VHSBÖBLINGEN-SINDELFINGEN
SUMMARY:Deutsch A1, Integrationskurs GL 6 (934) (V46126001) 
LOCATION:GHH, 203, 2.OG, Böblinger Str. 8, 71065 Sindelfingen
END:VEVENT
BEGIN:VEVENT
DTSTAMP:20260423T005651
DTSTART;TZID=Europe/Berlin:20260414T130000
DTEND;TZID=Europe/Berlin:20260414T170000
UID:V46126001-20260414T130000@VHSBÖBLINGEN-SINDELFINGEN
SUMMARY:Deutsch A1, Integrationskurs GL 6 (934) (V46126001) 
LOCATION:GHH, 203, 2.OG, Böblinger Str. 8, 71065 Sindelfingen
END:VEVENT
BEGIN:VEVENT
DTSTAMP:20260423T005651
DTSTART;TZID=Europe/Berlin:20260415T130000
DTEND;TZID=Europe/Berlin:20260415T170000
UID:V46126001-20260415T130000@VHSBÖBLINGEN-SINDELFINGEN
SUMMARY:Deutsch A1, Integrationskurs GL 6 (934) (V46126001) 
LOCATION:GHH, 201, 2.OG, Böblinger Str. 8, 71065 Sindelfingen
END:VEVENT
END:VCALENDAR