BEGIN:VCALENDAR
VERSION:2.0
PRODID:https://www.kufer.de/kuferweb / DE
METHOD:PUBLISH
CALSCALE:GREGORIAN
X-WR-TIMEZONE:Europe/Berlin
BEGIN:VTIMEZONE
TZID:Europe/Berlin
X-LIC-LOCATION:Europe/Berlin
BEGIN:DAYLIGHT
TZOFFSETFROM:+0100
TZOFFSETTO:+0200
TZNAME:CEST
DTSTART:19700329T020000
RRULE:FREQ=YEARLY;INTERVAL=1;BYDAY=-1SU;BYMONTH=3
END:DAYLIGHT
BEGIN:STANDARD
TZOFFSETFROM:+0200
TZOFFSETTO:+0100
TZNAME:CET
DTSTART:19701025T030000
RRULE:FREQ=YEARLY;INTERVAL=1;BYDAY=-1SU;BYMONTH=10
END:STANDARD
END:VTIMEZONE
BEGIN:VEVENT
DTSTAMP:20260423T023256
DTSTART;TZID=Europe/Berlin:20260305T123000
DTEND;TZID=Europe/Berlin:20260305T163000
UID:V46117003-20260305T123000@VHSBÖBLINGEN-SINDELFINGEN
SUMMARY:Deutsch, Orientierungskurs (V46117003) 
LOCATION:Höfle, 005, EG, Pestalozzistr. 4, 71032 Böblingen
END:VEVENT
BEGIN:VEVENT
DTSTAMP:20260423T023256
DTSTART;TZID=Europe/Berlin:20260306T123000
DTEND;TZID=Europe/Berlin:20260306T163000
UID:V46117003-20260306T123000@VHSBÖBLINGEN-SINDELFINGEN
SUMMARY:Deutsch, Orientierungskurs (V46117003) 
LOCATION:Höfle, 005, EG, Pestalozzistr. 4, 71032 Böblingen
END:VEVENT
BEGIN:VEVENT
DTSTAMP:20260423T023256
DTSTART;TZID=Europe/Berlin:20260309T123000
DTEND;TZID=Europe/Berlin:20260309T163000
UID:V46117003-20260309T123000@VHSBÖBLINGEN-SINDELFINGEN
SUMMARY:Deutsch, Orientierungskurs (V46117003) 
LOCATION:Höfle, 005, EG, Pestalozzistr. 4, 71032 Böblingen
END:VEVENT
BEGIN:VEVENT
DTSTAMP:20260423T023256
DTSTART;TZID=Europe/Berlin:20260310T123000
DTEND;TZID=Europe/Berlin:20260310T163000
UID:V46117003-20260310T123000@VHSBÖBLINGEN-SINDELFINGEN
SUMMARY:Deutsch, Orientierungskurs (V46117003) 
LOCATION:Höfle, 005, EG, Pestalozzistr. 4, 71032 Böblingen
END:VEVENT
BEGIN:VEVENT
DTSTAMP:20260423T023256
DTSTART;TZID=Europe/Berlin:20260311T123000
DTEND;TZID=Europe/Berlin:20260311T163000
UID:V46117003-20260311T123000@VHSBÖBLINGEN-SINDELFINGEN
SUMMARY:Deutsch, Orientierungskurs (V46117003) 
LOCATION:Höfle, 005, EG, Pestalozzistr. 4, 71032 Böblingen
END:VEVENT
BEGIN:VEVENT
DTSTAMP:20260423T023256
DTSTART;TZID=Europe/Berlin:20260312T123000
DTEND;TZID=Europe/Berlin:20260312T163000
UID:V46117003-20260312T123000@VHSBÖBLINGEN-SINDELFINGEN
SUMMARY:Deutsch, Orientierungskurs (V46117003) 
LOCATION:Höfle, 005, EG, Pestalozzistr. 4, 71032 Böblingen
END:VEVENT
BEGIN:VEVENT
DTSTAMP:20260423T023256
DTSTART;TZID=Europe/Berlin:20260313T123000
DTEND;TZID=Europe/Berlin:20260313T163000
UID:V46117003-20260313T123000@VHSBÖBLINGEN-SINDELFINGEN
SUMMARY:Deutsch, Orientierungskurs (V46117003) 
LOCATION:Höfle, 005, EG, Pestalozzistr. 4, 71032 Böblingen
END:VEVENT
BEGIN:VEVENT
DTSTAMP:20260423T023256
DTSTART;TZID=Europe/Berlin:20260316T123000
DTEND;TZID=Europe/Berlin:20260316T163000
UID:V46117003-20260316T123000@VHSBÖBLINGEN-SINDELFINGEN
SUMMARY:Deutsch, Orientierungskurs (V46117003) 
LOCATION:Höfle, 005, EG, Pestalozzistr. 4, 71032 Böblingen
END:VEVENT
BEGIN:VEVENT
DTSTAMP:20260423T023256
DTSTART;TZID=Europe/Berlin:20260317T123000
DTEND;TZID=Europe/Berlin:20260317T163000
UID:V46117003-20260317T123000@VHSBÖBLINGEN-SINDELFINGEN
SUMMARY:Deutsch, Orientierungskurs (V46117003) 
LOCATION:Höfle, 005, EG, Pestalozzistr. 4, 71032 Böblingen
END:VEVENT
BEGIN:VEVENT
DTSTAMP:20260423T023256
DTSTART;TZID=Europe/Berlin:20260318T123000
DTEND;TZID=Europe/Berlin:20260318T163000
UID:V46117003-20260318T123000@VHSBÖBLINGEN-SINDELFINGEN
SUMMARY:Deutsch, Orientierungskurs (V46117003) 
LOCATION:Höfle, 005, EG, Pestalozzistr. 4, 71032 Böblingen
END:VEVENT
BEGIN:VEVENT
DTSTAMP:20260423T023256
DTSTART;TZID=Europe/Berlin:20260319T123000
DTEND;TZID=Europe/Berlin:20260319T163000
UID:V46117003-20260319T123000@VHSBÖBLINGEN-SINDELFINGEN
SUMMARY:Deutsch, Orientierungskurs (V46117003) 
LOCATION:Höfle, 005, EG, Pestalozzistr. 4, 71032 Böblingen
END:VEVENT
BEGIN:VEVENT
DTSTAMP:20260423T023256
DTSTART;TZID=Europe/Berlin:20260320T123000
DTEND;TZID=Europe/Berlin:20260320T163000
UID:V46117003-20260320T123000@VHSBÖBLINGEN-SINDELFINGEN
SUMMARY:Deutsch, Orientierungskurs (V46117003) 
LOCATION:Höfle, 005, EG, Pestalozzistr. 4, 71032 Böblingen
END:VEVENT
BEGIN:VEVENT
DTSTAMP:20260423T023256
DTSTART;TZID=Europe/Berlin:20260323T123000
DTEND;TZID=Europe/Berlin:20260323T163000
UID:V46117003-20260323T123000@VHSBÖBLINGEN-SINDELFINGEN
SUMMARY:Deutsch, Orientierungskurs (V46117003) 
LOCATION:Höfle, 005, EG, Pestalozzistr. 4, 71032 Böblingen
END:VEVENT
BEGIN:VEVENT
DTSTAMP:20260423T023256
DTSTART;TZID=Europe/Berlin:20260324T123000
DTEND;TZID=Europe/Berlin:20260324T163000
UID:V46117003-20260324T123000@VHSBÖBLINGEN-SINDELFINGEN
SUMMARY:Deutsch, Orientierungskurs (V46117003) 
LOCATION:Höfle, 005, EG, Pestalozzistr. 4, 71032 Böblingen
END:VEVENT
BEGIN:VEVENT
DTSTAMP:20260423T023256
DTSTART;TZID=Europe/Berlin:20260325T123000
DTEND;TZID=Europe/Berlin:20260325T163000
UID:V46117003-20260325T123000@VHSBÖBLINGEN-SINDELFINGEN
SUMMARY:Deutsch, Orientierungskurs (V46117003) 
LOCATION:Höfle, 005, EG, Pestalozzistr. 4, 71032 Böblingen
END:VEVENT
BEGIN:VEVENT
DTSTAMP:20260423T023256
DTSTART;TZID=Europe/Berlin:20260326T123000
DTEND;TZID=Europe/Berlin:20260326T163000
UID:V46117003-20260326T123000@VHSBÖBLINGEN-SINDELFINGEN
SUMMARY:Deutsch, Orientierungskurs (V46117003) 
LOCATION:Höfle, 005, EG, Pestalozzistr. 4, 71032 Böblingen
END:VEVENT
BEGIN:VEVENT
DTSTAMP:20260423T023256
DTSTART;TZID=Europe/Berlin:20260327T123000
DTEND;TZID=Europe/Berlin:20260327T163000
UID:V46117003-20260327T123000@VHSBÖBLINGEN-SINDELFINGEN
SUMMARY:Deutsch, Orientierungskurs (V46117003) 
LOCATION:Höfle, 005, EG, Pestalozzistr. 4, 71032 Böblingen
END:VEVENT
BEGIN:VEVENT
DTSTAMP:20260423T023256
DTSTART;TZID=Europe/Berlin:20260413T123000
DTEND;TZID=Europe/Berlin:20260413T163000
UID:V46117003-20260413T123000@VHSBÖBLINGEN-SINDELFINGEN
SUMMARY:Deutsch, Orientierungskurs (V46117003) 
LOCATION:Höfle, 005, EG, Pestalozzistr. 4, 71032 Böblingen
END:VEVENT
BEGIN:VEVENT
DTSTAMP:20260423T023256
DTSTART;TZID=Europe/Berlin:20260414T123000
DTEND;TZID=Europe/Berlin:20260414T163000
UID:V46117003-20260414T123000@VHSBÖBLINGEN-SINDELFINGEN
SUMMARY:Deutsch, Orientierungskurs (V46117003) 
LOCATION:Höfle, 005, EG, Pestalozzistr. 4, 71032 Böblingen
END:VEVENT
BEGIN:VEVENT
DTSTAMP:20260423T023256
DTSTART;TZID=Europe/Berlin:20260415T123000
DTEND;TZID=Europe/Berlin:20260415T163000
UID:V46117003-20260415T123000@VHSBÖBLINGEN-SINDELFINGEN
SUMMARY:Deutsch, Orientierungskurs (V46117003) 
LOCATION:Höfle, 005, EG, Pestalozzistr. 4, 71032 Böblingen
END:VEVENT
END:VCALENDAR