BEGIN:VCALENDAR
VERSION:2.0
PRODID:https://www.kufer.de/kuferweb / DE
METHOD:PUBLISH
CALSCALE:GREGORIAN
X-WR-TIMEZONE:Europe/Berlin
BEGIN:VTIMEZONE
TZID:Europe/Berlin
X-LIC-LOCATION:Europe/Berlin
BEGIN:DAYLIGHT
TZOFFSETFROM:+0100
TZOFFSETTO:+0200
TZNAME:CEST
DTSTART:19700329T020000
RRULE:FREQ=YEARLY;INTERVAL=1;BYDAY=-1SU;BYMONTH=3
END:DAYLIGHT
BEGIN:STANDARD
TZOFFSETFROM:+0200
TZOFFSETTO:+0100
TZNAME:CET
DTSTART:19701025T030000
RRULE:FREQ=YEARLY;INTERVAL=1;BYDAY=-1SU;BYMONTH=10
END:STANDARD
END:VTIMEZONE
BEGIN:VEVENT
DTSTAMP:20260421T230842
DTSTART;TZID=Europe/Berlin:20260305T080000
DTEND;TZID=Europe/Berlin:20260305T120000
UID:V46113002-20260305T080000@VHSBÖBLINGEN-SINDELFINGEN
SUMMARY:Deutsch A2, Integrationskurs 3 (937) (V46113002) 
LOCATION:GHH, 103, 1.OG, Böblinger Str. 8, 71065 Sindelfingen
END:VEVENT
BEGIN:VEVENT
DTSTAMP:20260421T230842
DTSTART;TZID=Europe/Berlin:20260306T080000
DTEND;TZID=Europe/Berlin:20260306T120000
UID:V46113002-20260306T080000@VHSBÖBLINGEN-SINDELFINGEN
SUMMARY:Deutsch A2, Integrationskurs 3 (937) (V46113002) 
LOCATION:GHH, 103, 1.OG, Böblinger Str. 8, 71065 Sindelfingen
END:VEVENT
BEGIN:VEVENT
DTSTAMP:20260421T230842
DTSTART;TZID=Europe/Berlin:20260309T080000
DTEND;TZID=Europe/Berlin:20260309T120000
UID:V46113002-20260309T080000@VHSBÖBLINGEN-SINDELFINGEN
SUMMARY:Deutsch A2, Integrationskurs 3 (937) (V46113002) 
LOCATION:GHH, 103, 1.OG, Böblinger Str. 8, 71065 Sindelfingen
END:VEVENT
BEGIN:VEVENT
DTSTAMP:20260421T230842
DTSTART;TZID=Europe/Berlin:20260310T080000
DTEND;TZID=Europe/Berlin:20260310T120000
UID:V46113002-20260310T080000@VHSBÖBLINGEN-SINDELFINGEN
SUMMARY:Deutsch A2, Integrationskurs 3 (937) (V46113002) 
LOCATION:GHH, 103, 1.OG, Böblinger Str. 8, 71065 Sindelfingen
END:VEVENT
BEGIN:VEVENT
DTSTAMP:20260421T230842
DTSTART;TZID=Europe/Berlin:20260311T080000
DTEND;TZID=Europe/Berlin:20260311T120000
UID:V46113002-20260311T080000@VHSBÖBLINGEN-SINDELFINGEN
SUMMARY:Deutsch A2, Integrationskurs 3 (937) (V46113002) 
LOCATION:GHH, 103, 1.OG, Böblinger Str. 8, 71065 Sindelfingen
END:VEVENT
BEGIN:VEVENT
DTSTAMP:20260421T230842
DTSTART;TZID=Europe/Berlin:20260312T080000
DTEND;TZID=Europe/Berlin:20260312T120000
UID:V46113002-20260312T080000@VHSBÖBLINGEN-SINDELFINGEN
SUMMARY:Deutsch A2, Integrationskurs 3 (937) (V46113002) 
LOCATION:GHH, 103, 1.OG, Böblinger Str. 8, 71065 Sindelfingen
END:VEVENT
BEGIN:VEVENT
DTSTAMP:20260421T230842
DTSTART;TZID=Europe/Berlin:20260313T080000
DTEND;TZID=Europe/Berlin:20260313T120000
UID:V46113002-20260313T080000@VHSBÖBLINGEN-SINDELFINGEN
SUMMARY:Deutsch A2, Integrationskurs 3 (937) (V46113002) 
LOCATION:GHH, 103, 1.OG, Böblinger Str. 8, 71065 Sindelfingen
END:VEVENT
BEGIN:VEVENT
DTSTAMP:20260421T230842
DTSTART;TZID=Europe/Berlin:20260316T080000
DTEND;TZID=Europe/Berlin:20260316T120000
UID:V46113002-20260316T080000@VHSBÖBLINGEN-SINDELFINGEN
SUMMARY:Deutsch A2, Integrationskurs 3 (937) (V46113002) 
LOCATION:GHH, 103, 1.OG, Böblinger Str. 8, 71065 Sindelfingen
END:VEVENT
BEGIN:VEVENT
DTSTAMP:20260421T230842
DTSTART;TZID=Europe/Berlin:20260317T080000
DTEND;TZID=Europe/Berlin:20260317T120000
UID:V46113002-20260317T080000@VHSBÖBLINGEN-SINDELFINGEN
SUMMARY:Deutsch A2, Integrationskurs 3 (937) (V46113002) 
LOCATION:GHH, 103, 1.OG, Böblinger Str. 8, 71065 Sindelfingen
END:VEVENT
BEGIN:VEVENT
DTSTAMP:20260421T230842
DTSTART;TZID=Europe/Berlin:20260318T080000
DTEND;TZID=Europe/Berlin:20260318T120000
UID:V46113002-20260318T080000@VHSBÖBLINGEN-SINDELFINGEN
SUMMARY:Deutsch A2, Integrationskurs 3 (937) (V46113002) 
LOCATION:GHH, 103, 1.OG, Böblinger Str. 8, 71065 Sindelfingen
END:VEVENT
BEGIN:VEVENT
DTSTAMP:20260421T230842
DTSTART;TZID=Europe/Berlin:20260319T080000
DTEND;TZID=Europe/Berlin:20260319T120000
UID:V46113002-20260319T080000@VHSBÖBLINGEN-SINDELFINGEN
SUMMARY:Deutsch A2, Integrationskurs 3 (937) (V46113002) 
LOCATION:GHH, 103, 1.OG, Böblinger Str. 8, 71065 Sindelfingen
END:VEVENT
BEGIN:VEVENT
DTSTAMP:20260421T230842
DTSTART;TZID=Europe/Berlin:20260320T080000
DTEND;TZID=Europe/Berlin:20260320T120000
UID:V46113002-20260320T080000@VHSBÖBLINGEN-SINDELFINGEN
SUMMARY:Deutsch A2, Integrationskurs 3 (937) (V46113002) 
LOCATION:GHH, 103, 1.OG, Böblinger Str. 8, 71065 Sindelfingen
END:VEVENT
BEGIN:VEVENT
DTSTAMP:20260421T230842
DTSTART;TZID=Europe/Berlin:20260323T080000
DTEND;TZID=Europe/Berlin:20260323T120000
UID:V46113002-20260323T080000@VHSBÖBLINGEN-SINDELFINGEN
SUMMARY:Deutsch A2, Integrationskurs 3 (937) (V46113002) 
LOCATION:GHH, 103, 1.OG, Böblinger Str. 8, 71065 Sindelfingen
END:VEVENT
BEGIN:VEVENT
DTSTAMP:20260421T230842
DTSTART;TZID=Europe/Berlin:20260324T080000
DTEND;TZID=Europe/Berlin:20260324T120000
UID:V46113002-20260324T080000@VHSBÖBLINGEN-SINDELFINGEN
SUMMARY:Deutsch A2, Integrationskurs 3 (937) (V46113002) 
LOCATION:GHH, 103, 1.OG, Böblinger Str. 8, 71065 Sindelfingen
END:VEVENT
BEGIN:VEVENT
DTSTAMP:20260421T230842
DTSTART;TZID=Europe/Berlin:20260325T080000
DTEND;TZID=Europe/Berlin:20260325T120000
UID:V46113002-20260325T080000@VHSBÖBLINGEN-SINDELFINGEN
SUMMARY:Deutsch A2, Integrationskurs 3 (937) (V46113002) 
LOCATION:GHH, 103, 1.OG, Böblinger Str. 8, 71065 Sindelfingen
END:VEVENT
BEGIN:VEVENT
DTSTAMP:20260421T230842
DTSTART;TZID=Europe/Berlin:20260326T080000
DTEND;TZID=Europe/Berlin:20260326T120000
UID:V46113002-20260326T080000@VHSBÖBLINGEN-SINDELFINGEN
SUMMARY:Deutsch A2, Integrationskurs 3 (937) (V46113002) 
LOCATION:GHH, 103, 1.OG, Böblinger Str. 8, 71065 Sindelfingen
END:VEVENT
BEGIN:VEVENT
DTSTAMP:20260421T230842
DTSTART;TZID=Europe/Berlin:20260327T080000
DTEND;TZID=Europe/Berlin:20260327T120000
UID:V46113002-20260327T080000@VHSBÖBLINGEN-SINDELFINGEN
SUMMARY:Deutsch A2, Integrationskurs 3 (937) (V46113002) 
LOCATION:GHH, 103, 1.OG, Böblinger Str. 8, 71065 Sindelfingen
END:VEVENT
BEGIN:VEVENT
DTSTAMP:20260421T230842
DTSTART;TZID=Europe/Berlin:20260413T080000
DTEND;TZID=Europe/Berlin:20260413T120000
UID:V46113002-20260413T080000@VHSBÖBLINGEN-SINDELFINGEN
SUMMARY:Deutsch A2, Integrationskurs 3 (937) (V46113002) 
LOCATION:GHH, 103, 1.OG, Böblinger Str. 8, 71065 Sindelfingen
END:VEVENT
BEGIN:VEVENT
DTSTAMP:20260421T230842
DTSTART;TZID=Europe/Berlin:20260414T080000
DTEND;TZID=Europe/Berlin:20260414T120000
UID:V46113002-20260414T080000@VHSBÖBLINGEN-SINDELFINGEN
SUMMARY:Deutsch A2, Integrationskurs 3 (937) (V46113002) 
LOCATION:GHH, 103, 1.OG, Böblinger Str. 8, 71065 Sindelfingen
END:VEVENT
BEGIN:VEVENT
DTSTAMP:20260421T230842
DTSTART;TZID=Europe/Berlin:20260415T080000
DTEND;TZID=Europe/Berlin:20260415T120000
UID:V46113002-20260415T080000@VHSBÖBLINGEN-SINDELFINGEN
SUMMARY:Deutsch A2, Integrationskurs 3 (937) (V46113002) 
LOCATION:GHH, 103, 1.OG, Böblinger Str. 8, 71065 Sindelfingen
END:VEVENT
END:VCALENDAR