BEGIN:VCALENDAR
VERSION:2.0
PRODID:https://www.kufer.de/kuferweb / DE
METHOD:PUBLISH
CALSCALE:GREGORIAN
X-WR-TIMEZONE:Europe/Berlin
BEGIN:VTIMEZONE
TZID:Europe/Berlin
X-LIC-LOCATION:Europe/Berlin
BEGIN:DAYLIGHT
TZOFFSETFROM:+0100
TZOFFSETTO:+0200
TZNAME:CEST
DTSTART:19700329T020000
RRULE:FREQ=YEARLY;INTERVAL=1;BYDAY=-1SU;BYMONTH=3
END:DAYLIGHT
BEGIN:STANDARD
TZOFFSETFROM:+0200
TZOFFSETTO:+0100
TZNAME:CET
DTSTART:19701025T030000
RRULE:FREQ=YEARLY;INTERVAL=1;BYDAY=-1SU;BYMONTH=10
END:STANDARD
END:VTIMEZONE
BEGIN:VEVENT
DTSTAMP:20260421T100430
DTSTART;TZID=Europe/Berlin:20260320T184000
DTEND;TZID=Europe/Berlin:20260320T201000
UID:V45360110-20260320T184000@VHSBÖBLINGEN-SINDELFINGEN
SUMMARY:Neugriechisch A1, Anfängerkurs (V45360110) 
LOCATION:Höfle, 106, 1. OG, Pestalozzistr. 4, 71032 Böblingen
END:VEVENT
BEGIN:VEVENT
DTSTAMP:20260421T100430
DTSTART;TZID=Europe/Berlin:20260327T184000
DTEND;TZID=Europe/Berlin:20260327T201000
UID:V45360110-20260327T184000@VHSBÖBLINGEN-SINDELFINGEN
SUMMARY:Neugriechisch A1, Anfängerkurs (V45360110) 
LOCATION:Höfle, 106, 1. OG, Pestalozzistr. 4, 71032 Böblingen
END:VEVENT
BEGIN:VEVENT
DTSTAMP:20260421T100430
DTSTART;TZID=Europe/Berlin:20260424T184000
DTEND;TZID=Europe/Berlin:20260424T201000
UID:V45360110-20260424T184000@VHSBÖBLINGEN-SINDELFINGEN
SUMMARY:Neugriechisch A1, Anfängerkurs (V45360110) 
LOCATION:Höfle, 106, 1. OG, Pestalozzistr. 4, 71032 Böblingen
END:VEVENT
BEGIN:VEVENT
DTSTAMP:20260421T100430
DTSTART;TZID=Europe/Berlin:20260508T184000
DTEND;TZID=Europe/Berlin:20260508T201000
UID:V45360110-20260508T184000@VHSBÖBLINGEN-SINDELFINGEN
SUMMARY:Neugriechisch A1, Anfängerkurs (V45360110) 
LOCATION:Höfle, 106, 1. OG, Pestalozzistr. 4, 71032 Böblingen
END:VEVENT
BEGIN:VEVENT
DTSTAMP:20260421T100430
DTSTART;TZID=Europe/Berlin:20260522T184000
DTEND;TZID=Europe/Berlin:20260522T201000
UID:V45360110-20260522T184000@VHSBÖBLINGEN-SINDELFINGEN
SUMMARY:Neugriechisch A1, Anfängerkurs (V45360110) 
LOCATION:Höfle, 106, 1. OG, Pestalozzistr. 4, 71032 Böblingen
END:VEVENT
BEGIN:VEVENT
DTSTAMP:20260421T100430
DTSTART;TZID=Europe/Berlin:20260612T184000
DTEND;TZID=Europe/Berlin:20260612T201000
UID:V45360110-20260612T184000@VHSBÖBLINGEN-SINDELFINGEN
SUMMARY:Neugriechisch A1, Anfängerkurs (V45360110) 
LOCATION:Höfle, 106, 1. OG, Pestalozzistr. 4, 71032 Böblingen
END:VEVENT
BEGIN:VEVENT
DTSTAMP:20260421T100430
DTSTART;TZID=Europe/Berlin:20260619T184000
DTEND;TZID=Europe/Berlin:20260619T201000
UID:V45360110-20260619T184000@VHSBÖBLINGEN-SINDELFINGEN
SUMMARY:Neugriechisch A1, Anfängerkurs (V45360110) 
LOCATION:Höfle, 106, 1. OG, Pestalozzistr. 4, 71032 Böblingen
END:VEVENT
BEGIN:VEVENT
DTSTAMP:20260421T100430
DTSTART;TZID=Europe/Berlin:20260626T184000
DTEND;TZID=Europe/Berlin:20260626T201000
UID:V45360110-20260626T184000@VHSBÖBLINGEN-SINDELFINGEN
SUMMARY:Neugriechisch A1, Anfängerkurs (V45360110) 
LOCATION:Höfle, 106, 1. OG, Pestalozzistr. 4, 71032 Böblingen
END:VEVENT
BEGIN:VEVENT
DTSTAMP:20260421T100430
DTSTART;TZID=Europe/Berlin:20260703T184000
DTEND;TZID=Europe/Berlin:20260703T201000
UID:V45360110-20260703T184000@VHSBÖBLINGEN-SINDELFINGEN
SUMMARY:Neugriechisch A1, Anfängerkurs (V45360110) 
LOCATION:Höfle, 106, 1. OG, Pestalozzistr. 4, 71032 Böblingen
END:VEVENT
BEGIN:VEVENT
DTSTAMP:20260421T100430
DTSTART;TZID=Europe/Berlin:20260710T184000
DTEND;TZID=Europe/Berlin:20260710T201000
UID:V45360110-20260710T184000@VHSBÖBLINGEN-SINDELFINGEN
SUMMARY:Neugriechisch A1, Anfängerkurs (V45360110) 
LOCATION:Höfle, 106, 1. OG, Pestalozzistr. 4, 71032 Böblingen
END:VEVENT
END:VCALENDAR