BEGIN:VCALENDAR
VERSION:2.0
PRODID:https://www.kufer.de/kuferweb / DE
METHOD:PUBLISH
CALSCALE:GREGORIAN
X-WR-TIMEZONE:Europe/Berlin
BEGIN:VTIMEZONE
TZID:Europe/Berlin
X-LIC-LOCATION:Europe/Berlin
BEGIN:DAYLIGHT
TZOFFSETFROM:+0100
TZOFFSETTO:+0200
TZNAME:CEST
DTSTART:19700329T020000
RRULE:FREQ=YEARLY;INTERVAL=1;BYDAY=-1SU;BYMONTH=3
END:DAYLIGHT
BEGIN:STANDARD
TZOFFSETFROM:+0200
TZOFFSETTO:+0100
TZNAME:CET
DTSTART:19701025T030000
RRULE:FREQ=YEARLY;INTERVAL=1;BYDAY=-1SU;BYMONTH=10
END:STANDARD
END:VTIMEZONE
BEGIN:VEVENT
DTSTAMP:20260420T175615
DTSTART;TZID=Europe/Berlin:20260310T180000
DTEND;TZID=Europe/Berlin:20260310T193000
UID:V45320310-20260310T180000@VHSBÖBLINGEN-SINDELFINGEN
SUMMARY:Kroatisch A1               (V45320310) 
LOCATION:GHH, 203, 2.OG, Böblinger Str. 8, 71065 Sindelfingen
END:VEVENT
BEGIN:VEVENT
DTSTAMP:20260420T175615
DTSTART;TZID=Europe/Berlin:20260317T180000
DTEND;TZID=Europe/Berlin:20260317T193000
UID:V45320310-20260317T180000@VHSBÖBLINGEN-SINDELFINGEN
SUMMARY:Kroatisch A1               (V45320310) 
LOCATION:GHH, 203, 2.OG, Böblinger Str. 8, 71065 Sindelfingen
END:VEVENT
BEGIN:VEVENT
DTSTAMP:20260420T175615
DTSTART;TZID=Europe/Berlin:20260324T180000
DTEND;TZID=Europe/Berlin:20260324T193000
UID:V45320310-20260324T180000@VHSBÖBLINGEN-SINDELFINGEN
SUMMARY:Kroatisch A1               (V45320310) 
LOCATION:GHH, 203, 2.OG, Böblinger Str. 8, 71065 Sindelfingen
END:VEVENT
BEGIN:VEVENT
DTSTAMP:20260420T175615
DTSTART;TZID=Europe/Berlin:20260414T180000
DTEND;TZID=Europe/Berlin:20260414T193000
UID:V45320310-20260414T180000@VHSBÖBLINGEN-SINDELFINGEN
SUMMARY:Kroatisch A1               (V45320310) 
LOCATION:GHH, 203, 2.OG, Böblinger Str. 8, 71065 Sindelfingen
END:VEVENT
BEGIN:VEVENT
DTSTAMP:20260420T175615
DTSTART;TZID=Europe/Berlin:20260421T180000
DTEND;TZID=Europe/Berlin:20260421T193000
UID:V45320310-20260421T180000@VHSBÖBLINGEN-SINDELFINGEN
SUMMARY:Kroatisch A1               (V45320310) 
LOCATION:GHH, 203, 2.OG, Böblinger Str. 8, 71065 Sindelfingen
END:VEVENT
BEGIN:VEVENT
DTSTAMP:20260420T175615
DTSTART;TZID=Europe/Berlin:20260428T180000
DTEND;TZID=Europe/Berlin:20260428T193000
UID:V45320310-20260428T180000@VHSBÖBLINGEN-SINDELFINGEN
SUMMARY:Kroatisch A1               (V45320310) 
LOCATION:GHH, 203, 2.OG, Böblinger Str. 8, 71065 Sindelfingen
END:VEVENT
BEGIN:VEVENT
DTSTAMP:20260420T175615
DTSTART;TZID=Europe/Berlin:20260505T180000
DTEND;TZID=Europe/Berlin:20260505T193000
UID:V45320310-20260505T180000@VHSBÖBLINGEN-SINDELFINGEN
SUMMARY:Kroatisch A1               (V45320310) 
LOCATION:GHH, 203, 2.OG, Böblinger Str. 8, 71065 Sindelfingen
END:VEVENT
BEGIN:VEVENT
DTSTAMP:20260420T175615
DTSTART;TZID=Europe/Berlin:20260512T180000
DTEND;TZID=Europe/Berlin:20260512T193000
UID:V45320310-20260512T180000@VHSBÖBLINGEN-SINDELFINGEN
SUMMARY:Kroatisch A1               (V45320310) 
LOCATION:GHH, 203, 2.OG, Böblinger Str. 8, 71065 Sindelfingen
END:VEVENT
BEGIN:VEVENT
DTSTAMP:20260420T175615
DTSTART;TZID=Europe/Berlin:20260519T180000
DTEND;TZID=Europe/Berlin:20260519T193000
UID:V45320310-20260519T180000@VHSBÖBLINGEN-SINDELFINGEN
SUMMARY:Kroatisch A1               (V45320310) 
LOCATION:GHH, 203, 2.OG, Böblinger Str. 8, 71065 Sindelfingen
END:VEVENT
BEGIN:VEVENT
DTSTAMP:20260420T175615
DTSTART;TZID=Europe/Berlin:20260609T180000
DTEND;TZID=Europe/Berlin:20260609T193000
UID:V45320310-20260609T180000@VHSBÖBLINGEN-SINDELFINGEN
SUMMARY:Kroatisch A1               (V45320310) 
LOCATION:GHH, 203, 2.OG, Böblinger Str. 8, 71065 Sindelfingen
END:VEVENT
BEGIN:VEVENT
DTSTAMP:20260420T175615
DTSTART;TZID=Europe/Berlin:20260630T180000
DTEND;TZID=Europe/Berlin:20260630T193000
UID:V45320310-20260630T180000@VHSBÖBLINGEN-SINDELFINGEN
SUMMARY:Kroatisch A1               (V45320310) 
LOCATION:GHH, 203, 2.OG, Böblinger Str. 8, 71065 Sindelfingen
END:VEVENT
BEGIN:VEVENT
DTSTAMP:20260420T175615
DTSTART;TZID=Europe/Berlin:20260707T180000
DTEND;TZID=Europe/Berlin:20260707T193000
UID:V45320310-20260707T180000@VHSBÖBLINGEN-SINDELFINGEN
SUMMARY:Kroatisch A1               (V45320310) 
LOCATION:GHH, 203, 2.OG, Böblinger Str. 8, 71065 Sindelfingen
END:VEVENT
END:VCALENDAR