BEGIN:VCALENDAR
VERSION:2.0
PRODID:https://www.kufer.de/kuferweb / DE
METHOD:PUBLISH
CALSCALE:GREGORIAN
X-WR-TIMEZONE:Europe/Berlin
BEGIN:VTIMEZONE
TZID:Europe/Berlin
X-LIC-LOCATION:Europe/Berlin
BEGIN:DAYLIGHT
TZOFFSETFROM:+0100
TZOFFSETTO:+0200
TZNAME:CEST
DTSTART:19700329T020000
RRULE:FREQ=YEARLY;INTERVAL=1;BYDAY=-1SU;BYMONTH=3
END:DAYLIGHT
BEGIN:STANDARD
TZOFFSETFROM:+0200
TZOFFSETTO:+0100
TZNAME:CET
DTSTART:19701025T030000
RRULE:FREQ=YEARLY;INTERVAL=1;BYDAY=-1SU;BYMONTH=10
END:STANDARD
END:VTIMEZONE
BEGIN:VEVENT
DTSTAMP:20260420T192539
DTSTART;TZID=Europe/Berlin:20260310T194000
DTEND;TZID=Europe/Berlin:20260310T211000
UID:V45320110-20260310T194000@VHSBÖBLINGEN-SINDELFINGEN
SUMMARY:Kroatisch A1, Anfängerkurs (V45320110) 
LOCATION:GHH, 203, 2.OG, Böblinger Str. 8, 71065 Sindelfingen
END:VEVENT
BEGIN:VEVENT
DTSTAMP:20260420T192539
DTSTART;TZID=Europe/Berlin:20260317T194000
DTEND;TZID=Europe/Berlin:20260317T211000
UID:V45320110-20260317T194000@VHSBÖBLINGEN-SINDELFINGEN
SUMMARY:Kroatisch A1, Anfängerkurs (V45320110) 
LOCATION:GHH, 203, 2.OG, Böblinger Str. 8, 71065 Sindelfingen
END:VEVENT
BEGIN:VEVENT
DTSTAMP:20260420T192539
DTSTART;TZID=Europe/Berlin:20260324T194000
DTEND;TZID=Europe/Berlin:20260324T211000
UID:V45320110-20260324T194000@VHSBÖBLINGEN-SINDELFINGEN
SUMMARY:Kroatisch A1, Anfängerkurs (V45320110) 
LOCATION:GHH, 203, 2.OG, Böblinger Str. 8, 71065 Sindelfingen
END:VEVENT
BEGIN:VEVENT
DTSTAMP:20260420T192539
DTSTART;TZID=Europe/Berlin:20260414T194000
DTEND;TZID=Europe/Berlin:20260414T211000
UID:V45320110-20260414T194000@VHSBÖBLINGEN-SINDELFINGEN
SUMMARY:Kroatisch A1, Anfängerkurs (V45320110) 
LOCATION:GHH, 203, 2.OG, Böblinger Str. 8, 71065 Sindelfingen
END:VEVENT
BEGIN:VEVENT
DTSTAMP:20260420T192539
DTSTART;TZID=Europe/Berlin:20260421T194000
DTEND;TZID=Europe/Berlin:20260421T211000
UID:V45320110-20260421T194000@VHSBÖBLINGEN-SINDELFINGEN
SUMMARY:Kroatisch A1, Anfängerkurs (V45320110) 
LOCATION:GHH, 203, 2.OG, Böblinger Str. 8, 71065 Sindelfingen
END:VEVENT
BEGIN:VEVENT
DTSTAMP:20260420T192539
DTSTART;TZID=Europe/Berlin:20260428T194000
DTEND;TZID=Europe/Berlin:20260428T211000
UID:V45320110-20260428T194000@VHSBÖBLINGEN-SINDELFINGEN
SUMMARY:Kroatisch A1, Anfängerkurs (V45320110) 
LOCATION:GHH, 203, 2.OG, Böblinger Str. 8, 71065 Sindelfingen
END:VEVENT
BEGIN:VEVENT
DTSTAMP:20260420T192539
DTSTART;TZID=Europe/Berlin:20260505T194000
DTEND;TZID=Europe/Berlin:20260505T211000
UID:V45320110-20260505T194000@VHSBÖBLINGEN-SINDELFINGEN
SUMMARY:Kroatisch A1, Anfängerkurs (V45320110) 
LOCATION:GHH, 203, 2.OG, Böblinger Str. 8, 71065 Sindelfingen
END:VEVENT
BEGIN:VEVENT
DTSTAMP:20260420T192539
DTSTART;TZID=Europe/Berlin:20260512T194000
DTEND;TZID=Europe/Berlin:20260512T211000
UID:V45320110-20260512T194000@VHSBÖBLINGEN-SINDELFINGEN
SUMMARY:Kroatisch A1, Anfängerkurs (V45320110) 
LOCATION:GHH, 203, 2.OG, Böblinger Str. 8, 71065 Sindelfingen
END:VEVENT
BEGIN:VEVENT
DTSTAMP:20260420T192539
DTSTART;TZID=Europe/Berlin:20260519T194000
DTEND;TZID=Europe/Berlin:20260519T211000
UID:V45320110-20260519T194000@VHSBÖBLINGEN-SINDELFINGEN
SUMMARY:Kroatisch A1, Anfängerkurs (V45320110) 
LOCATION:GHH, 203, 2.OG, Böblinger Str. 8, 71065 Sindelfingen
END:VEVENT
BEGIN:VEVENT
DTSTAMP:20260420T192539
DTSTART;TZID=Europe/Berlin:20260609T194000
DTEND;TZID=Europe/Berlin:20260609T211000
UID:V45320110-20260609T194000@VHSBÖBLINGEN-SINDELFINGEN
SUMMARY:Kroatisch A1, Anfängerkurs (V45320110) 
LOCATION:GHH, 203, 2.OG, Böblinger Str. 8, 71065 Sindelfingen
END:VEVENT
BEGIN:VEVENT
DTSTAMP:20260420T192539
DTSTART;TZID=Europe/Berlin:20260616T194000
DTEND;TZID=Europe/Berlin:20260616T211000
UID:V45320110-20260616T194000@VHSBÖBLINGEN-SINDELFINGEN
SUMMARY:Kroatisch A1, Anfängerkurs (V45320110) 
LOCATION:GHH, 203, 2.OG, Böblinger Str. 8, 71065 Sindelfingen
END:VEVENT
BEGIN:VEVENT
DTSTAMP:20260420T192539
DTSTART;TZID=Europe/Berlin:20260623T194000
DTEND;TZID=Europe/Berlin:20260623T211000
UID:V45320110-20260623T194000@VHSBÖBLINGEN-SINDELFINGEN
SUMMARY:Kroatisch A1, Anfängerkurs (V45320110) 
LOCATION:GHH, 203, 2.OG, Böblinger Str. 8, 71065 Sindelfingen
END:VEVENT
BEGIN:VEVENT
DTSTAMP:20260420T192539
DTSTART;TZID=Europe/Berlin:20260630T194000
DTEND;TZID=Europe/Berlin:20260630T211000
UID:V45320110-20260630T194000@VHSBÖBLINGEN-SINDELFINGEN
SUMMARY:Kroatisch A1, Anfängerkurs (V45320110) 
LOCATION:GHH, 203, 2.OG, Böblinger Str. 8, 71065 Sindelfingen
END:VEVENT
BEGIN:VEVENT
DTSTAMP:20260420T192539
DTSTART;TZID=Europe/Berlin:20260707T194000
DTEND;TZID=Europe/Berlin:20260707T211000
UID:V45320110-20260707T194000@VHSBÖBLINGEN-SINDELFINGEN
SUMMARY:Kroatisch A1, Anfängerkurs (V45320110) 
LOCATION:GHH, 203, 2.OG, Böblinger Str. 8, 71065 Sindelfingen
END:VEVENT
END:VCALENDAR