BEGIN:VCALENDAR
VERSION:2.0
PRODID:https://www.kufer.de/kuferweb / DE
METHOD:PUBLISH
CALSCALE:GREGORIAN
X-WR-TIMEZONE:Europe/Berlin
BEGIN:VTIMEZONE
TZID:Europe/Berlin
X-LIC-LOCATION:Europe/Berlin
BEGIN:DAYLIGHT
TZOFFSETFROM:+0100
TZOFFSETTO:+0200
TZNAME:CEST
DTSTART:19700329T020000
RRULE:FREQ=YEARLY;INTERVAL=1;BYDAY=-1SU;BYMONTH=3
END:DAYLIGHT
BEGIN:STANDARD
TZOFFSETFROM:+0200
TZOFFSETTO:+0100
TZNAME:CET
DTSTART:19701025T030000
RRULE:FREQ=YEARLY;INTERVAL=1;BYDAY=-1SU;BYMONTH=10
END:STANDARD
END:VTIMEZONE
BEGIN:VEVENT
DTSTAMP:20260420T192326
DTSTART;TZID=Europe/Berlin:20260526T100000
DTEND;TZID=Europe/Berlin:20260526T131500
UID:V45260210-20260526T100000@VHSBÖBLINGEN-SINDELFINGEN
SUMMARY:Japanisch A1, Anfängerkurs  Ferienkurs (V45260210) 
LOCATION:Höfle, 202, 2. OG, Pestalozzistr. 4, 71032 Böblingen
END:VEVENT
BEGIN:VEVENT
DTSTAMP:20260420T192326
DTSTART;TZID=Europe/Berlin:20260527T100000
DTEND;TZID=Europe/Berlin:20260527T131500
UID:V45260210-20260527T100000@VHSBÖBLINGEN-SINDELFINGEN
SUMMARY:Japanisch A1, Anfängerkurs  Ferienkurs (V45260210) 
LOCATION:Höfle, 202, 2. OG, Pestalozzistr. 4, 71032 Böblingen
END:VEVENT
BEGIN:VEVENT
DTSTAMP:20260420T192326
DTSTART;TZID=Europe/Berlin:20260529T100000
DTEND;TZID=Europe/Berlin:20260529T131500
UID:V45260210-20260529T100000@VHSBÖBLINGEN-SINDELFINGEN
SUMMARY:Japanisch A1, Anfängerkurs  Ferienkurs (V45260210) 
LOCATION:Höfle, 202, 2. OG, Pestalozzistr. 4, 71032 Böblingen
END:VEVENT
BEGIN:VEVENT
DTSTAMP:20260420T192326
DTSTART;TZID=Europe/Berlin:20260601T100000
DTEND;TZID=Europe/Berlin:20260601T131500
UID:V45260210-20260601T100000@VHSBÖBLINGEN-SINDELFINGEN
SUMMARY:Japanisch A1, Anfängerkurs  Ferienkurs (V45260210) 
LOCATION:Höfle, 202, 2. OG, Pestalozzistr. 4, 71032 Böblingen
END:VEVENT
BEGIN:VEVENT
DTSTAMP:20260420T192326
DTSTART;TZID=Europe/Berlin:20260603T100000
DTEND;TZID=Europe/Berlin:20260603T131500
UID:V45260210-20260603T100000@VHSBÖBLINGEN-SINDELFINGEN
SUMMARY:Japanisch A1, Anfängerkurs  Ferienkurs (V45260210) 
LOCATION:Höfle, 202, 2. OG, Pestalozzistr. 4, 71032 Böblingen
END:VEVENT
BEGIN:VEVENT
DTSTAMP:20260420T192326
DTSTART;TZID=Europe/Berlin:20260605T100000
DTEND;TZID=Europe/Berlin:20260605T131500
UID:V45260210-20260605T100000@VHSBÖBLINGEN-SINDELFINGEN
SUMMARY:Japanisch A1, Anfängerkurs  Ferienkurs (V45260210) 
LOCATION:Höfle, 202, 2. OG, Pestalozzistr. 4, 71032 Böblingen
END:VEVENT
END:VCALENDAR