BEGIN:VCALENDAR
VERSION:2.0
PRODID:https://www.kufer.de/kuferweb / DE
METHOD:PUBLISH
CALSCALE:GREGORIAN
X-WR-TIMEZONE:Europe/Berlin
BEGIN:VTIMEZONE
TZID:Europe/Berlin
X-LIC-LOCATION:Europe/Berlin
BEGIN:DAYLIGHT
TZOFFSETFROM:+0100
TZOFFSETTO:+0200
TZNAME:CEST
DTSTART:19700329T020000
RRULE:FREQ=YEARLY;INTERVAL=1;BYDAY=-1SU;BYMONTH=3
END:DAYLIGHT
BEGIN:STANDARD
TZOFFSETFROM:+0200
TZOFFSETTO:+0100
TZNAME:CET
DTSTART:19701025T030000
RRULE:FREQ=YEARLY;INTERVAL=1;BYDAY=-1SU;BYMONTH=10
END:STANDARD
END:VTIMEZONE
BEGIN:VEVENT
DTSTAMP:20260421T083852
DTSTART;TZID=Europe/Berlin:20260321T090000
DTEND;TZID=Europe/Berlin:20260321T163000
UID:V45120510-20260321T090000@VHSBÖBLINGEN-SINDELFINGEN
SUMMARY:Arabisch, B2 (V45120510) 
LOCATION:Höfle, 201, 2. OG, Pestalozzistr. 4, 71032 Böblingen
END:VEVENT
BEGIN:VEVENT
DTSTAMP:20260421T083852
DTSTART;TZID=Europe/Berlin:20260418T090000
DTEND;TZID=Europe/Berlin:20260418T163000
UID:V45120510-20260418T090000@VHSBÖBLINGEN-SINDELFINGEN
SUMMARY:Arabisch, B2 (V45120510) 
LOCATION:Höfle, 201, 2. OG, Pestalozzistr. 4, 71032 Böblingen
END:VEVENT
BEGIN:VEVENT
DTSTAMP:20260421T083852
DTSTART;TZID=Europe/Berlin:20260523T090000
DTEND;TZID=Europe/Berlin:20260523T163000
UID:V45120510-20260523T090000@VHSBÖBLINGEN-SINDELFINGEN
SUMMARY:Arabisch, B2 (V45120510) 
LOCATION:vba.Seminarraum, Pestalozzistr. 4, 71032 Böblingen
END:VEVENT
BEGIN:VEVENT
DTSTAMP:20260421T083852
DTSTART;TZID=Europe/Berlin:20260620T090000
DTEND;TZID=Europe/Berlin:20260620T163000
UID:V45120510-20260620T090000@VHSBÖBLINGEN-SINDELFINGEN
SUMMARY:Arabisch, B2 (V45120510) 
LOCATION:Höfle, 201, 2. OG, Pestalozzistr. 4, 71032 Böblingen
END:VEVENT
END:VCALENDAR