BEGIN:VCALENDAR
VERSION:2.0
PRODID:https://www.kufer.de/kuferweb / DE
METHOD:PUBLISH
CALSCALE:GREGORIAN
X-WR-TIMEZONE:Europe/Berlin
BEGIN:VTIMEZONE
TZID:Europe/Berlin
X-LIC-LOCATION:Europe/Berlin
BEGIN:DAYLIGHT
TZOFFSETFROM:+0100
TZOFFSETTO:+0200
TZNAME:CEST
DTSTART:19700329T020000
RRULE:FREQ=YEARLY;INTERVAL=1;BYDAY=-1SU;BYMONTH=3
END:DAYLIGHT
BEGIN:STANDARD
TZOFFSETFROM:+0200
TZOFFSETTO:+0100
TZNAME:CET
DTSTART:19701025T030000
RRULE:FREQ=YEARLY;INTERVAL=1;BYDAY=-1SU;BYMONTH=10
END:STANDARD
END:VTIMEZONE
BEGIN:VEVENT
DTSTAMP:20260421T121925
DTSTART;TZID=Europe/Berlin:20260415T200000
DTEND;TZID=Europe/Berlin:20260415T213000
UID:V44445010-20260415T200000@VHSBÖBLINGEN-SINDELFINGEN
SUMMARY:Spanisch B2 (V44445010) 
LOCATION:Höfle, 002, EG, Pestalozzistr. 4, 71032 Böblingen
END:VEVENT
BEGIN:VEVENT
DTSTAMP:20260421T121925
DTSTART;TZID=Europe/Berlin:20260422T200000
DTEND;TZID=Europe/Berlin:20260422T213000
UID:V44445010-20260422T200000@VHSBÖBLINGEN-SINDELFINGEN
SUMMARY:Spanisch B2 (V44445010) 
LOCATION:Höfle, 002, EG, Pestalozzistr. 4, 71032 Böblingen
END:VEVENT
BEGIN:VEVENT
DTSTAMP:20260421T121925
DTSTART;TZID=Europe/Berlin:20260429T200000
DTEND;TZID=Europe/Berlin:20260429T213000
UID:V44445010-20260429T200000@VHSBÖBLINGEN-SINDELFINGEN
SUMMARY:Spanisch B2 (V44445010) 
LOCATION:Höfle, 002, EG, Pestalozzistr. 4, 71032 Böblingen
END:VEVENT
BEGIN:VEVENT
DTSTAMP:20260421T121925
DTSTART;TZID=Europe/Berlin:20260506T200000
DTEND;TZID=Europe/Berlin:20260506T213000
UID:V44445010-20260506T200000@VHSBÖBLINGEN-SINDELFINGEN
SUMMARY:Spanisch B2 (V44445010) 
LOCATION:Höfle, 002, EG, Pestalozzistr. 4, 71032 Böblingen
END:VEVENT
BEGIN:VEVENT
DTSTAMP:20260421T121925
DTSTART;TZID=Europe/Berlin:20260610T200000
DTEND;TZID=Europe/Berlin:20260610T213000
UID:V44445010-20260610T200000@VHSBÖBLINGEN-SINDELFINGEN
SUMMARY:Spanisch B2 (V44445010) 
LOCATION:Höfle, 002, EG, Pestalozzistr. 4, 71032 Böblingen
END:VEVENT
BEGIN:VEVENT
DTSTAMP:20260421T121925
DTSTART;TZID=Europe/Berlin:20260617T200000
DTEND;TZID=Europe/Berlin:20260617T213000
UID:V44445010-20260617T200000@VHSBÖBLINGEN-SINDELFINGEN
SUMMARY:Spanisch B2 (V44445010) 
LOCATION:Höfle, 002, EG, Pestalozzistr. 4, 71032 Böblingen
END:VEVENT
BEGIN:VEVENT
DTSTAMP:20260421T121925
DTSTART;TZID=Europe/Berlin:20260701T200000
DTEND;TZID=Europe/Berlin:20260701T213000
UID:V44445010-20260701T200000@VHSBÖBLINGEN-SINDELFINGEN
SUMMARY:Spanisch B2 (V44445010) 
LOCATION:Höfle, 002, EG, Pestalozzistr. 4, 71032 Böblingen
END:VEVENT
BEGIN:VEVENT
DTSTAMP:20260421T121925
DTSTART;TZID=Europe/Berlin:20260708T200000
DTEND;TZID=Europe/Berlin:20260708T213000
UID:V44445010-20260708T200000@VHSBÖBLINGEN-SINDELFINGEN
SUMMARY:Spanisch B2 (V44445010) 
LOCATION:Höfle, 002, EG, Pestalozzistr. 4, 71032 Böblingen
END:VEVENT
END:VCALENDAR