BEGIN:VCALENDAR
VERSION:2.0
PRODID:https://www.kufer.de/kuferweb / DE
METHOD:PUBLISH
CALSCALE:GREGORIAN
X-WR-TIMEZONE:Europe/Berlin
BEGIN:VTIMEZONE
TZID:Europe/Berlin
X-LIC-LOCATION:Europe/Berlin
BEGIN:DAYLIGHT
TZOFFSETFROM:+0100
TZOFFSETTO:+0200
TZNAME:CEST
DTSTART:19700329T020000
RRULE:FREQ=YEARLY;INTERVAL=1;BYDAY=-1SU;BYMONTH=3
END:DAYLIGHT
BEGIN:STANDARD
TZOFFSETFROM:+0200
TZOFFSETTO:+0100
TZNAME:CET
DTSTART:19701025T030000
RRULE:FREQ=YEARLY;INTERVAL=1;BYDAY=-1SU;BYMONTH=10
END:STANDARD
END:VTIMEZONE
BEGIN:VEVENT
DTSTAMP:20260421T023720
DTSTART;TZID=Europe/Berlin:20260310T100000
DTEND;TZID=Europe/Berlin:20260310T113000
UID:V44395021-20260310T100000@VHSBÖBLINGEN-SINDELFINGEN
SUMMARY:Spanisch B1, Las mañanas del martes (V44395021) 
LOCATION:HO, Haus am Ziegelhof, Eingang: Betreutes Wohnen, vhs-Seminarraum, Eberhardstr. 21, 71088 Holzgerlingen
END:VEVENT
BEGIN:VEVENT
DTSTAMP:20260421T023720
DTSTART;TZID=Europe/Berlin:20260317T100000
DTEND;TZID=Europe/Berlin:20260317T113000
UID:V44395021-20260317T100000@VHSBÖBLINGEN-SINDELFINGEN
SUMMARY:Spanisch B1, Las mañanas del martes (V44395021) 
LOCATION:HO, Haus am Ziegelhof, Eingang: Betreutes Wohnen, vhs-Seminarraum, Eberhardstr. 21, 71088 Holzgerlingen
END:VEVENT
BEGIN:VEVENT
DTSTAMP:20260421T023720
DTSTART;TZID=Europe/Berlin:20260324T100000
DTEND;TZID=Europe/Berlin:20260324T113000
UID:V44395021-20260324T100000@VHSBÖBLINGEN-SINDELFINGEN
SUMMARY:Spanisch B1, Las mañanas del martes (V44395021) 
LOCATION:HO, Haus am Ziegelhof, Eingang: Betreutes Wohnen, vhs-Seminarraum, Eberhardstr. 21, 71088 Holzgerlingen
END:VEVENT
BEGIN:VEVENT
DTSTAMP:20260421T023720
DTSTART;TZID=Europe/Berlin:20260414T100000
DTEND;TZID=Europe/Berlin:20260414T113000
UID:V44395021-20260414T100000@VHSBÖBLINGEN-SINDELFINGEN
SUMMARY:Spanisch B1, Las mañanas del martes (V44395021) 
LOCATION:HO, Haus am Ziegelhof, Eingang: Betreutes Wohnen, vhs-Seminarraum, Eberhardstr. 21, 71088 Holzgerlingen
END:VEVENT
BEGIN:VEVENT
DTSTAMP:20260421T023720
DTSTART;TZID=Europe/Berlin:20260421T100000
DTEND;TZID=Europe/Berlin:20260421T113000
UID:V44395021-20260421T100000@VHSBÖBLINGEN-SINDELFINGEN
SUMMARY:Spanisch B1, Las mañanas del martes (V44395021) 
LOCATION:HO, Haus am Ziegelhof, Eingang: Betreutes Wohnen, vhs-Seminarraum, Eberhardstr. 21, 71088 Holzgerlingen
END:VEVENT
BEGIN:VEVENT
DTSTAMP:20260421T023720
DTSTART;TZID=Europe/Berlin:20260428T100000
DTEND;TZID=Europe/Berlin:20260428T113000
UID:V44395021-20260428T100000@VHSBÖBLINGEN-SINDELFINGEN
SUMMARY:Spanisch B1, Las mañanas del martes (V44395021) 
LOCATION:HO, Haus am Ziegelhof, Eingang: Betreutes Wohnen, vhs-Seminarraum, Eberhardstr. 21, 71088 Holzgerlingen
END:VEVENT
BEGIN:VEVENT
DTSTAMP:20260421T023720
DTSTART;TZID=Europe/Berlin:20260505T100000
DTEND;TZID=Europe/Berlin:20260505T113000
UID:V44395021-20260505T100000@VHSBÖBLINGEN-SINDELFINGEN
SUMMARY:Spanisch B1, Las mañanas del martes (V44395021) 
LOCATION:HO, Haus am Ziegelhof, Eingang: Betreutes Wohnen, vhs-Seminarraum, Eberhardstr. 21, 71088 Holzgerlingen
END:VEVENT
BEGIN:VEVENT
DTSTAMP:20260421T023720
DTSTART;TZID=Europe/Berlin:20260512T100000
DTEND;TZID=Europe/Berlin:20260512T113000
UID:V44395021-20260512T100000@VHSBÖBLINGEN-SINDELFINGEN
SUMMARY:Spanisch B1, Las mañanas del martes (V44395021) 
LOCATION:HO, Haus am Ziegelhof, Eingang: Betreutes Wohnen, vhs-Seminarraum, Eberhardstr. 21, 71088 Holzgerlingen
END:VEVENT
BEGIN:VEVENT
DTSTAMP:20260421T023720
DTSTART;TZID=Europe/Berlin:20260519T100000
DTEND;TZID=Europe/Berlin:20260519T113000
UID:V44395021-20260519T100000@VHSBÖBLINGEN-SINDELFINGEN
SUMMARY:Spanisch B1, Las mañanas del martes (V44395021) 
LOCATION:HO, Haus am Ziegelhof, Eingang: Betreutes Wohnen, vhs-Seminarraum, Eberhardstr. 21, 71088 Holzgerlingen
END:VEVENT
BEGIN:VEVENT
DTSTAMP:20260421T023720
DTSTART;TZID=Europe/Berlin:20260609T100000
DTEND;TZID=Europe/Berlin:20260609T113000
UID:V44395021-20260609T100000@VHSBÖBLINGEN-SINDELFINGEN
SUMMARY:Spanisch B1, Las mañanas del martes (V44395021) 
LOCATION:HO, Haus am Ziegelhof, Eingang: Betreutes Wohnen, vhs-Seminarraum, Eberhardstr. 21, 71088 Holzgerlingen
END:VEVENT
BEGIN:VEVENT
DTSTAMP:20260421T023720
DTSTART;TZID=Europe/Berlin:20260616T100000
DTEND;TZID=Europe/Berlin:20260616T113000
UID:V44395021-20260616T100000@VHSBÖBLINGEN-SINDELFINGEN
SUMMARY:Spanisch B1, Las mañanas del martes (V44395021) 
LOCATION:HO, Haus am Ziegelhof, Eingang: Betreutes Wohnen, vhs-Seminarraum, Eberhardstr. 21, 71088 Holzgerlingen
END:VEVENT
BEGIN:VEVENT
DTSTAMP:20260421T023720
DTSTART;TZID=Europe/Berlin:20260623T100000
DTEND;TZID=Europe/Berlin:20260623T113000
UID:V44395021-20260623T100000@VHSBÖBLINGEN-SINDELFINGEN
SUMMARY:Spanisch B1, Las mañanas del martes (V44395021) 
LOCATION:HO, Haus am Ziegelhof, Eingang: Betreutes Wohnen, vhs-Seminarraum, Eberhardstr. 21, 71088 Holzgerlingen
END:VEVENT
END:VCALENDAR