BEGIN:VCALENDAR
VERSION:2.0
PRODID:https://www.kufer.de/kuferweb / DE
METHOD:PUBLISH
CALSCALE:GREGORIAN
X-WR-TIMEZONE:Europe/Berlin
BEGIN:VTIMEZONE
TZID:Europe/Berlin
X-LIC-LOCATION:Europe/Berlin
BEGIN:DAYLIGHT
TZOFFSETFROM:+0100
TZOFFSETTO:+0200
TZNAME:CEST
DTSTART:19700329T020000
RRULE:FREQ=YEARLY;INTERVAL=1;BYDAY=-1SU;BYMONTH=3
END:DAYLIGHT
BEGIN:STANDARD
TZOFFSETFROM:+0200
TZOFFSETTO:+0100
TZNAME:CET
DTSTART:19701025T030000
RRULE:FREQ=YEARLY;INTERVAL=1;BYDAY=-1SU;BYMONTH=10
END:STANDARD
END:VTIMEZONE
BEGIN:VEVENT
DTSTAMP:20260421T005004
DTSTART;TZID=Europe/Berlin:20260305T181500
DTEND;TZID=Europe/Berlin:20260305T194500
UID:V44350010-20260305T181500@VHSBÖBLINGEN-SINDELFINGEN
SUMMARY:Spanisch B1 (V44350010) 
LOCATION:GHH, 103, 1.OG, Böblinger Str. 8, 71065 Sindelfingen
END:VEVENT
BEGIN:VEVENT
DTSTAMP:20260421T005004
DTSTART;TZID=Europe/Berlin:20260312T181500
DTEND;TZID=Europe/Berlin:20260312T194500
UID:V44350010-20260312T181500@VHSBÖBLINGEN-SINDELFINGEN
SUMMARY:Spanisch B1 (V44350010) 
LOCATION:GHH, U 002, UG, Böblinger Str. 8, 71065 Sindelfingen
END:VEVENT
BEGIN:VEVENT
DTSTAMP:20260421T005004
DTSTART;TZID=Europe/Berlin:20260319T181500
DTEND;TZID=Europe/Berlin:20260319T194500
UID:V44350010-20260319T181500@VHSBÖBLINGEN-SINDELFINGEN
SUMMARY:Spanisch B1 (V44350010) 
LOCATION:GHH, U 002, UG, Böblinger Str. 8, 71065 Sindelfingen
END:VEVENT
BEGIN:VEVENT
DTSTAMP:20260421T005004
DTSTART;TZID=Europe/Berlin:20260326T181500
DTEND;TZID=Europe/Berlin:20260326T194500
UID:V44350010-20260326T181500@VHSBÖBLINGEN-SINDELFINGEN
SUMMARY:Spanisch B1 (V44350010) 
LOCATION:GHH, 201, 2.OG, Böblinger Str. 8, 71065 Sindelfingen
END:VEVENT
BEGIN:VEVENT
DTSTAMP:20260421T005004
DTSTART;TZID=Europe/Berlin:20260416T181500
DTEND;TZID=Europe/Berlin:20260416T194500
UID:V44350010-20260416T181500@VHSBÖBLINGEN-SINDELFINGEN
SUMMARY:Spanisch B1 (V44350010) 
LOCATION:GHH, 103, 1.OG, Böblinger Str. 8, 71065 Sindelfingen
END:VEVENT
BEGIN:VEVENT
DTSTAMP:20260421T005004
DTSTART;TZID=Europe/Berlin:20260423T181500
DTEND;TZID=Europe/Berlin:20260423T194500
UID:V44350010-20260423T181500@VHSBÖBLINGEN-SINDELFINGEN
SUMMARY:Spanisch B1 (V44350010) 
LOCATION:GHH, 103, 1.OG, Böblinger Str. 8, 71065 Sindelfingen
END:VEVENT
BEGIN:VEVENT
DTSTAMP:20260421T005004
DTSTART;TZID=Europe/Berlin:20260430T181500
DTEND;TZID=Europe/Berlin:20260430T194500
UID:V44350010-20260430T181500@VHSBÖBLINGEN-SINDELFINGEN
SUMMARY:Spanisch B1 (V44350010) 
LOCATION:GHH, 103, 1.OG, Böblinger Str. 8, 71065 Sindelfingen
END:VEVENT
BEGIN:VEVENT
DTSTAMP:20260421T005004
DTSTART;TZID=Europe/Berlin:20260507T181500
DTEND;TZID=Europe/Berlin:20260507T194500
UID:V44350010-20260507T181500@VHSBÖBLINGEN-SINDELFINGEN
SUMMARY:Spanisch B1 (V44350010) 
LOCATION:GHH, 103, 1.OG, Böblinger Str. 8, 71065 Sindelfingen
END:VEVENT
BEGIN:VEVENT
DTSTAMP:20260421T005004
DTSTART;TZID=Europe/Berlin:20260521T181500
DTEND;TZID=Europe/Berlin:20260521T194500
UID:V44350010-20260521T181500@VHSBÖBLINGEN-SINDELFINGEN
SUMMARY:Spanisch B1 (V44350010) 
LOCATION:GHH, 103, 1.OG, Böblinger Str. 8, 71065 Sindelfingen
END:VEVENT
BEGIN:VEVENT
DTSTAMP:20260421T005004
DTSTART;TZID=Europe/Berlin:20260611T181500
DTEND;TZID=Europe/Berlin:20260611T194500
UID:V44350010-20260611T181500@VHSBÖBLINGEN-SINDELFINGEN
SUMMARY:Spanisch B1 (V44350010) 
LOCATION:GHH, 103, 1.OG, Böblinger Str. 8, 71065 Sindelfingen
END:VEVENT
BEGIN:VEVENT
DTSTAMP:20260421T005004
DTSTART;TZID=Europe/Berlin:20260618T181500
DTEND;TZID=Europe/Berlin:20260618T194500
UID:V44350010-20260618T181500@VHSBÖBLINGEN-SINDELFINGEN
SUMMARY:Spanisch B1 (V44350010) 
LOCATION:GHH, 103, 1.OG, Böblinger Str. 8, 71065 Sindelfingen
END:VEVENT
BEGIN:VEVENT
DTSTAMP:20260421T005004
DTSTART;TZID=Europe/Berlin:20260625T181500
DTEND;TZID=Europe/Berlin:20260625T194500
UID:V44350010-20260625T181500@VHSBÖBLINGEN-SINDELFINGEN
SUMMARY:Spanisch B1 (V44350010) 
LOCATION:GHH, 103, 1.OG, Böblinger Str. 8, 71065 Sindelfingen
END:VEVENT
BEGIN:VEVENT
DTSTAMP:20260421T005004
DTSTART;TZID=Europe/Berlin:20260702T181500
DTEND;TZID=Europe/Berlin:20260702T194500
UID:V44350010-20260702T181500@VHSBÖBLINGEN-SINDELFINGEN
SUMMARY:Spanisch B1 (V44350010) 
LOCATION:GHH, 103, 1.OG, Böblinger Str. 8, 71065 Sindelfingen
END:VEVENT
BEGIN:VEVENT
DTSTAMP:20260421T005004
DTSTART;TZID=Europe/Berlin:20260709T181500
DTEND;TZID=Europe/Berlin:20260709T194500
UID:V44350010-20260709T181500@VHSBÖBLINGEN-SINDELFINGEN
SUMMARY:Spanisch B1 (V44350010) 
LOCATION:GHH, 103, 1.OG, Böblinger Str. 8, 71065 Sindelfingen
END:VEVENT
END:VCALENDAR