BEGIN:VCALENDAR
VERSION:2.0
PRODID:https://www.kufer.de/kuferweb / DE
METHOD:PUBLISH
CALSCALE:GREGORIAN
X-WR-TIMEZONE:Europe/Berlin
BEGIN:VTIMEZONE
TZID:Europe/Berlin
X-LIC-LOCATION:Europe/Berlin
BEGIN:DAYLIGHT
TZOFFSETFROM:+0100
TZOFFSETTO:+0200
TZNAME:CEST
DTSTART:19700329T020000
RRULE:FREQ=YEARLY;INTERVAL=1;BYDAY=-1SU;BYMONTH=3
END:DAYLIGHT
BEGIN:STANDARD
TZOFFSETFROM:+0200
TZOFFSETTO:+0100
TZNAME:CET
DTSTART:19701025T030000
RRULE:FREQ=YEARLY;INTERVAL=1;BYDAY=-1SU;BYMONTH=10
END:STANDARD
END:VTIMEZONE
BEGIN:VEVENT
DTSTAMP:20260421T010941
DTSTART;TZID=Europe/Berlin:20260312T090000
DTEND;TZID=Europe/Berlin:20260312T103000
UID:V44245110-20260312T090000@VHSBÖBLINGEN-SINDELFINGEN
SUMMARY:Spanisch A2 (V44245110) 
LOCATION:GHH, U 007, UG, Böblinger Str. 8, 71065 Sindelfingen
END:VEVENT
BEGIN:VEVENT
DTSTAMP:20260421T010941
DTSTART;TZID=Europe/Berlin:20260319T090000
DTEND;TZID=Europe/Berlin:20260319T103000
UID:V44245110-20260319T090000@VHSBÖBLINGEN-SINDELFINGEN
SUMMARY:Spanisch A2 (V44245110) 
LOCATION:GHH, U 007, UG, Böblinger Str. 8, 71065 Sindelfingen
END:VEVENT
BEGIN:VEVENT
DTSTAMP:20260421T010941
DTSTART;TZID=Europe/Berlin:20260326T090000
DTEND;TZID=Europe/Berlin:20260326T103000
UID:V44245110-20260326T090000@VHSBÖBLINGEN-SINDELFINGEN
SUMMARY:Spanisch A2 (V44245110) 
LOCATION:GHH, U 007, UG, Böblinger Str. 8, 71065 Sindelfingen
END:VEVENT
BEGIN:VEVENT
DTSTAMP:20260421T010941
DTSTART;TZID=Europe/Berlin:20260416T090000
DTEND;TZID=Europe/Berlin:20260416T103000
UID:V44245110-20260416T090000@VHSBÖBLINGEN-SINDELFINGEN
SUMMARY:Spanisch A2 (V44245110) 
LOCATION:GHH, U 007, UG, Böblinger Str. 8, 71065 Sindelfingen
END:VEVENT
BEGIN:VEVENT
DTSTAMP:20260421T010941
DTSTART;TZID=Europe/Berlin:20260423T090000
DTEND;TZID=Europe/Berlin:20260423T103000
UID:V44245110-20260423T090000@VHSBÖBLINGEN-SINDELFINGEN
SUMMARY:Spanisch A2 (V44245110) 
LOCATION:GHH, U 007, UG, Böblinger Str. 8, 71065 Sindelfingen
END:VEVENT
BEGIN:VEVENT
DTSTAMP:20260421T010941
DTSTART;TZID=Europe/Berlin:20260430T090000
DTEND;TZID=Europe/Berlin:20260430T103000
UID:V44245110-20260430T090000@VHSBÖBLINGEN-SINDELFINGEN
SUMMARY:Spanisch A2 (V44245110) 
LOCATION:GHH, U 007, UG, Böblinger Str. 8, 71065 Sindelfingen
END:VEVENT
BEGIN:VEVENT
DTSTAMP:20260421T010941
DTSTART;TZID=Europe/Berlin:20260507T090000
DTEND;TZID=Europe/Berlin:20260507T103000
UID:V44245110-20260507T090000@VHSBÖBLINGEN-SINDELFINGEN
SUMMARY:Spanisch A2 (V44245110) 
LOCATION:GHH, U 007, UG, Böblinger Str. 8, 71065 Sindelfingen
END:VEVENT
BEGIN:VEVENT
DTSTAMP:20260421T010941
DTSTART;TZID=Europe/Berlin:20260521T090000
DTEND;TZID=Europe/Berlin:20260521T103000
UID:V44245110-20260521T090000@VHSBÖBLINGEN-SINDELFINGEN
SUMMARY:Spanisch A2 (V44245110) 
LOCATION:GHH, U 007, UG, Böblinger Str. 8, 71065 Sindelfingen
END:VEVENT
BEGIN:VEVENT
DTSTAMP:20260421T010941
DTSTART;TZID=Europe/Berlin:20260611T090000
DTEND;TZID=Europe/Berlin:20260611T103000
UID:V44245110-20260611T090000@VHSBÖBLINGEN-SINDELFINGEN
SUMMARY:Spanisch A2 (V44245110) 
LOCATION:GHH, U 007, UG, Böblinger Str. 8, 71065 Sindelfingen
END:VEVENT
BEGIN:VEVENT
DTSTAMP:20260421T010941
DTSTART;TZID=Europe/Berlin:20260618T090000
DTEND;TZID=Europe/Berlin:20260618T103000
UID:V44245110-20260618T090000@VHSBÖBLINGEN-SINDELFINGEN
SUMMARY:Spanisch A2 (V44245110) 
LOCATION:GHH, U 007, UG, Böblinger Str. 8, 71065 Sindelfingen
END:VEVENT
BEGIN:VEVENT
DTSTAMP:20260421T010941
DTSTART;TZID=Europe/Berlin:20260625T090000
DTEND;TZID=Europe/Berlin:20260625T103000
UID:V44245110-20260625T090000@VHSBÖBLINGEN-SINDELFINGEN
SUMMARY:Spanisch A2 (V44245110) 
LOCATION:GHH, U 007, UG, Böblinger Str. 8, 71065 Sindelfingen
END:VEVENT
BEGIN:VEVENT
DTSTAMP:20260421T010941
DTSTART;TZID=Europe/Berlin:20260702T090000
DTEND;TZID=Europe/Berlin:20260702T103000
UID:V44245110-20260702T090000@VHSBÖBLINGEN-SINDELFINGEN
SUMMARY:Spanisch A2 (V44245110) 
LOCATION:GHH, U 007, UG, Böblinger Str. 8, 71065 Sindelfingen
END:VEVENT
BEGIN:VEVENT
DTSTAMP:20260421T010941
DTSTART;TZID=Europe/Berlin:20260709T090000
DTEND;TZID=Europe/Berlin:20260709T103000
UID:V44245110-20260709T090000@VHSBÖBLINGEN-SINDELFINGEN
SUMMARY:Spanisch A2 (V44245110) 
LOCATION:GHH, U 007, UG, Böblinger Str. 8, 71065 Sindelfingen
END:VEVENT
END:VCALENDAR