BEGIN:VCALENDAR
VERSION:2.0
PRODID:https://www.kufer.de/kuferweb / DE
METHOD:PUBLISH
CALSCALE:GREGORIAN
X-WR-TIMEZONE:Europe/Berlin
BEGIN:VTIMEZONE
TZID:Europe/Berlin
X-LIC-LOCATION:Europe/Berlin
BEGIN:DAYLIGHT
TZOFFSETFROM:+0100
TZOFFSETTO:+0200
TZNAME:CEST
DTSTART:19700329T020000
RRULE:FREQ=YEARLY;INTERVAL=1;BYDAY=-1SU;BYMONTH=3
END:DAYLIGHT
BEGIN:STANDARD
TZOFFSETFROM:+0200
TZOFFSETTO:+0100
TZNAME:CET
DTSTART:19701025T030000
RRULE:FREQ=YEARLY;INTERVAL=1;BYDAY=-1SU;BYMONTH=10
END:STANDARD
END:VTIMEZONE
BEGIN:VEVENT
DTSTAMP:20260421T144236
DTSTART;TZID=Europe/Berlin:20260429T093000
DTEND;TZID=Europe/Berlin:20260429T110000
UID:V44240310-20260429T093000@VHSBÖBLINGEN-SINDELFINGEN
SUMMARY:Spanisch A2 (V44240310) 
LOCATION:Höfle, 106, 1. OG, Pestalozzistr. 4, 71032 Böblingen
END:VEVENT
BEGIN:VEVENT
DTSTAMP:20260421T144236
DTSTART;TZID=Europe/Berlin:20260506T093000
DTEND;TZID=Europe/Berlin:20260506T110000
UID:V44240310-20260506T093000@VHSBÖBLINGEN-SINDELFINGEN
SUMMARY:Spanisch A2 (V44240310) 
LOCATION:Höfle, 106, 1. OG, Pestalozzistr. 4, 71032 Böblingen
END:VEVENT
BEGIN:VEVENT
DTSTAMP:20260421T144236
DTSTART;TZID=Europe/Berlin:20260513T093000
DTEND;TZID=Europe/Berlin:20260513T110000
UID:V44240310-20260513T093000@VHSBÖBLINGEN-SINDELFINGEN
SUMMARY:Spanisch A2 (V44240310) 
LOCATION:Höfle, 106, 1. OG, Pestalozzistr. 4, 71032 Böblingen
END:VEVENT
BEGIN:VEVENT
DTSTAMP:20260421T144236
DTSTART;TZID=Europe/Berlin:20260520T093000
DTEND;TZID=Europe/Berlin:20260520T110000
UID:V44240310-20260520T093000@VHSBÖBLINGEN-SINDELFINGEN
SUMMARY:Spanisch A2 (V44240310) 
LOCATION:Höfle, 106, 1. OG, Pestalozzistr. 4, 71032 Böblingen
END:VEVENT
BEGIN:VEVENT
DTSTAMP:20260421T144236
DTSTART;TZID=Europe/Berlin:20260610T093000
DTEND;TZID=Europe/Berlin:20260610T110000
UID:V44240310-20260610T093000@VHSBÖBLINGEN-SINDELFINGEN
SUMMARY:Spanisch A2 (V44240310) 
LOCATION:Höfle, 106, 1. OG, Pestalozzistr. 4, 71032 Böblingen
END:VEVENT
BEGIN:VEVENT
DTSTAMP:20260421T144236
DTSTART;TZID=Europe/Berlin:20260617T093000
DTEND;TZID=Europe/Berlin:20260617T110000
UID:V44240310-20260617T093000@VHSBÖBLINGEN-SINDELFINGEN
SUMMARY:Spanisch A2 (V44240310) 
LOCATION:Höfle, 106, 1. OG, Pestalozzistr. 4, 71032 Böblingen
END:VEVENT
BEGIN:VEVENT
DTSTAMP:20260421T144236
DTSTART;TZID=Europe/Berlin:20260624T093000
DTEND;TZID=Europe/Berlin:20260624T110000
UID:V44240310-20260624T093000@VHSBÖBLINGEN-SINDELFINGEN
SUMMARY:Spanisch A2 (V44240310) 
LOCATION:Höfle, 106, 1. OG, Pestalozzistr. 4, 71032 Böblingen
END:VEVENT
BEGIN:VEVENT
DTSTAMP:20260421T144236
DTSTART;TZID=Europe/Berlin:20260701T093000
DTEND;TZID=Europe/Berlin:20260701T110000
UID:V44240310-20260701T093000@VHSBÖBLINGEN-SINDELFINGEN
SUMMARY:Spanisch A2 (V44240310) 
LOCATION:Höfle, 106, 1. OG, Pestalozzistr. 4, 71032 Böblingen
END:VEVENT
END:VCALENDAR