BEGIN:VCALENDAR
VERSION:2.0
PRODID:https://www.kufer.de/kuferweb / DE
METHOD:PUBLISH
CALSCALE:GREGORIAN
X-WR-TIMEZONE:Europe/Berlin
BEGIN:VTIMEZONE
TZID:Europe/Berlin
X-LIC-LOCATION:Europe/Berlin
BEGIN:DAYLIGHT
TZOFFSETFROM:+0100
TZOFFSETTO:+0200
TZNAME:CEST
DTSTART:19700329T020000
RRULE:FREQ=YEARLY;INTERVAL=1;BYDAY=-1SU;BYMONTH=3
END:DAYLIGHT
BEGIN:STANDARD
TZOFFSETFROM:+0200
TZOFFSETTO:+0100
TZNAME:CET
DTSTART:19701025T030000
RRULE:FREQ=YEARLY;INTERVAL=1;BYDAY=-1SU;BYMONTH=10
END:STANDARD
END:VTIMEZONE
BEGIN:VEVENT
DTSTAMP:20260421T003522
DTSTART;TZID=Europe/Berlin:20260312T180000
DTEND;TZID=Europe/Berlin:20260312T193000
UID:V44230110-20260312T180000@VHSBÖBLINGEN-SINDELFINGEN
SUMMARY:Spanisch A2 (V44230110) 
LOCATION:Höfle, 005, EG, Pestalozzistr. 4, 71032 Böblingen
END:VEVENT
BEGIN:VEVENT
DTSTAMP:20260421T003522
DTSTART;TZID=Europe/Berlin:20260319T180000
DTEND;TZID=Europe/Berlin:20260319T193000
UID:V44230110-20260319T180000@VHSBÖBLINGEN-SINDELFINGEN
SUMMARY:Spanisch A2 (V44230110) 
LOCATION:Höfle, 005, EG, Pestalozzistr. 4, 71032 Böblingen
END:VEVENT
BEGIN:VEVENT
DTSTAMP:20260421T003522
DTSTART;TZID=Europe/Berlin:20260326T180000
DTEND;TZID=Europe/Berlin:20260326T193000
UID:V44230110-20260326T180000@VHSBÖBLINGEN-SINDELFINGEN
SUMMARY:Spanisch A2 (V44230110) 
LOCATION:Höfle, 005, EG, Pestalozzistr. 4, 71032 Böblingen
END:VEVENT
BEGIN:VEVENT
DTSTAMP:20260421T003522
DTSTART;TZID=Europe/Berlin:20260416T180000
DTEND;TZID=Europe/Berlin:20260416T193000
UID:V44230110-20260416T180000@VHSBÖBLINGEN-SINDELFINGEN
SUMMARY:Spanisch A2 (V44230110) 
LOCATION:Höfle, 003, EG, Pestalozzistr. 4, 71032 Böblingen
END:VEVENT
BEGIN:VEVENT
DTSTAMP:20260421T003522
DTSTART;TZID=Europe/Berlin:20260423T180000
DTEND;TZID=Europe/Berlin:20260423T193000
UID:V44230110-20260423T180000@VHSBÖBLINGEN-SINDELFINGEN
SUMMARY:Spanisch A2 (V44230110) 
LOCATION:Höfle, 005, EG, Pestalozzistr. 4, 71032 Böblingen
END:VEVENT
BEGIN:VEVENT
DTSTAMP:20260421T003522
DTSTART;TZID=Europe/Berlin:20260430T180000
DTEND;TZID=Europe/Berlin:20260430T193000
UID:V44230110-20260430T180000@VHSBÖBLINGEN-SINDELFINGEN
SUMMARY:Spanisch A2 (V44230110) 
LOCATION:Höfle, 101, 1. OG, Pestalozzistr. 4, 71032 Böblingen
END:VEVENT
BEGIN:VEVENT
DTSTAMP:20260421T003522
DTSTART;TZID=Europe/Berlin:20260507T180000
DTEND;TZID=Europe/Berlin:20260507T193000
UID:V44230110-20260507T180000@VHSBÖBLINGEN-SINDELFINGEN
SUMMARY:Spanisch A2 (V44230110) 
LOCATION:Höfle, 101, 1. OG, Pestalozzistr. 4, 71032 Böblingen
END:VEVENT
BEGIN:VEVENT
DTSTAMP:20260421T003522
DTSTART;TZID=Europe/Berlin:20260521T180000
DTEND;TZID=Europe/Berlin:20260521T193000
UID:V44230110-20260521T180000@VHSBÖBLINGEN-SINDELFINGEN
SUMMARY:Spanisch A2 (V44230110) 
LOCATION:Höfle, 101, 1. OG, Pestalozzistr. 4, 71032 Böblingen
END:VEVENT
BEGIN:VEVENT
DTSTAMP:20260421T003522
DTSTART;TZID=Europe/Berlin:20260611T180000
DTEND;TZID=Europe/Berlin:20260611T193000
UID:V44230110-20260611T180000@VHSBÖBLINGEN-SINDELFINGEN
SUMMARY:Spanisch A2 (V44230110) 
LOCATION:Höfle, 101, 1. OG, Pestalozzistr. 4, 71032 Böblingen
END:VEVENT
BEGIN:VEVENT
DTSTAMP:20260421T003522
DTSTART;TZID=Europe/Berlin:20260618T180000
DTEND;TZID=Europe/Berlin:20260618T193000
UID:V44230110-20260618T180000@VHSBÖBLINGEN-SINDELFINGEN
SUMMARY:Spanisch A2 (V44230110) 
LOCATION:Höfle, 101, 1. OG, Pestalozzistr. 4, 71032 Böblingen
END:VEVENT
BEGIN:VEVENT
DTSTAMP:20260421T003522
DTSTART;TZID=Europe/Berlin:20260625T180000
DTEND;TZID=Europe/Berlin:20260625T193000
UID:V44230110-20260625T180000@VHSBÖBLINGEN-SINDELFINGEN
SUMMARY:Spanisch A2 (V44230110) 
LOCATION:Höfle, 101, 1. OG, Pestalozzistr. 4, 71032 Böblingen
END:VEVENT
BEGIN:VEVENT
DTSTAMP:20260421T003522
DTSTART;TZID=Europe/Berlin:20260702T180000
DTEND;TZID=Europe/Berlin:20260702T193000
UID:V44230110-20260702T180000@VHSBÖBLINGEN-SINDELFINGEN
SUMMARY:Spanisch A2 (V44230110) 
LOCATION:Höfle, 101, 1. OG, Pestalozzistr. 4, 71032 Böblingen
END:VEVENT
END:VCALENDAR