BEGIN:VCALENDAR
VERSION:2.0
PRODID:https://www.kufer.de/kuferweb / DE
METHOD:PUBLISH
CALSCALE:GREGORIAN
X-WR-TIMEZONE:Europe/Berlin
BEGIN:VTIMEZONE
TZID:Europe/Berlin
X-LIC-LOCATION:Europe/Berlin
BEGIN:DAYLIGHT
TZOFFSETFROM:+0100
TZOFFSETTO:+0200
TZNAME:CEST
DTSTART:19700329T020000
RRULE:FREQ=YEARLY;INTERVAL=1;BYDAY=-1SU;BYMONTH=3
END:DAYLIGHT
BEGIN:STANDARD
TZOFFSETFROM:+0200
TZOFFSETTO:+0100
TZNAME:CET
DTSTART:19701025T030000
RRULE:FREQ=YEARLY;INTERVAL=1;BYDAY=-1SU;BYMONTH=10
END:STANDARD
END:VTIMEZONE
BEGIN:VEVENT
DTSTAMP:20260420T214307
DTSTART;TZID=Europe/Berlin:20260310T170000
DTEND;TZID=Europe/Berlin:20260310T191500
UID:V44120010-20260310T170000@VHSBÖBLINGEN-SINDELFINGEN
SUMMARY:Spanisch A1 Intensivkurs (V44120010) 
LOCATION:GHH, U 007, UG, Böblinger Str. 8, 71065 Sindelfingen
END:VEVENT
BEGIN:VEVENT
DTSTAMP:20260420T214307
DTSTART;TZID=Europe/Berlin:20260317T170000
DTEND;TZID=Europe/Berlin:20260317T191500
UID:V44120010-20260317T170000@VHSBÖBLINGEN-SINDELFINGEN
SUMMARY:Spanisch A1 Intensivkurs (V44120010) 
LOCATION:GHH, U 007, UG, Böblinger Str. 8, 71065 Sindelfingen
END:VEVENT
BEGIN:VEVENT
DTSTAMP:20260420T214307
DTSTART;TZID=Europe/Berlin:20260324T170000
DTEND;TZID=Europe/Berlin:20260324T191500
UID:V44120010-20260324T170000@VHSBÖBLINGEN-SINDELFINGEN
SUMMARY:Spanisch A1 Intensivkurs (V44120010) 
LOCATION:GHH, U 007, UG, Böblinger Str. 8, 71065 Sindelfingen
END:VEVENT
BEGIN:VEVENT
DTSTAMP:20260420T214307
DTSTART;TZID=Europe/Berlin:20260414T170000
DTEND;TZID=Europe/Berlin:20260414T191500
UID:V44120010-20260414T170000@VHSBÖBLINGEN-SINDELFINGEN
SUMMARY:Spanisch A1 Intensivkurs (V44120010) 
LOCATION:GHH, U 007, UG, Böblinger Str. 8, 71065 Sindelfingen
END:VEVENT
BEGIN:VEVENT
DTSTAMP:20260420T214307
DTSTART;TZID=Europe/Berlin:20260421T170000
DTEND;TZID=Europe/Berlin:20260421T191500
UID:V44120010-20260421T170000@VHSBÖBLINGEN-SINDELFINGEN
SUMMARY:Spanisch A1 Intensivkurs (V44120010) 
LOCATION:GHH, U 007, UG, Böblinger Str. 8, 71065 Sindelfingen
END:VEVENT
BEGIN:VEVENT
DTSTAMP:20260420T214307
DTSTART;TZID=Europe/Berlin:20260428T170000
DTEND;TZID=Europe/Berlin:20260428T191500
UID:V44120010-20260428T170000@VHSBÖBLINGEN-SINDELFINGEN
SUMMARY:Spanisch A1 Intensivkurs (V44120010) 
LOCATION:GHH, U 007, UG, Böblinger Str. 8, 71065 Sindelfingen
END:VEVENT
BEGIN:VEVENT
DTSTAMP:20260420T214307
DTSTART;TZID=Europe/Berlin:20260505T170000
DTEND;TZID=Europe/Berlin:20260505T191500
UID:V44120010-20260505T170000@VHSBÖBLINGEN-SINDELFINGEN
SUMMARY:Spanisch A1 Intensivkurs (V44120010) 
LOCATION:GHH, U 007, UG, Böblinger Str. 8, 71065 Sindelfingen
END:VEVENT
BEGIN:VEVENT
DTSTAMP:20260420T214307
DTSTART;TZID=Europe/Berlin:20260512T170000
DTEND;TZID=Europe/Berlin:20260512T191500
UID:V44120010-20260512T170000@VHSBÖBLINGEN-SINDELFINGEN
SUMMARY:Spanisch A1 Intensivkurs (V44120010) 
LOCATION:GHH, U 007, UG, Böblinger Str. 8, 71065 Sindelfingen
END:VEVENT
END:VCALENDAR