BEGIN:VCALENDAR
VERSION:2.0
PRODID:https://www.kufer.de/kuferweb / DE
METHOD:PUBLISH
CALSCALE:GREGORIAN
X-WR-TIMEZONE:Europe/Berlin
BEGIN:VTIMEZONE
TZID:Europe/Berlin
X-LIC-LOCATION:Europe/Berlin
BEGIN:DAYLIGHT
TZOFFSETFROM:+0100
TZOFFSETTO:+0200
TZNAME:CEST
DTSTART:19700329T020000
RRULE:FREQ=YEARLY;INTERVAL=1;BYDAY=-1SU;BYMONTH=3
END:DAYLIGHT
BEGIN:STANDARD
TZOFFSETFROM:+0200
TZOFFSETTO:+0100
TZNAME:CET
DTSTART:19701025T030000
RRULE:FREQ=YEARLY;INTERVAL=1;BYDAY=-1SU;BYMONTH=10
END:STANDARD
END:VTIMEZONE
BEGIN:VEVENT
DTSTAMP:20260422T013106
DTSTART;TZID=Europe/Berlin:20260312T150000
DTEND;TZID=Europe/Berlin:20260312T163000
UID:V44110210-20260312T150000@VHSBÖBLINGEN-SINDELFINGEN
SUMMARY:Spanisch A1, Anfängerkurs (V44110210) 
LOCATION:GHH, U 007, UG, Böblinger Str. 8, 71065 Sindelfingen
END:VEVENT
BEGIN:VEVENT
DTSTAMP:20260422T013106
DTSTART;TZID=Europe/Berlin:20260319T150000
DTEND;TZID=Europe/Berlin:20260319T163000
UID:V44110210-20260319T150000@VHSBÖBLINGEN-SINDELFINGEN
SUMMARY:Spanisch A1, Anfängerkurs (V44110210) 
LOCATION:GHH, 007, EG, Böblinger Str. 8, 71065 Sindelfingen
END:VEVENT
BEGIN:VEVENT
DTSTAMP:20260422T013106
DTSTART;TZID=Europe/Berlin:20260326T150000
DTEND;TZID=Europe/Berlin:20260326T163000
UID:V44110210-20260326T150000@VHSBÖBLINGEN-SINDELFINGEN
SUMMARY:Spanisch A1, Anfängerkurs (V44110210) 
LOCATION:GHH, 007, EG, Böblinger Str. 8, 71065 Sindelfingen
END:VEVENT
BEGIN:VEVENT
DTSTAMP:20260422T013106
DTSTART;TZID=Europe/Berlin:20260416T150000
DTEND;TZID=Europe/Berlin:20260416T163000
UID:V44110210-20260416T150000@VHSBÖBLINGEN-SINDELFINGEN
SUMMARY:Spanisch A1, Anfängerkurs (V44110210) 
LOCATION:GHH, 007, EG, Böblinger Str. 8, 71065 Sindelfingen
END:VEVENT
BEGIN:VEVENT
DTSTAMP:20260422T013106
DTSTART;TZID=Europe/Berlin:20260423T150000
DTEND;TZID=Europe/Berlin:20260423T163000
UID:V44110210-20260423T150000@VHSBÖBLINGEN-SINDELFINGEN
SUMMARY:Spanisch A1, Anfängerkurs (V44110210) 
LOCATION:GHH, 007, EG, Böblinger Str. 8, 71065 Sindelfingen
END:VEVENT
BEGIN:VEVENT
DTSTAMP:20260422T013106
DTSTART;TZID=Europe/Berlin:20260430T150000
DTEND;TZID=Europe/Berlin:20260430T163000
UID:V44110210-20260430T150000@VHSBÖBLINGEN-SINDELFINGEN
SUMMARY:Spanisch A1, Anfängerkurs (V44110210) 
LOCATION:GHH, 007, EG, Böblinger Str. 8, 71065 Sindelfingen
END:VEVENT
BEGIN:VEVENT
DTSTAMP:20260422T013106
DTSTART;TZID=Europe/Berlin:20260507T150000
DTEND;TZID=Europe/Berlin:20260507T163000
UID:V44110210-20260507T150000@VHSBÖBLINGEN-SINDELFINGEN
SUMMARY:Spanisch A1, Anfängerkurs (V44110210) 
LOCATION:GHH, 007, EG, Böblinger Str. 8, 71065 Sindelfingen
END:VEVENT
BEGIN:VEVENT
DTSTAMP:20260422T013106
DTSTART;TZID=Europe/Berlin:20260521T150000
DTEND;TZID=Europe/Berlin:20260521T163000
UID:V44110210-20260521T150000@VHSBÖBLINGEN-SINDELFINGEN
SUMMARY:Spanisch A1, Anfängerkurs (V44110210) 
LOCATION:GHH, 007, EG, Böblinger Str. 8, 71065 Sindelfingen
END:VEVENT
BEGIN:VEVENT
DTSTAMP:20260422T013106
DTSTART;TZID=Europe/Berlin:20260611T150000
DTEND;TZID=Europe/Berlin:20260611T163000
UID:V44110210-20260611T150000@VHSBÖBLINGEN-SINDELFINGEN
SUMMARY:Spanisch A1, Anfängerkurs (V44110210) 
LOCATION:GHH, 007, EG, Böblinger Str. 8, 71065 Sindelfingen
END:VEVENT
BEGIN:VEVENT
DTSTAMP:20260422T013106
DTSTART;TZID=Europe/Berlin:20260618T150000
DTEND;TZID=Europe/Berlin:20260618T163000
UID:V44110210-20260618T150000@VHSBÖBLINGEN-SINDELFINGEN
SUMMARY:Spanisch A1, Anfängerkurs (V44110210) 
LOCATION:GHH, 007, EG, Böblinger Str. 8, 71065 Sindelfingen
END:VEVENT
BEGIN:VEVENT
DTSTAMP:20260422T013106
DTSTART;TZID=Europe/Berlin:20260625T150000
DTEND;TZID=Europe/Berlin:20260625T163000
UID:V44110210-20260625T150000@VHSBÖBLINGEN-SINDELFINGEN
SUMMARY:Spanisch A1, Anfängerkurs (V44110210) 
LOCATION:GHH, 007, EG, Böblinger Str. 8, 71065 Sindelfingen
END:VEVENT
BEGIN:VEVENT
DTSTAMP:20260422T013106
DTSTART;TZID=Europe/Berlin:20260702T150000
DTEND;TZID=Europe/Berlin:20260702T163000
UID:V44110210-20260702T150000@VHSBÖBLINGEN-SINDELFINGEN
SUMMARY:Spanisch A1, Anfängerkurs (V44110210) 
LOCATION:GHH, 007, EG, Böblinger Str. 8, 71065 Sindelfingen
END:VEVENT
END:VCALENDAR