BEGIN:VCALENDAR
VERSION:2.0
PRODID:https://www.kufer.de/kuferweb / DE
METHOD:PUBLISH
CALSCALE:GREGORIAN
X-WR-TIMEZONE:Europe/Berlin
BEGIN:VTIMEZONE
TZID:Europe/Berlin
X-LIC-LOCATION:Europe/Berlin
BEGIN:DAYLIGHT
TZOFFSETFROM:+0100
TZOFFSETTO:+0200
TZNAME:CEST
DTSTART:19700329T020000
RRULE:FREQ=YEARLY;INTERVAL=1;BYDAY=-1SU;BYMONTH=3
END:DAYLIGHT
BEGIN:STANDARD
TZOFFSETFROM:+0200
TZOFFSETTO:+0100
TZNAME:CET
DTSTART:19701025T030000
RRULE:FREQ=YEARLY;INTERVAL=1;BYDAY=-1SU;BYMONTH=10
END:STANDARD
END:VTIMEZONE
BEGIN:VEVENT
DTSTAMP:20260420T151508
DTSTART;TZID=Europe/Berlin:20260225T084500
DTEND;TZID=Europe/Berlin:20260225T101500
UID:V43390510-20260225T084500@VHSBÖBLINGEN-SINDELFINGEN
SUMMARY:Italienisch B1, Corso di ripasso e conversazione (V43390510) 
LOCATION:GHH, 007, EG, Böblinger Str. 8, 71065 Sindelfingen
END:VEVENT
BEGIN:VEVENT
DTSTAMP:20260420T151508
DTSTART;TZID=Europe/Berlin:20260304T084500
DTEND;TZID=Europe/Berlin:20260304T101500
UID:V43390510-20260304T084500@VHSBÖBLINGEN-SINDELFINGEN
SUMMARY:Italienisch B1, Corso di ripasso e conversazione (V43390510) 
LOCATION:GHH, 007, EG, Böblinger Str. 8, 71065 Sindelfingen
END:VEVENT
BEGIN:VEVENT
DTSTAMP:20260420T151508
DTSTART;TZID=Europe/Berlin:20260311T084500
DTEND;TZID=Europe/Berlin:20260311T101500
UID:V43390510-20260311T084500@VHSBÖBLINGEN-SINDELFINGEN
SUMMARY:Italienisch B1, Corso di ripasso e conversazione (V43390510) 
LOCATION:GHH, 007, EG, Böblinger Str. 8, 71065 Sindelfingen
END:VEVENT
BEGIN:VEVENT
DTSTAMP:20260420T151508
DTSTART;TZID=Europe/Berlin:20260318T084500
DTEND;TZID=Europe/Berlin:20260318T101500
UID:V43390510-20260318T084500@VHSBÖBLINGEN-SINDELFINGEN
SUMMARY:Italienisch B1, Corso di ripasso e conversazione (V43390510) 
LOCATION:GHH, 007, EG, Böblinger Str. 8, 71065 Sindelfingen
END:VEVENT
BEGIN:VEVENT
DTSTAMP:20260420T151508
DTSTART;TZID=Europe/Berlin:20260325T084500
DTEND;TZID=Europe/Berlin:20260325T101500
UID:V43390510-20260325T084500@VHSBÖBLINGEN-SINDELFINGEN
SUMMARY:Italienisch B1, Corso di ripasso e conversazione (V43390510) 
LOCATION:GHH, 007, EG, Böblinger Str. 8, 71065 Sindelfingen
END:VEVENT
BEGIN:VEVENT
DTSTAMP:20260420T151508
DTSTART;TZID=Europe/Berlin:20260415T084500
DTEND;TZID=Europe/Berlin:20260415T101500
UID:V43390510-20260415T084500@VHSBÖBLINGEN-SINDELFINGEN
SUMMARY:Italienisch B1, Corso di ripasso e conversazione (V43390510) 
LOCATION:GHH, 007, EG, Böblinger Str. 8, 71065 Sindelfingen
END:VEVENT
BEGIN:VEVENT
DTSTAMP:20260420T151508
DTSTART;TZID=Europe/Berlin:20260422T084500
DTEND;TZID=Europe/Berlin:20260422T101500
UID:V43390510-20260422T084500@VHSBÖBLINGEN-SINDELFINGEN
SUMMARY:Italienisch B1, Corso di ripasso e conversazione (V43390510) 
LOCATION:GHH, 007, EG, Böblinger Str. 8, 71065 Sindelfingen
END:VEVENT
BEGIN:VEVENT
DTSTAMP:20260420T151508
DTSTART;TZID=Europe/Berlin:20260429T084500
DTEND;TZID=Europe/Berlin:20260429T101500
UID:V43390510-20260429T084500@VHSBÖBLINGEN-SINDELFINGEN
SUMMARY:Italienisch B1, Corso di ripasso e conversazione (V43390510) 
LOCATION:GHH, 007, EG, Böblinger Str. 8, 71065 Sindelfingen
END:VEVENT
BEGIN:VEVENT
DTSTAMP:20260420T151508
DTSTART;TZID=Europe/Berlin:20260506T084500
DTEND;TZID=Europe/Berlin:20260506T101500
UID:V43390510-20260506T084500@VHSBÖBLINGEN-SINDELFINGEN
SUMMARY:Italienisch B1, Corso di ripasso e conversazione (V43390510) 
LOCATION:GHH, 007, EG, Böblinger Str. 8, 71065 Sindelfingen
END:VEVENT
END:VCALENDAR