BEGIN:VCALENDAR
VERSION:2.0
PRODID:https://www.kufer.de/kuferweb / DE
METHOD:PUBLISH
CALSCALE:GREGORIAN
X-WR-TIMEZONE:Europe/Berlin
BEGIN:VTIMEZONE
TZID:Europe/Berlin
X-LIC-LOCATION:Europe/Berlin
BEGIN:DAYLIGHT
TZOFFSETFROM:+0100
TZOFFSETTO:+0200
TZNAME:CEST
DTSTART:19700329T020000
RRULE:FREQ=YEARLY;INTERVAL=1;BYDAY=-1SU;BYMONTH=3
END:DAYLIGHT
BEGIN:STANDARD
TZOFFSETFROM:+0200
TZOFFSETTO:+0100
TZNAME:CET
DTSTART:19701025T030000
RRULE:FREQ=YEARLY;INTERVAL=1;BYDAY=-1SU;BYMONTH=10
END:STANDARD
END:VTIMEZONE
BEGIN:VEVENT
DTSTAMP:20260421T002945
DTSTART;TZID=Europe/Berlin:20260309T200000
DTEND;TZID=Europe/Berlin:20260309T213000
UID:V43390221-20260309T200000@VHSBÖBLINGEN-SINDELFINGEN
SUMMARY:Italienisch B1, Conversando in italiano (V43390221) 
LOCATION:HO, Haus am Ziegelhof, Eingang: Betreutes Wohnen, vhs-Seminarraum, Eberhardstr. 21, 71088 Holzgerlingen
END:VEVENT
BEGIN:VEVENT
DTSTAMP:20260421T002945
DTSTART;TZID=Europe/Berlin:20260316T200000
DTEND;TZID=Europe/Berlin:20260316T213000
UID:V43390221-20260316T200000@VHSBÖBLINGEN-SINDELFINGEN
SUMMARY:Italienisch B1, Conversando in italiano (V43390221) 
LOCATION:HO, Haus am Ziegelhof, Eingang: Betreutes Wohnen, vhs-Seminarraum, Eberhardstr. 21, 71088 Holzgerlingen
END:VEVENT
BEGIN:VEVENT
DTSTAMP:20260421T002945
DTSTART;TZID=Europe/Berlin:20260323T200000
DTEND;TZID=Europe/Berlin:20260323T213000
UID:V43390221-20260323T200000@VHSBÖBLINGEN-SINDELFINGEN
SUMMARY:Italienisch B1, Conversando in italiano (V43390221) 
LOCATION:HO, Haus am Ziegelhof, Eingang: Betreutes Wohnen, vhs-Seminarraum, Eberhardstr. 21, 71088 Holzgerlingen
END:VEVENT
BEGIN:VEVENT
DTSTAMP:20260421T002945
DTSTART;TZID=Europe/Berlin:20260413T200000
DTEND;TZID=Europe/Berlin:20260413T213000
UID:V43390221-20260413T200000@VHSBÖBLINGEN-SINDELFINGEN
SUMMARY:Italienisch B1, Conversando in italiano (V43390221) 
LOCATION:HO, Haus am Ziegelhof, Eingang: Betreutes Wohnen, vhs-Seminarraum, Eberhardstr. 21, 71088 Holzgerlingen
END:VEVENT
BEGIN:VEVENT
DTSTAMP:20260421T002945
DTSTART;TZID=Europe/Berlin:20260420T200000
DTEND;TZID=Europe/Berlin:20260420T213000
UID:V43390221-20260420T200000@VHSBÖBLINGEN-SINDELFINGEN
SUMMARY:Italienisch B1, Conversando in italiano (V43390221) 
LOCATION:HO, Haus am Ziegelhof, Eingang: Betreutes Wohnen, vhs-Seminarraum, Eberhardstr. 21, 71088 Holzgerlingen
END:VEVENT
BEGIN:VEVENT
DTSTAMP:20260421T002945
DTSTART;TZID=Europe/Berlin:20260427T200000
DTEND;TZID=Europe/Berlin:20260427T213000
UID:V43390221-20260427T200000@VHSBÖBLINGEN-SINDELFINGEN
SUMMARY:Italienisch B1, Conversando in italiano (V43390221) 
LOCATION:HO, Haus am Ziegelhof, Eingang: Betreutes Wohnen, vhs-Seminarraum, Eberhardstr. 21, 71088 Holzgerlingen
END:VEVENT
BEGIN:VEVENT
DTSTAMP:20260421T002945
DTSTART;TZID=Europe/Berlin:20260504T200000
DTEND;TZID=Europe/Berlin:20260504T213000
UID:V43390221-20260504T200000@VHSBÖBLINGEN-SINDELFINGEN
SUMMARY:Italienisch B1, Conversando in italiano (V43390221) 
LOCATION:HO, Haus am Ziegelhof, Eingang: Betreutes Wohnen, vhs-Seminarraum, Eberhardstr. 21, 71088 Holzgerlingen
END:VEVENT
BEGIN:VEVENT
DTSTAMP:20260421T002945
DTSTART;TZID=Europe/Berlin:20260511T200000
DTEND;TZID=Europe/Berlin:20260511T213000
UID:V43390221-20260511T200000@VHSBÖBLINGEN-SINDELFINGEN
SUMMARY:Italienisch B1, Conversando in italiano (V43390221) 
LOCATION:HO, Haus am Ziegelhof, Eingang: Betreutes Wohnen, vhs-Seminarraum, Eberhardstr. 21, 71088 Holzgerlingen
END:VEVENT
BEGIN:VEVENT
DTSTAMP:20260421T002945
DTSTART;TZID=Europe/Berlin:20260518T200000
DTEND;TZID=Europe/Berlin:20260518T213000
UID:V43390221-20260518T200000@VHSBÖBLINGEN-SINDELFINGEN
SUMMARY:Italienisch B1, Conversando in italiano (V43390221) 
LOCATION:HO, Haus am Ziegelhof, Eingang: Betreutes Wohnen, vhs-Seminarraum, Eberhardstr. 21, 71088 Holzgerlingen
END:VEVENT
BEGIN:VEVENT
DTSTAMP:20260421T002945
DTSTART;TZID=Europe/Berlin:20260608T200000
DTEND;TZID=Europe/Berlin:20260608T213000
UID:V43390221-20260608T200000@VHSBÖBLINGEN-SINDELFINGEN
SUMMARY:Italienisch B1, Conversando in italiano (V43390221) 
LOCATION:HO, Haus am Ziegelhof, Eingang: Betreutes Wohnen, vhs-Seminarraum, Eberhardstr. 21, 71088 Holzgerlingen
END:VEVENT
BEGIN:VEVENT
DTSTAMP:20260421T002945
DTSTART;TZID=Europe/Berlin:20260615T200000
DTEND;TZID=Europe/Berlin:20260615T213000
UID:V43390221-20260615T200000@VHSBÖBLINGEN-SINDELFINGEN
SUMMARY:Italienisch B1, Conversando in italiano (V43390221) 
LOCATION:HO, Haus am Ziegelhof, Eingang: Betreutes Wohnen, vhs-Seminarraum, Eberhardstr. 21, 71088 Holzgerlingen
END:VEVENT
BEGIN:VEVENT
DTSTAMP:20260421T002945
DTSTART;TZID=Europe/Berlin:20260622T200000
DTEND;TZID=Europe/Berlin:20260622T213000
UID:V43390221-20260622T200000@VHSBÖBLINGEN-SINDELFINGEN
SUMMARY:Italienisch B1, Conversando in italiano (V43390221) 
LOCATION:HO, Haus am Ziegelhof, Eingang: Betreutes Wohnen, vhs-Seminarraum, Eberhardstr. 21, 71088 Holzgerlingen
END:VEVENT
END:VCALENDAR