BEGIN:VCALENDAR
VERSION:2.0
PRODID:https://www.kufer.de/kuferweb / DE
METHOD:PUBLISH
CALSCALE:GREGORIAN
X-WR-TIMEZONE:Europe/Berlin
BEGIN:VTIMEZONE
TZID:Europe/Berlin
X-LIC-LOCATION:Europe/Berlin
BEGIN:DAYLIGHT
TZOFFSETFROM:+0100
TZOFFSETTO:+0200
TZNAME:CEST
DTSTART:19700329T020000
RRULE:FREQ=YEARLY;INTERVAL=1;BYDAY=-1SU;BYMONTH=3
END:DAYLIGHT
BEGIN:STANDARD
TZOFFSETFROM:+0200
TZOFFSETTO:+0100
TZNAME:CET
DTSTART:19701025T030000
RRULE:FREQ=YEARLY;INTERVAL=1;BYDAY=-1SU;BYMONTH=10
END:STANDARD
END:VTIMEZONE
BEGIN:VEVENT
DTSTAMP:20260422T133710
DTSTART;TZID=Europe/Berlin:20260327T103000
DTEND;TZID=Europe/Berlin:20260327T120000
UID:V43390011-20260327T103000@VHSBÖBLINGEN-SINDELFINGEN
SUMMARY:Italienisch B1/B2 (V43390011) 
LOCATION:AI, VHS, Raum 16, Hauptstr. 15, 71134 Aidlingen
END:VEVENT
BEGIN:VEVENT
DTSTAMP:20260422T133710
DTSTART;TZID=Europe/Berlin:20260417T103000
DTEND;TZID=Europe/Berlin:20260417T120000
UID:V43390011-20260417T103000@VHSBÖBLINGEN-SINDELFINGEN
SUMMARY:Italienisch B1/B2 (V43390011) 
LOCATION:AI, VHS, Raum 16, Hauptstr. 15, 71134 Aidlingen
END:VEVENT
BEGIN:VEVENT
DTSTAMP:20260422T133710
DTSTART;TZID=Europe/Berlin:20260424T103000
DTEND;TZID=Europe/Berlin:20260424T120000
UID:V43390011-20260424T103000@VHSBÖBLINGEN-SINDELFINGEN
SUMMARY:Italienisch B1/B2 (V43390011) 
LOCATION:AI, VHS, Raum 16, Hauptstr. 15, 71134 Aidlingen
END:VEVENT
BEGIN:VEVENT
DTSTAMP:20260422T133710
DTSTART;TZID=Europe/Berlin:20260508T103000
DTEND;TZID=Europe/Berlin:20260508T120000
UID:V43390011-20260508T103000@VHSBÖBLINGEN-SINDELFINGEN
SUMMARY:Italienisch B1/B2 (V43390011) 
LOCATION:AI, VHS, Raum 16, Hauptstr. 15, 71134 Aidlingen
END:VEVENT
BEGIN:VEVENT
DTSTAMP:20260422T133710
DTSTART;TZID=Europe/Berlin:20260522T103000
DTEND;TZID=Europe/Berlin:20260522T120000
UID:V43390011-20260522T103000@VHSBÖBLINGEN-SINDELFINGEN
SUMMARY:Italienisch B1/B2 (V43390011) 
LOCATION:AI, VHS, Raum 16, Hauptstr. 15, 71134 Aidlingen
END:VEVENT
BEGIN:VEVENT
DTSTAMP:20260422T133710
DTSTART;TZID=Europe/Berlin:20260612T103000
DTEND;TZID=Europe/Berlin:20260612T120000
UID:V43390011-20260612T103000@VHSBÖBLINGEN-SINDELFINGEN
SUMMARY:Italienisch B1/B2 (V43390011) 
LOCATION:AI, VHS, Raum 16, Hauptstr. 15, 71134 Aidlingen
END:VEVENT
BEGIN:VEVENT
DTSTAMP:20260422T133710
DTSTART;TZID=Europe/Berlin:20260619T103000
DTEND;TZID=Europe/Berlin:20260619T120000
UID:V43390011-20260619T103000@VHSBÖBLINGEN-SINDELFINGEN
SUMMARY:Italienisch B1/B2 (V43390011) 
LOCATION:AI, VHS, Raum 16, Hauptstr. 15, 71134 Aidlingen
END:VEVENT
BEGIN:VEVENT
DTSTAMP:20260422T133710
DTSTART;TZID=Europe/Berlin:20260626T103000
DTEND;TZID=Europe/Berlin:20260626T120000
UID:V43390011-20260626T103000@VHSBÖBLINGEN-SINDELFINGEN
SUMMARY:Italienisch B1/B2 (V43390011) 
LOCATION:AI, VHS, Raum 16, Hauptstr. 15, 71134 Aidlingen
END:VEVENT
BEGIN:VEVENT
DTSTAMP:20260422T133710
DTSTART;TZID=Europe/Berlin:20260703T103000
DTEND;TZID=Europe/Berlin:20260703T120000
UID:V43390011-20260703T103000@VHSBÖBLINGEN-SINDELFINGEN
SUMMARY:Italienisch B1/B2 (V43390011) 
LOCATION:AI, VHS, Raum 16, Hauptstr. 15, 71134 Aidlingen
END:VEVENT
BEGIN:VEVENT
DTSTAMP:20260422T133710
DTSTART;TZID=Europe/Berlin:20260710T103000
DTEND;TZID=Europe/Berlin:20260710T120000
UID:V43390011-20260710T103000@VHSBÖBLINGEN-SINDELFINGEN
SUMMARY:Italienisch B1/B2 (V43390011) 
LOCATION:AI, VHS, Raum 16, Hauptstr. 15, 71134 Aidlingen
END:VEVENT
BEGIN:VEVENT
DTSTAMP:20260422T133710
DTSTART;TZID=Europe/Berlin:20260717T103000
DTEND;TZID=Europe/Berlin:20260717T120000
UID:V43390011-20260717T103000@VHSBÖBLINGEN-SINDELFINGEN
SUMMARY:Italienisch B1/B2 (V43390011) 
LOCATION:AI, VHS, Raum 16, Hauptstr. 15, 71134 Aidlingen
END:VEVENT
BEGIN:VEVENT
DTSTAMP:20260422T133710
DTSTART;TZID=Europe/Berlin:20260724T103000
DTEND;TZID=Europe/Berlin:20260724T120000
UID:V43390011-20260724T103000@VHSBÖBLINGEN-SINDELFINGEN
SUMMARY:Italienisch B1/B2 (V43390011) 
LOCATION:AI, VHS, Raum 16, Hauptstr. 15, 71134 Aidlingen
END:VEVENT
END:VCALENDAR