BEGIN:VCALENDAR
VERSION:2.0
PRODID:https://www.kufer.de/kuferweb / DE
METHOD:PUBLISH
CALSCALE:GREGORIAN
X-WR-TIMEZONE:Europe/Berlin
BEGIN:VTIMEZONE
TZID:Europe/Berlin
X-LIC-LOCATION:Europe/Berlin
BEGIN:DAYLIGHT
TZOFFSETFROM:+0100
TZOFFSETTO:+0200
TZNAME:CEST
DTSTART:19700329T020000
RRULE:FREQ=YEARLY;INTERVAL=1;BYDAY=-1SU;BYMONTH=3
END:DAYLIGHT
BEGIN:STANDARD
TZOFFSETFROM:+0200
TZOFFSETTO:+0100
TZNAME:CET
DTSTART:19701025T030000
RRULE:FREQ=YEARLY;INTERVAL=1;BYDAY=-1SU;BYMONTH=10
END:STANDARD
END:VTIMEZONE
BEGIN:VEVENT
DTSTAMP:20260420T175746
DTSTART;TZID=Europe/Berlin:20260226T103000
DTEND;TZID=Europe/Berlin:20260226T120000
UID:V43150110-20260226T103000@VHSBÖBLINGEN-SINDELFINGEN
SUMMARY:Italienisch A1 (V43150110) 
LOCATION:GHH, 007, EG, Böblinger Str. 8, 71065 Sindelfingen
END:VEVENT
BEGIN:VEVENT
DTSTAMP:20260420T175746
DTSTART;TZID=Europe/Berlin:20260305T103000
DTEND;TZID=Europe/Berlin:20260305T120000
UID:V43150110-20260305T103000@VHSBÖBLINGEN-SINDELFINGEN
SUMMARY:Italienisch A1 (V43150110) 
LOCATION:GHH, 007, EG, Böblinger Str. 8, 71065 Sindelfingen
END:VEVENT
BEGIN:VEVENT
DTSTAMP:20260420T175746
DTSTART;TZID=Europe/Berlin:20260312T103000
DTEND;TZID=Europe/Berlin:20260312T120000
UID:V43150110-20260312T103000@VHSBÖBLINGEN-SINDELFINGEN
SUMMARY:Italienisch A1 (V43150110) 
LOCATION:GHH, 007, EG, Böblinger Str. 8, 71065 Sindelfingen
END:VEVENT
BEGIN:VEVENT
DTSTAMP:20260420T175746
DTSTART;TZID=Europe/Berlin:20260319T103000
DTEND;TZID=Europe/Berlin:20260319T120000
UID:V43150110-20260319T103000@VHSBÖBLINGEN-SINDELFINGEN
SUMMARY:Italienisch A1 (V43150110) 
LOCATION:GHH, 007, EG, Böblinger Str. 8, 71065 Sindelfingen
END:VEVENT
BEGIN:VEVENT
DTSTAMP:20260420T175746
DTSTART;TZID=Europe/Berlin:20260326T103000
DTEND;TZID=Europe/Berlin:20260326T120000
UID:V43150110-20260326T103000@VHSBÖBLINGEN-SINDELFINGEN
SUMMARY:Italienisch A1 (V43150110) 
LOCATION:GHH, 007, EG, Böblinger Str. 8, 71065 Sindelfingen
END:VEVENT
BEGIN:VEVENT
DTSTAMP:20260420T175746
DTSTART;TZID=Europe/Berlin:20260416T103000
DTEND;TZID=Europe/Berlin:20260416T120000
UID:V43150110-20260416T103000@VHSBÖBLINGEN-SINDELFINGEN
SUMMARY:Italienisch A1 (V43150110) 
LOCATION:GHH, 007, EG, Böblinger Str. 8, 71065 Sindelfingen
END:VEVENT
BEGIN:VEVENT
DTSTAMP:20260420T175746
DTSTART;TZID=Europe/Berlin:20260423T103000
DTEND;TZID=Europe/Berlin:20260423T120000
UID:V43150110-20260423T103000@VHSBÖBLINGEN-SINDELFINGEN
SUMMARY:Italienisch A1 (V43150110) 
LOCATION:GHH, 007, EG, Böblinger Str. 8, 71065 Sindelfingen
END:VEVENT
BEGIN:VEVENT
DTSTAMP:20260420T175746
DTSTART;TZID=Europe/Berlin:20260430T103000
DTEND;TZID=Europe/Berlin:20260430T120000
UID:V43150110-20260430T103000@VHSBÖBLINGEN-SINDELFINGEN
SUMMARY:Italienisch A1 (V43150110) 
LOCATION:GHH, 007, EG, Böblinger Str. 8, 71065 Sindelfingen
END:VEVENT
BEGIN:VEVENT
DTSTAMP:20260420T175746
DTSTART;TZID=Europe/Berlin:20260507T103000
DTEND;TZID=Europe/Berlin:20260507T120000
UID:V43150110-20260507T103000@VHSBÖBLINGEN-SINDELFINGEN
SUMMARY:Italienisch A1 (V43150110) 
LOCATION:GHH, 007, EG, Böblinger Str. 8, 71065 Sindelfingen
END:VEVENT
END:VCALENDAR