BEGIN:VCALENDAR
VERSION:2.0
PRODID:https://www.kufer.de/kuferweb / DE
METHOD:PUBLISH
CALSCALE:GREGORIAN
X-WR-TIMEZONE:Europe/Berlin
BEGIN:VTIMEZONE
TZID:Europe/Berlin
X-LIC-LOCATION:Europe/Berlin
BEGIN:DAYLIGHT
TZOFFSETFROM:+0100
TZOFFSETTO:+0200
TZNAME:CEST
DTSTART:19700329T020000
RRULE:FREQ=YEARLY;INTERVAL=1;BYDAY=-1SU;BYMONTH=3
END:DAYLIGHT
BEGIN:STANDARD
TZOFFSETFROM:+0200
TZOFFSETTO:+0100
TZNAME:CET
DTSTART:19701025T030000
RRULE:FREQ=YEARLY;INTERVAL=1;BYDAY=-1SU;BYMONTH=10
END:STANDARD
END:VTIMEZONE
BEGIN:VEVENT
DTSTAMP:20260421T130844
DTSTART;TZID=Europe/Berlin:20260305T170000
DTEND;TZID=Europe/Berlin:20260305T183000
UID:V43102010-20260305T170000@VHSBÖBLINGEN-SINDELFINGEN
SUMMARY:Italienisch A1, Anfängerkurs (V43102010) 
LOCATION:GHH, 007, EG, Böblinger Str. 8, 71065 Sindelfingen
END:VEVENT
BEGIN:VEVENT
DTSTAMP:20260421T130844
DTSTART;TZID=Europe/Berlin:20260312T170000
DTEND;TZID=Europe/Berlin:20260312T183000
UID:V43102010-20260312T170000@VHSBÖBLINGEN-SINDELFINGEN
SUMMARY:Italienisch A1, Anfängerkurs (V43102010) 
LOCATION:GHH, 103, 1.OG, Böblinger Str. 8, 71065 Sindelfingen
END:VEVENT
BEGIN:VEVENT
DTSTAMP:20260421T130844
DTSTART;TZID=Europe/Berlin:20260319T170000
DTEND;TZID=Europe/Berlin:20260319T183000
UID:V43102010-20260319T170000@VHSBÖBLINGEN-SINDELFINGEN
SUMMARY:Italienisch A1, Anfängerkurs (V43102010) 
LOCATION:GHH, 103, 1.OG, Böblinger Str. 8, 71065 Sindelfingen
END:VEVENT
BEGIN:VEVENT
DTSTAMP:20260421T130844
DTSTART;TZID=Europe/Berlin:20260326T170000
DTEND;TZID=Europe/Berlin:20260326T183000
UID:V43102010-20260326T170000@VHSBÖBLINGEN-SINDELFINGEN
SUMMARY:Italienisch A1, Anfängerkurs (V43102010) 
LOCATION:GHH, 103, 1.OG, Böblinger Str. 8, 71065 Sindelfingen
END:VEVENT
BEGIN:VEVENT
DTSTAMP:20260421T130844
DTSTART;TZID=Europe/Berlin:20260416T170000
DTEND;TZID=Europe/Berlin:20260416T183000
UID:V43102010-20260416T170000@VHSBÖBLINGEN-SINDELFINGEN
SUMMARY:Italienisch A1, Anfängerkurs (V43102010) 
LOCATION:GHH, 206, 2.OG, Böblinger Str. 8, 71065 Sindelfingen
END:VEVENT
BEGIN:VEVENT
DTSTAMP:20260421T130844
DTSTART;TZID=Europe/Berlin:20260423T170000
DTEND;TZID=Europe/Berlin:20260423T183000
UID:V43102010-20260423T170000@VHSBÖBLINGEN-SINDELFINGEN
SUMMARY:Italienisch A1, Anfängerkurs (V43102010) 
LOCATION:GHH, 206, 2.OG, Böblinger Str. 8, 71065 Sindelfingen
END:VEVENT
BEGIN:VEVENT
DTSTAMP:20260421T130844
DTSTART;TZID=Europe/Berlin:20260430T170000
DTEND;TZID=Europe/Berlin:20260430T183000
UID:V43102010-20260430T170000@VHSBÖBLINGEN-SINDELFINGEN
SUMMARY:Italienisch A1, Anfängerkurs (V43102010) 
LOCATION:GHH, 206, 2.OG, Böblinger Str. 8, 71065 Sindelfingen
END:VEVENT
BEGIN:VEVENT
DTSTAMP:20260421T130844
DTSTART;TZID=Europe/Berlin:20260507T170000
DTEND;TZID=Europe/Berlin:20260507T183000
UID:V43102010-20260507T170000@VHSBÖBLINGEN-SINDELFINGEN
SUMMARY:Italienisch A1, Anfängerkurs (V43102010) 
LOCATION:GHH, 206, 2.OG, Böblinger Str. 8, 71065 Sindelfingen
END:VEVENT
BEGIN:VEVENT
DTSTAMP:20260421T130844
DTSTART;TZID=Europe/Berlin:20260521T170000
DTEND;TZID=Europe/Berlin:20260521T183000
UID:V43102010-20260521T170000@VHSBÖBLINGEN-SINDELFINGEN
SUMMARY:Italienisch A1, Anfängerkurs (V43102010) 
LOCATION:GHH, 206, 2.OG, Böblinger Str. 8, 71065 Sindelfingen
END:VEVENT
BEGIN:VEVENT
DTSTAMP:20260421T130844
DTSTART;TZID=Europe/Berlin:20260611T170000
DTEND;TZID=Europe/Berlin:20260611T183000
UID:V43102010-20260611T170000@VHSBÖBLINGEN-SINDELFINGEN
SUMMARY:Italienisch A1, Anfängerkurs (V43102010) 
LOCATION:GHH, 206, 2.OG, Böblinger Str. 8, 71065 Sindelfingen
END:VEVENT
BEGIN:VEVENT
DTSTAMP:20260421T130844
DTSTART;TZID=Europe/Berlin:20260618T170000
DTEND;TZID=Europe/Berlin:20260618T183000
UID:V43102010-20260618T170000@VHSBÖBLINGEN-SINDELFINGEN
SUMMARY:Italienisch A1, Anfängerkurs (V43102010) 
LOCATION:GHH, 206, 2.OG, Böblinger Str. 8, 71065 Sindelfingen
END:VEVENT
BEGIN:VEVENT
DTSTAMP:20260421T130844
DTSTART;TZID=Europe/Berlin:20260625T170000
DTEND;TZID=Europe/Berlin:20260625T183000
UID:V43102010-20260625T170000@VHSBÖBLINGEN-SINDELFINGEN
SUMMARY:Italienisch A1, Anfängerkurs (V43102010) 
LOCATION:GHH, 206, 2.OG, Böblinger Str. 8, 71065 Sindelfingen
END:VEVENT
END:VCALENDAR