BEGIN:VCALENDAR
VERSION:2.0
PRODID:https://www.kufer.de/kuferweb / DE
METHOD:PUBLISH
CALSCALE:GREGORIAN
X-WR-TIMEZONE:Europe/Berlin
BEGIN:VTIMEZONE
TZID:Europe/Berlin
X-LIC-LOCATION:Europe/Berlin
BEGIN:DAYLIGHT
TZOFFSETFROM:+0100
TZOFFSETTO:+0200
TZNAME:CEST
DTSTART:19700329T020000
RRULE:FREQ=YEARLY;INTERVAL=1;BYDAY=-1SU;BYMONTH=3
END:DAYLIGHT
BEGIN:STANDARD
TZOFFSETFROM:+0200
TZOFFSETTO:+0100
TZNAME:CET
DTSTART:19701025T030000
RRULE:FREQ=YEARLY;INTERVAL=1;BYDAY=-1SU;BYMONTH=10
END:STANDARD
END:VTIMEZONE
BEGIN:VEVENT
DTSTAMP:20260421T010905
DTSTART;TZID=Europe/Berlin:20260317T180000
DTEND;TZID=Europe/Berlin:20260317T193000
UID:V42551010-20260317T180000@VHSBÖBLINGEN-SINDELFINGEN
SUMMARY:Französisch C1, La France: la porte à côté (V42551010) 
LOCATION:Stifts, vhs.3, 1. OG, Böblinger Str. 24, 71065 Sindelfingen
END:VEVENT
BEGIN:VEVENT
DTSTAMP:20260421T010905
DTSTART;TZID=Europe/Berlin:20260324T180000
DTEND;TZID=Europe/Berlin:20260324T193000
UID:V42551010-20260324T180000@VHSBÖBLINGEN-SINDELFINGEN
SUMMARY:Französisch C1, La France: la porte à côté (V42551010) 
LOCATION:Stifts, vhs.3, 1. OG, Böblinger Str. 24, 71065 Sindelfingen
END:VEVENT
BEGIN:VEVENT
DTSTAMP:20260421T010905
DTSTART;TZID=Europe/Berlin:20260428T180000
DTEND;TZID=Europe/Berlin:20260428T193000
UID:V42551010-20260428T180000@VHSBÖBLINGEN-SINDELFINGEN
SUMMARY:Französisch C1, La France: la porte à côté (V42551010) 
LOCATION:Stifts, vhs.4, 1. OG, Böblinger Str. 24, 71065 Sindelfingen
END:VEVENT
BEGIN:VEVENT
DTSTAMP:20260421T010905
DTSTART;TZID=Europe/Berlin:20260505T180000
DTEND;TZID=Europe/Berlin:20260505T193000
UID:V42551010-20260505T180000@VHSBÖBLINGEN-SINDELFINGEN
SUMMARY:Französisch C1, La France: la porte à côté (V42551010) 
LOCATION:Stifts, vhs.4, 1. OG, Böblinger Str. 24, 71065 Sindelfingen
END:VEVENT
BEGIN:VEVENT
DTSTAMP:20260421T010905
DTSTART;TZID=Europe/Berlin:20260512T180000
DTEND;TZID=Europe/Berlin:20260512T193000
UID:V42551010-20260512T180000@VHSBÖBLINGEN-SINDELFINGEN
SUMMARY:Französisch C1, La France: la porte à côté (V42551010) 
LOCATION:Stifts, vhs.4, 1. OG, Böblinger Str. 24, 71065 Sindelfingen
END:VEVENT
BEGIN:VEVENT
DTSTAMP:20260421T010905
DTSTART;TZID=Europe/Berlin:20260519T180000
DTEND;TZID=Europe/Berlin:20260519T193000
UID:V42551010-20260519T180000@VHSBÖBLINGEN-SINDELFINGEN
SUMMARY:Französisch C1, La France: la porte à côté (V42551010) 
LOCATION:Stifts, vhs.4, 1. OG, Böblinger Str. 24, 71065 Sindelfingen
END:VEVENT
BEGIN:VEVENT
DTSTAMP:20260421T010905
DTSTART;TZID=Europe/Berlin:20260609T180000
DTEND;TZID=Europe/Berlin:20260609T193000
UID:V42551010-20260609T180000@VHSBÖBLINGEN-SINDELFINGEN
SUMMARY:Französisch C1, La France: la porte à côté (V42551010) 
LOCATION:Stifts, vhs.4, 1. OG, Böblinger Str. 24, 71065 Sindelfingen
END:VEVENT
BEGIN:VEVENT
DTSTAMP:20260421T010905
DTSTART;TZID=Europe/Berlin:20260616T180000
DTEND;TZID=Europe/Berlin:20260616T193000
UID:V42551010-20260616T180000@VHSBÖBLINGEN-SINDELFINGEN
SUMMARY:Französisch C1, La France: la porte à côté (V42551010) 
LOCATION:Stifts, vhs.4, 1. OG, Böblinger Str. 24, 71065 Sindelfingen
END:VEVENT
BEGIN:VEVENT
DTSTAMP:20260421T010905
DTSTART;TZID=Europe/Berlin:20260623T180000
DTEND;TZID=Europe/Berlin:20260623T193000
UID:V42551010-20260623T180000@VHSBÖBLINGEN-SINDELFINGEN
SUMMARY:Französisch C1, La France: la porte à côté (V42551010) 
LOCATION:Stifts, vhs.4, 1. OG, Böblinger Str. 24, 71065 Sindelfingen
END:VEVENT
BEGIN:VEVENT
DTSTAMP:20260421T010905
DTSTART;TZID=Europe/Berlin:20260630T180000
DTEND;TZID=Europe/Berlin:20260630T193000
UID:V42551010-20260630T180000@VHSBÖBLINGEN-SINDELFINGEN
SUMMARY:Französisch C1, La France: la porte à côté (V42551010) 
LOCATION:Stifts, vhs.4, 1. OG, Böblinger Str. 24, 71065 Sindelfingen
END:VEVENT
BEGIN:VEVENT
DTSTAMP:20260421T010905
DTSTART;TZID=Europe/Berlin:20260707T180000
DTEND;TZID=Europe/Berlin:20260707T193000
UID:V42551010-20260707T180000@VHSBÖBLINGEN-SINDELFINGEN
SUMMARY:Französisch C1, La France: la porte à côté (V42551010) 
LOCATION:Stifts, vhs.4, 1. OG, Böblinger Str. 24, 71065 Sindelfingen
END:VEVENT
BEGIN:VEVENT
DTSTAMP:20260421T010905
DTSTART;TZID=Europe/Berlin:20260714T180000
DTEND;TZID=Europe/Berlin:20260714T193000
UID:V42551010-20260714T180000@VHSBÖBLINGEN-SINDELFINGEN
SUMMARY:Französisch C1, La France: la porte à côté (V42551010) 
LOCATION:Stifts, vhs.4, 1. OG, Böblinger Str. 24, 71065 Sindelfingen
END:VEVENT
END:VCALENDAR