BEGIN:VCALENDAR
VERSION:2.0
PRODID:https://www.kufer.de/kuferweb / DE
METHOD:PUBLISH
CALSCALE:GREGORIAN
X-WR-TIMEZONE:Europe/Berlin
BEGIN:VTIMEZONE
TZID:Europe/Berlin
X-LIC-LOCATION:Europe/Berlin
BEGIN:DAYLIGHT
TZOFFSETFROM:+0100
TZOFFSETTO:+0200
TZNAME:CEST
DTSTART:19700329T020000
RRULE:FREQ=YEARLY;INTERVAL=1;BYDAY=-1SU;BYMONTH=3
END:DAYLIGHT
BEGIN:STANDARD
TZOFFSETFROM:+0200
TZOFFSETTO:+0100
TZNAME:CET
DTSTART:19701025T030000
RRULE:FREQ=YEARLY;INTERVAL=1;BYDAY=-1SU;BYMONTH=10
END:STANDARD
END:VTIMEZONE
BEGIN:VEVENT
DTSTAMP:20260421T010809
DTSTART;TZID=Europe/Berlin:20260311T100500
DTEND;TZID=Europe/Berlin:20260311T113500
UID:V42451010-20260311T100500@VHSBÖBLINGEN-SINDELFINGEN
SUMMARY:Französisch B2, À la découverte des Français (V42451010) 
LOCATION:GHH, U 007, UG, Böblinger Str. 8, 71065 Sindelfingen
END:VEVENT
BEGIN:VEVENT
DTSTAMP:20260421T010809
DTSTART;TZID=Europe/Berlin:20260318T100500
DTEND;TZID=Europe/Berlin:20260318T113500
UID:V42451010-20260318T100500@VHSBÖBLINGEN-SINDELFINGEN
SUMMARY:Französisch B2, À la découverte des Français (V42451010) 
LOCATION:GHH, U 007, UG, Böblinger Str. 8, 71065 Sindelfingen
END:VEVENT
BEGIN:VEVENT
DTSTAMP:20260421T010809
DTSTART;TZID=Europe/Berlin:20260325T100500
DTEND;TZID=Europe/Berlin:20260325T113500
UID:V42451010-20260325T100500@VHSBÖBLINGEN-SINDELFINGEN
SUMMARY:Französisch B2, À la découverte des Français (V42451010) 
LOCATION:GHH, U 007, UG, Böblinger Str. 8, 71065 Sindelfingen
END:VEVENT
BEGIN:VEVENT
DTSTAMP:20260421T010809
DTSTART;TZID=Europe/Berlin:20260415T100500
DTEND;TZID=Europe/Berlin:20260415T113500
UID:V42451010-20260415T100500@VHSBÖBLINGEN-SINDELFINGEN
SUMMARY:Französisch B2, À la découverte des Français (V42451010) 
LOCATION:GHH, U 007, UG, Böblinger Str. 8, 71065 Sindelfingen
END:VEVENT
BEGIN:VEVENT
DTSTAMP:20260421T010809
DTSTART;TZID=Europe/Berlin:20260422T100500
DTEND;TZID=Europe/Berlin:20260422T113500
UID:V42451010-20260422T100500@VHSBÖBLINGEN-SINDELFINGEN
SUMMARY:Französisch B2, À la découverte des Français (V42451010) 
LOCATION:GHH, U 007, UG, Böblinger Str. 8, 71065 Sindelfingen
END:VEVENT
BEGIN:VEVENT
DTSTAMP:20260421T010809
DTSTART;TZID=Europe/Berlin:20260429T100500
DTEND;TZID=Europe/Berlin:20260429T113500
UID:V42451010-20260429T100500@VHSBÖBLINGEN-SINDELFINGEN
SUMMARY:Französisch B2, À la découverte des Français (V42451010) 
LOCATION:GHH, U 007, UG, Böblinger Str. 8, 71065 Sindelfingen
END:VEVENT
BEGIN:VEVENT
DTSTAMP:20260421T010809
DTSTART;TZID=Europe/Berlin:20260506T100500
DTEND;TZID=Europe/Berlin:20260506T113500
UID:V42451010-20260506T100500@VHSBÖBLINGEN-SINDELFINGEN
SUMMARY:Französisch B2, À la découverte des Français (V42451010) 
LOCATION:GHH, U 007, UG, Böblinger Str. 8, 71065 Sindelfingen
END:VEVENT
BEGIN:VEVENT
DTSTAMP:20260421T010809
DTSTART;TZID=Europe/Berlin:20260513T100500
DTEND;TZID=Europe/Berlin:20260513T113500
UID:V42451010-20260513T100500@VHSBÖBLINGEN-SINDELFINGEN
SUMMARY:Französisch B2, À la découverte des Français (V42451010) 
LOCATION:GHH, U 007, UG, Böblinger Str. 8, 71065 Sindelfingen
END:VEVENT
BEGIN:VEVENT
DTSTAMP:20260421T010809
DTSTART;TZID=Europe/Berlin:20260520T100500
DTEND;TZID=Europe/Berlin:20260520T113500
UID:V42451010-20260520T100500@VHSBÖBLINGEN-SINDELFINGEN
SUMMARY:Französisch B2, À la découverte des Français (V42451010) 
LOCATION:GHH, U 007, UG, Böblinger Str. 8, 71065 Sindelfingen
END:VEVENT
BEGIN:VEVENT
DTSTAMP:20260421T010809
DTSTART;TZID=Europe/Berlin:20260610T100500
DTEND;TZID=Europe/Berlin:20260610T113500
UID:V42451010-20260610T100500@VHSBÖBLINGEN-SINDELFINGEN
SUMMARY:Französisch B2, À la découverte des Français (V42451010) 
LOCATION:GHH, U 007, UG, Böblinger Str. 8, 71065 Sindelfingen
END:VEVENT
BEGIN:VEVENT
DTSTAMP:20260421T010809
DTSTART;TZID=Europe/Berlin:20260617T100500
DTEND;TZID=Europe/Berlin:20260617T113500
UID:V42451010-20260617T100500@VHSBÖBLINGEN-SINDELFINGEN
SUMMARY:Französisch B2, À la découverte des Français (V42451010) 
LOCATION:GHH, U 007, UG, Böblinger Str. 8, 71065 Sindelfingen
END:VEVENT
BEGIN:VEVENT
DTSTAMP:20260421T010809
DTSTART;TZID=Europe/Berlin:20260624T100500
DTEND;TZID=Europe/Berlin:20260624T113500
UID:V42451010-20260624T100500@VHSBÖBLINGEN-SINDELFINGEN
SUMMARY:Französisch B2, À la découverte des Français (V42451010) 
LOCATION:GHH, U 007, UG, Böblinger Str. 8, 71065 Sindelfingen
END:VEVENT
BEGIN:VEVENT
DTSTAMP:20260421T010809
DTSTART;TZID=Europe/Berlin:20260701T100500
DTEND;TZID=Europe/Berlin:20260701T113500
UID:V42451010-20260701T100500@VHSBÖBLINGEN-SINDELFINGEN
SUMMARY:Französisch B2, À la découverte des Français (V42451010) 
LOCATION:GHH, U 007, UG, Böblinger Str. 8, 71065 Sindelfingen
END:VEVENT
END:VCALENDAR