BEGIN:VCALENDAR
VERSION:2.0
PRODID:https://www.kufer.de/kuferweb / DE
METHOD:PUBLISH
CALSCALE:GREGORIAN
X-WR-TIMEZONE:Europe/Berlin
BEGIN:VTIMEZONE
TZID:Europe/Berlin
X-LIC-LOCATION:Europe/Berlin
BEGIN:DAYLIGHT
TZOFFSETFROM:+0100
TZOFFSETTO:+0200
TZNAME:CEST
DTSTART:19700329T020000
RRULE:FREQ=YEARLY;INTERVAL=1;BYDAY=-1SU;BYMONTH=3
END:DAYLIGHT
BEGIN:STANDARD
TZOFFSETFROM:+0200
TZOFFSETTO:+0100
TZNAME:CET
DTSTART:19701025T030000
RRULE:FREQ=YEARLY;INTERVAL=1;BYDAY=-1SU;BYMONTH=10
END:STANDARD
END:VTIMEZONE
BEGIN:VEVENT
DTSTAMP:20260420T200004
DTSTART;TZID=Europe/Berlin:20260224T200000
DTEND;TZID=Europe/Berlin:20260224T213000
UID:V42450510-20260224T200000@VHSBÖBLINGEN-SINDELFINGEN
SUMMARY:Französisch B2, Les rendez-vous du mardi soir (V42450510) 
LOCATION:Höfle, 103, 1. OG, Pestalozzistr. 4, 71032 Böblingen
END:VEVENT
BEGIN:VEVENT
DTSTAMP:20260420T200004
DTSTART;TZID=Europe/Berlin:20260303T200000
DTEND;TZID=Europe/Berlin:20260303T213000
UID:V42450510-20260303T200000@VHSBÖBLINGEN-SINDELFINGEN
SUMMARY:Französisch B2, Les rendez-vous du mardi soir (V42450510) 
LOCATION:Höfle, 103, 1. OG, Pestalozzistr. 4, 71032 Böblingen
END:VEVENT
BEGIN:VEVENT
DTSTAMP:20260420T200004
DTSTART;TZID=Europe/Berlin:20260310T200000
DTEND;TZID=Europe/Berlin:20260310T213000
UID:V42450510-20260310T200000@VHSBÖBLINGEN-SINDELFINGEN
SUMMARY:Französisch B2, Les rendez-vous du mardi soir (V42450510) 
LOCATION:Höfle, 103, 1. OG, Pestalozzistr. 4, 71032 Böblingen
END:VEVENT
BEGIN:VEVENT
DTSTAMP:20260420T200004
DTSTART;TZID=Europe/Berlin:20260317T200000
DTEND;TZID=Europe/Berlin:20260317T213000
UID:V42450510-20260317T200000@VHSBÖBLINGEN-SINDELFINGEN
SUMMARY:Französisch B2, Les rendez-vous du mardi soir (V42450510) 
LOCATION:Höfle, 103, 1. OG, Pestalozzistr. 4, 71032 Böblingen
END:VEVENT
BEGIN:VEVENT
DTSTAMP:20260420T200004
DTSTART;TZID=Europe/Berlin:20260324T200000
DTEND;TZID=Europe/Berlin:20260324T213000
UID:V42450510-20260324T200000@VHSBÖBLINGEN-SINDELFINGEN
SUMMARY:Französisch B2, Les rendez-vous du mardi soir (V42450510) 
LOCATION:Höfle, 103, 1. OG, Pestalozzistr. 4, 71032 Böblingen
END:VEVENT
BEGIN:VEVENT
DTSTAMP:20260420T200004
DTSTART;TZID=Europe/Berlin:20260414T200000
DTEND;TZID=Europe/Berlin:20260414T213000
UID:V42450510-20260414T200000@VHSBÖBLINGEN-SINDELFINGEN
SUMMARY:Französisch B2, Les rendez-vous du mardi soir (V42450510) 
LOCATION:Höfle, 103, 1. OG, Pestalozzistr. 4, 71032 Böblingen
END:VEVENT
BEGIN:VEVENT
DTSTAMP:20260420T200004
DTSTART;TZID=Europe/Berlin:20260421T200000
DTEND;TZID=Europe/Berlin:20260421T213000
UID:V42450510-20260421T200000@VHSBÖBLINGEN-SINDELFINGEN
SUMMARY:Französisch B2, Les rendez-vous du mardi soir (V42450510) 
LOCATION:Höfle, 103, 1. OG, Pestalozzistr. 4, 71032 Böblingen
END:VEVENT
BEGIN:VEVENT
DTSTAMP:20260420T200004
DTSTART;TZID=Europe/Berlin:20260428T200000
DTEND;TZID=Europe/Berlin:20260428T213000
UID:V42450510-20260428T200000@VHSBÖBLINGEN-SINDELFINGEN
SUMMARY:Französisch B2, Les rendez-vous du mardi soir (V42450510) 
LOCATION:Höfle, 103, 1. OG, Pestalozzistr. 4, 71032 Böblingen
END:VEVENT
BEGIN:VEVENT
DTSTAMP:20260420T200004
DTSTART;TZID=Europe/Berlin:20260505T200000
DTEND;TZID=Europe/Berlin:20260505T213000
UID:V42450510-20260505T200000@VHSBÖBLINGEN-SINDELFINGEN
SUMMARY:Französisch B2, Les rendez-vous du mardi soir (V42450510) 
LOCATION:Höfle, 103, 1. OG, Pestalozzistr. 4, 71032 Böblingen
END:VEVENT
BEGIN:VEVENT
DTSTAMP:20260420T200004
DTSTART;TZID=Europe/Berlin:20260512T200000
DTEND;TZID=Europe/Berlin:20260512T213000
UID:V42450510-20260512T200000@VHSBÖBLINGEN-SINDELFINGEN
SUMMARY:Französisch B2, Les rendez-vous du mardi soir (V42450510) 
LOCATION:Höfle, 103, 1. OG, Pestalozzistr. 4, 71032 Böblingen
END:VEVENT
BEGIN:VEVENT
DTSTAMP:20260420T200004
DTSTART;TZID=Europe/Berlin:20260519T200000
DTEND;TZID=Europe/Berlin:20260519T213000
UID:V42450510-20260519T200000@VHSBÖBLINGEN-SINDELFINGEN
SUMMARY:Französisch B2, Les rendez-vous du mardi soir (V42450510) 
LOCATION:Höfle, 103, 1. OG, Pestalozzistr. 4, 71032 Böblingen
END:VEVENT
BEGIN:VEVENT
DTSTAMP:20260420T200004
DTSTART;TZID=Europe/Berlin:20260609T200000
DTEND;TZID=Europe/Berlin:20260609T213000
UID:V42450510-20260609T200000@VHSBÖBLINGEN-SINDELFINGEN
SUMMARY:Französisch B2, Les rendez-vous du mardi soir (V42450510) 
LOCATION:Höfle, 103, 1. OG, Pestalozzistr. 4, 71032 Böblingen
END:VEVENT
END:VCALENDAR