BEGIN:VCALENDAR
VERSION:2.0
PRODID:https://www.kufer.de/kuferweb / DE
METHOD:PUBLISH
CALSCALE:GREGORIAN
X-WR-TIMEZONE:Europe/Berlin
BEGIN:VTIMEZONE
TZID:Europe/Berlin
X-LIC-LOCATION:Europe/Berlin
BEGIN:DAYLIGHT
TZOFFSETFROM:+0100
TZOFFSETTO:+0200
TZNAME:CEST
DTSTART:19700329T020000
RRULE:FREQ=YEARLY;INTERVAL=1;BYDAY=-1SU;BYMONTH=3
END:DAYLIGHT
BEGIN:STANDARD
TZOFFSETFROM:+0200
TZOFFSETTO:+0100
TZNAME:CET
DTSTART:19701025T030000
RRULE:FREQ=YEARLY;INTERVAL=1;BYDAY=-1SU;BYMONTH=10
END:STANDARD
END:VTIMEZONE
BEGIN:VEVENT
DTSTAMP:20260420T212211
DTSTART;TZID=Europe/Berlin:20260305T091500
DTEND;TZID=Europe/Berlin:20260305T104500
UID:V42390012-20260305T091500@VHSBÖBLINGEN-SINDELFINGEN
SUMMARY:Französisch B1, Bienvenue en France (V42390012) 
LOCATION:AL, Altes Forsthaus, ___, Ehninger Str. 21, 71157 Hildrizhausen
END:VEVENT
BEGIN:VEVENT
DTSTAMP:20260420T212211
DTSTART;TZID=Europe/Berlin:20260312T091500
DTEND;TZID=Europe/Berlin:20260312T104500
UID:V42390012-20260312T091500@VHSBÖBLINGEN-SINDELFINGEN
SUMMARY:Französisch B1, Bienvenue en France (V42390012) 
LOCATION:AL, Altes Forsthaus, ___, Ehninger Str. 21, 71157 Hildrizhausen
END:VEVENT
BEGIN:VEVENT
DTSTAMP:20260420T212211
DTSTART;TZID=Europe/Berlin:20260319T091500
DTEND;TZID=Europe/Berlin:20260319T104500
UID:V42390012-20260319T091500@VHSBÖBLINGEN-SINDELFINGEN
SUMMARY:Französisch B1, Bienvenue en France (V42390012) 
LOCATION:AL, Altes Forsthaus, ___, Ehninger Str. 21, 71157 Hildrizhausen
END:VEVENT
BEGIN:VEVENT
DTSTAMP:20260420T212211
DTSTART;TZID=Europe/Berlin:20260326T091500
DTEND;TZID=Europe/Berlin:20260326T104500
UID:V42390012-20260326T091500@VHSBÖBLINGEN-SINDELFINGEN
SUMMARY:Französisch B1, Bienvenue en France (V42390012) 
LOCATION:AL, Altes Forsthaus, ___, Ehninger Str. 21, 71157 Hildrizhausen
END:VEVENT
BEGIN:VEVENT
DTSTAMP:20260420T212211
DTSTART;TZID=Europe/Berlin:20260423T091500
DTEND;TZID=Europe/Berlin:20260423T104500
UID:V42390012-20260423T091500@VHSBÖBLINGEN-SINDELFINGEN
SUMMARY:Französisch B1, Bienvenue en France (V42390012) 
LOCATION:AL, Altes Forsthaus, ___, Ehninger Str. 21, 71157 Hildrizhausen
END:VEVENT
BEGIN:VEVENT
DTSTAMP:20260420T212211
DTSTART;TZID=Europe/Berlin:20260430T091500
DTEND;TZID=Europe/Berlin:20260430T104500
UID:V42390012-20260430T091500@VHSBÖBLINGEN-SINDELFINGEN
SUMMARY:Französisch B1, Bienvenue en France (V42390012) 
LOCATION:AL, Altes Forsthaus, ___, Ehninger Str. 21, 71157 Hildrizhausen
END:VEVENT
BEGIN:VEVENT
DTSTAMP:20260420T212211
DTSTART;TZID=Europe/Berlin:20260507T091500
DTEND;TZID=Europe/Berlin:20260507T104500
UID:V42390012-20260507T091500@VHSBÖBLINGEN-SINDELFINGEN
SUMMARY:Französisch B1, Bienvenue en France (V42390012) 
LOCATION:AL, Altes Forsthaus, ___, Ehninger Str. 21, 71157 Hildrizhausen
END:VEVENT
BEGIN:VEVENT
DTSTAMP:20260420T212211
DTSTART;TZID=Europe/Berlin:20260521T091500
DTEND;TZID=Europe/Berlin:20260521T104500
UID:V42390012-20260521T091500@VHSBÖBLINGEN-SINDELFINGEN
SUMMARY:Französisch B1, Bienvenue en France (V42390012) 
LOCATION:AL, Altes Forsthaus, ___, Ehninger Str. 21, 71157 Hildrizhausen
END:VEVENT
BEGIN:VEVENT
DTSTAMP:20260420T212211
DTSTART;TZID=Europe/Berlin:20260611T091500
DTEND;TZID=Europe/Berlin:20260611T104500
UID:V42390012-20260611T091500@VHSBÖBLINGEN-SINDELFINGEN
SUMMARY:Französisch B1, Bienvenue en France (V42390012) 
LOCATION:AL, Altes Forsthaus, ___, Ehninger Str. 21, 71157 Hildrizhausen
END:VEVENT
BEGIN:VEVENT
DTSTAMP:20260420T212211
DTSTART;TZID=Europe/Berlin:20260618T091500
DTEND;TZID=Europe/Berlin:20260618T104500
UID:V42390012-20260618T091500@VHSBÖBLINGEN-SINDELFINGEN
SUMMARY:Französisch B1, Bienvenue en France (V42390012) 
LOCATION:AL, Altes Forsthaus, ___, Ehninger Str. 21, 71157 Hildrizhausen
END:VEVENT
BEGIN:VEVENT
DTSTAMP:20260420T212211
DTSTART;TZID=Europe/Berlin:20260625T091500
DTEND;TZID=Europe/Berlin:20260625T104500
UID:V42390012-20260625T091500@VHSBÖBLINGEN-SINDELFINGEN
SUMMARY:Französisch B1, Bienvenue en France (V42390012) 
LOCATION:AL, Altes Forsthaus, ___, Ehninger Str. 21, 71157 Hildrizhausen
END:VEVENT
END:VCALENDAR