BEGIN:VCALENDAR
VERSION:2.0
PRODID:https://www.kufer.de/kuferweb / DE
METHOD:PUBLISH
CALSCALE:GREGORIAN
X-WR-TIMEZONE:Europe/Berlin
BEGIN:VTIMEZONE
TZID:Europe/Berlin
X-LIC-LOCATION:Europe/Berlin
BEGIN:DAYLIGHT
TZOFFSETFROM:+0100
TZOFFSETTO:+0200
TZNAME:CEST
DTSTART:19700329T020000
RRULE:FREQ=YEARLY;INTERVAL=1;BYDAY=-1SU;BYMONTH=3
END:DAYLIGHT
BEGIN:STANDARD
TZOFFSETFROM:+0200
TZOFFSETTO:+0100
TZNAME:CET
DTSTART:19701025T030000
RRULE:FREQ=YEARLY;INTERVAL=1;BYDAY=-1SU;BYMONTH=10
END:STANDARD
END:VTIMEZONE
BEGIN:VEVENT
DTSTAMP:20260421T005010
DTSTART;TZID=Europe/Berlin:20260226T143000
DTEND;TZID=Europe/Berlin:20260226T160000
UID:V42365021-20260226T143000@VHSBÖBLINGEN-SINDELFINGEN
SUMMARY:Französisch, B1 (V42365021) 
LOCATION:HO, Haus am Ziegelhof, Eingang: Betreutes Wohnen, vhs-Seminarraum, Eberhardstr. 21, 71088 Holzgerlingen
END:VEVENT
BEGIN:VEVENT
DTSTAMP:20260421T005010
DTSTART;TZID=Europe/Berlin:20260305T143000
DTEND;TZID=Europe/Berlin:20260305T160000
UID:V42365021-20260305T143000@VHSBÖBLINGEN-SINDELFINGEN
SUMMARY:Französisch, B1 (V42365021) 
LOCATION:HO, Haus am Ziegelhof, Eingang: Betreutes Wohnen, vhs-Seminarraum, Eberhardstr. 21, 71088 Holzgerlingen
END:VEVENT
BEGIN:VEVENT
DTSTAMP:20260421T005010
DTSTART;TZID=Europe/Berlin:20260312T143000
DTEND;TZID=Europe/Berlin:20260312T160000
UID:V42365021-20260312T143000@VHSBÖBLINGEN-SINDELFINGEN
SUMMARY:Französisch, B1 (V42365021) 
LOCATION:HO, Haus am Ziegelhof, Eingang: Betreutes Wohnen, vhs-Seminarraum, Eberhardstr. 21, 71088 Holzgerlingen
END:VEVENT
BEGIN:VEVENT
DTSTAMP:20260421T005010
DTSTART;TZID=Europe/Berlin:20260319T143000
DTEND;TZID=Europe/Berlin:20260319T160000
UID:V42365021-20260319T143000@VHSBÖBLINGEN-SINDELFINGEN
SUMMARY:Französisch, B1 (V42365021) 
LOCATION:HO, Haus am Ziegelhof, Eingang: Betreutes Wohnen, vhs-Seminarraum, Eberhardstr. 21, 71088 Holzgerlingen
END:VEVENT
BEGIN:VEVENT
DTSTAMP:20260421T005010
DTSTART;TZID=Europe/Berlin:20260326T143000
DTEND;TZID=Europe/Berlin:20260326T160000
UID:V42365021-20260326T143000@VHSBÖBLINGEN-SINDELFINGEN
SUMMARY:Französisch, B1 (V42365021) 
LOCATION:HO, Haus am Ziegelhof, Eingang: Betreutes Wohnen, vhs-Seminarraum, Eberhardstr. 21, 71088 Holzgerlingen
END:VEVENT
BEGIN:VEVENT
DTSTAMP:20260421T005010
DTSTART;TZID=Europe/Berlin:20260416T143000
DTEND;TZID=Europe/Berlin:20260416T160000
UID:V42365021-20260416T143000@VHSBÖBLINGEN-SINDELFINGEN
SUMMARY:Französisch, B1 (V42365021) 
LOCATION:HO, Haus am Ziegelhof, Eingang: Betreutes Wohnen, vhs-Seminarraum, Eberhardstr. 21, 71088 Holzgerlingen
END:VEVENT
BEGIN:VEVENT
DTSTAMP:20260421T005010
DTSTART;TZID=Europe/Berlin:20260423T143000
DTEND;TZID=Europe/Berlin:20260423T160000
UID:V42365021-20260423T143000@VHSBÖBLINGEN-SINDELFINGEN
SUMMARY:Französisch, B1 (V42365021) 
LOCATION:HO, Haus am Ziegelhof, Eingang: Betreutes Wohnen, vhs-Seminarraum, Eberhardstr. 21, 71088 Holzgerlingen
END:VEVENT
BEGIN:VEVENT
DTSTAMP:20260421T005010
DTSTART;TZID=Europe/Berlin:20260430T143000
DTEND;TZID=Europe/Berlin:20260430T160000
UID:V42365021-20260430T143000@VHSBÖBLINGEN-SINDELFINGEN
SUMMARY:Französisch, B1 (V42365021) 
LOCATION:HO, Haus am Ziegelhof, Eingang: Betreutes Wohnen, vhs-Seminarraum, Eberhardstr. 21, 71088 Holzgerlingen
END:VEVENT
BEGIN:VEVENT
DTSTAMP:20260421T005010
DTSTART;TZID=Europe/Berlin:20260507T143000
DTEND;TZID=Europe/Berlin:20260507T160000
UID:V42365021-20260507T143000@VHSBÖBLINGEN-SINDELFINGEN
SUMMARY:Französisch, B1 (V42365021) 
LOCATION:HO, Haus am Ziegelhof, Eingang: Betreutes Wohnen, vhs-Seminarraum, Eberhardstr. 21, 71088 Holzgerlingen
END:VEVENT
BEGIN:VEVENT
DTSTAMP:20260421T005010
DTSTART;TZID=Europe/Berlin:20260521T143000
DTEND;TZID=Europe/Berlin:20260521T160000
UID:V42365021-20260521T143000@VHSBÖBLINGEN-SINDELFINGEN
SUMMARY:Französisch, B1 (V42365021) 
LOCATION:HO, Haus am Ziegelhof, Eingang: Betreutes Wohnen, vhs-Seminarraum, Eberhardstr. 21, 71088 Holzgerlingen
END:VEVENT
END:VCALENDAR