BEGIN:VCALENDAR
VERSION:2.0
PRODID:https://www.kufer.de/kuferweb / DE
METHOD:PUBLISH
CALSCALE:GREGORIAN
X-WR-TIMEZONE:Europe/Berlin
BEGIN:VTIMEZONE
TZID:Europe/Berlin
X-LIC-LOCATION:Europe/Berlin
BEGIN:DAYLIGHT
TZOFFSETFROM:+0100
TZOFFSETTO:+0200
TZNAME:CEST
DTSTART:19700329T020000
RRULE:FREQ=YEARLY;INTERVAL=1;BYDAY=-1SU;BYMONTH=3
END:DAYLIGHT
BEGIN:STANDARD
TZOFFSETFROM:+0200
TZOFFSETTO:+0100
TZNAME:CET
DTSTART:19701025T030000
RRULE:FREQ=YEARLY;INTERVAL=1;BYDAY=-1SU;BYMONTH=10
END:STANDARD
END:VTIMEZONE
BEGIN:VEVENT
DTSTAMP:20260421T005116
DTSTART;TZID=Europe/Berlin:20260310T183000
DTEND;TZID=Europe/Berlin:20260310T204500
UID:V41941010-20260310T183000@VHSBÖBLINGEN-SINDELFINGEN
SUMMARY:Englisch B2, Business English (V41941010) 
LOCATION:Höfle, 105, 1. OG, Pestalozzistr. 4, 71032 Böblingen
END:VEVENT
BEGIN:VEVENT
DTSTAMP:20260421T005116
DTSTART;TZID=Europe/Berlin:20260317T183000
DTEND;TZID=Europe/Berlin:20260317T204500
UID:V41941010-20260317T183000@VHSBÖBLINGEN-SINDELFINGEN
SUMMARY:Englisch B2, Business English (V41941010) 
LOCATION:Höfle, 105, 1. OG, Pestalozzistr. 4, 71032 Böblingen
END:VEVENT
BEGIN:VEVENT
DTSTAMP:20260421T005116
DTSTART;TZID=Europe/Berlin:20260324T183000
DTEND;TZID=Europe/Berlin:20260324T204500
UID:V41941010-20260324T183000@VHSBÖBLINGEN-SINDELFINGEN
SUMMARY:Englisch B2, Business English (V41941010) 
LOCATION:Höfle, 105, 1. OG, Pestalozzistr. 4, 71032 Böblingen
END:VEVENT
BEGIN:VEVENT
DTSTAMP:20260421T005116
DTSTART;TZID=Europe/Berlin:20260414T183000
DTEND;TZID=Europe/Berlin:20260414T204500
UID:V41941010-20260414T183000@VHSBÖBLINGEN-SINDELFINGEN
SUMMARY:Englisch B2, Business English (V41941010) 
LOCATION:Höfle, 105, 1. OG, Pestalozzistr. 4, 71032 Böblingen
END:VEVENT
BEGIN:VEVENT
DTSTAMP:20260421T005116
DTSTART;TZID=Europe/Berlin:20260421T183000
DTEND;TZID=Europe/Berlin:20260421T204500
UID:V41941010-20260421T183000@VHSBÖBLINGEN-SINDELFINGEN
SUMMARY:Englisch B2, Business English (V41941010) 
LOCATION:Höfle, 105, 1. OG, Pestalozzistr. 4, 71032 Böblingen
END:VEVENT
BEGIN:VEVENT
DTSTAMP:20260421T005116
DTSTART;TZID=Europe/Berlin:20260428T183000
DTEND;TZID=Europe/Berlin:20260428T204500
UID:V41941010-20260428T183000@VHSBÖBLINGEN-SINDELFINGEN
SUMMARY:Englisch B2, Business English (V41941010) 
LOCATION:Höfle, 105, 1. OG, Pestalozzistr. 4, 71032 Böblingen
END:VEVENT
BEGIN:VEVENT
DTSTAMP:20260421T005116
DTSTART;TZID=Europe/Berlin:20260505T183000
DTEND;TZID=Europe/Berlin:20260505T204500
UID:V41941010-20260505T183000@VHSBÖBLINGEN-SINDELFINGEN
SUMMARY:Englisch B2, Business English (V41941010) 
LOCATION:Höfle, 105, 1. OG, Pestalozzistr. 4, 71032 Böblingen
END:VEVENT
END:VCALENDAR