BEGIN:VCALENDAR
VERSION:2.0
PRODID:https://www.kufer.de/kuferweb / DE
METHOD:PUBLISH
CALSCALE:GREGORIAN
X-WR-TIMEZONE:Europe/Berlin
BEGIN:VTIMEZONE
TZID:Europe/Berlin
X-LIC-LOCATION:Europe/Berlin
BEGIN:DAYLIGHT
TZOFFSETFROM:+0100
TZOFFSETTO:+0200
TZNAME:CEST
DTSTART:19700329T020000
RRULE:FREQ=YEARLY;INTERVAL=1;BYDAY=-1SU;BYMONTH=3
END:DAYLIGHT
BEGIN:STANDARD
TZOFFSETFROM:+0200
TZOFFSETTO:+0100
TZNAME:CET
DTSTART:19701025T030000
RRULE:FREQ=YEARLY;INTERVAL=1;BYDAY=-1SU;BYMONTH=10
END:STANDARD
END:VTIMEZONE
BEGIN:VEVENT
DTSTAMP:20260422T013151
DTSTART;TZID=Europe/Berlin:20260907T100000
DTEND;TZID=Europe/Berlin:20260907T113000
UID:V41873010J-20260907T100000@VHSBÖBLINGEN-SINDELFINGEN
SUMMARY:Next Level English  for ages 10 - 12 (V41873010J) 
LOCATION:Höfle, 105, 1. OG, Pestalozzistr. 4, 71032 Böblingen
END:VEVENT
BEGIN:VEVENT
DTSTAMP:20260422T013151
DTSTART;TZID=Europe/Berlin:20260908T100000
DTEND;TZID=Europe/Berlin:20260908T113000
UID:V41873010J-20260908T100000@VHSBÖBLINGEN-SINDELFINGEN
SUMMARY:Next Level English  for ages 10 - 12 (V41873010J) 
LOCATION:Höfle, 105, 1. OG, Pestalozzistr. 4, 71032 Böblingen
END:VEVENT
BEGIN:VEVENT
DTSTAMP:20260422T013151
DTSTART;TZID=Europe/Berlin:20260909T100000
DTEND;TZID=Europe/Berlin:20260909T113000
UID:V41873010J-20260909T100000@VHSBÖBLINGEN-SINDELFINGEN
SUMMARY:Next Level English  for ages 10 - 12 (V41873010J) 
LOCATION:Höfle, 105, 1. OG, Pestalozzistr. 4, 71032 Böblingen
END:VEVENT
BEGIN:VEVENT
DTSTAMP:20260422T013151
DTSTART;TZID=Europe/Berlin:20260910T100000
DTEND;TZID=Europe/Berlin:20260910T113000
UID:V41873010J-20260910T100000@VHSBÖBLINGEN-SINDELFINGEN
SUMMARY:Next Level English  for ages 10 - 12 (V41873010J) 
LOCATION:Höfle, 105, 1. OG, Pestalozzistr. 4, 71032 Böblingen
END:VEVENT
BEGIN:VEVENT
DTSTAMP:20260422T013151
DTSTART;TZID=Europe/Berlin:20260911T100000
DTEND;TZID=Europe/Berlin:20260911T113000
UID:V41873010J-20260911T100000@VHSBÖBLINGEN-SINDELFINGEN
SUMMARY:Next Level English  for ages 10 - 12 (V41873010J) 
LOCATION:Höfle, 105, 1. OG, Pestalozzistr. 4, 71032 Böblingen
END:VEVENT
END:VCALENDAR