BEGIN:VCALENDAR
VERSION:2.0
PRODID:https://www.kufer.de/kuferweb / DE
METHOD:PUBLISH
CALSCALE:GREGORIAN
X-WR-TIMEZONE:Europe/Berlin
BEGIN:VTIMEZONE
TZID:Europe/Berlin
X-LIC-LOCATION:Europe/Berlin
BEGIN:DAYLIGHT
TZOFFSETFROM:+0100
TZOFFSETTO:+0200
TZNAME:CEST
DTSTART:19700329T020000
RRULE:FREQ=YEARLY;INTERVAL=1;BYDAY=-1SU;BYMONTH=3
END:DAYLIGHT
BEGIN:STANDARD
TZOFFSETFROM:+0200
TZOFFSETTO:+0100
TZNAME:CET
DTSTART:19701025T030000
RRULE:FREQ=YEARLY;INTERVAL=1;BYDAY=-1SU;BYMONTH=10
END:STANDARD
END:VTIMEZONE
BEGIN:VEVENT
DTSTAMP:20260421T125940
DTSTART;TZID=Europe/Berlin:20260310T164000
DTEND;TZID=Europe/Berlin:20260310T181000
UID:V41872110K-20260310T164000@VHSBÖBLINGEN-SINDELFINGEN
SUMMARY:Englisch für Grundschulkinder  3. und 4. Klasse (V41872110K) 
LOCATION:Höfle, 105, 1. OG, Pestalozzistr. 4, 71032 Böblingen
END:VEVENT
BEGIN:VEVENT
DTSTAMP:20260421T125940
DTSTART;TZID=Europe/Berlin:20260317T164000
DTEND;TZID=Europe/Berlin:20260317T181000
UID:V41872110K-20260317T164000@VHSBÖBLINGEN-SINDELFINGEN
SUMMARY:Englisch für Grundschulkinder  3. und 4. Klasse (V41872110K) 
LOCATION:Höfle, 105, 1. OG, Pestalozzistr. 4, 71032 Böblingen
END:VEVENT
BEGIN:VEVENT
DTSTAMP:20260421T125940
DTSTART;TZID=Europe/Berlin:20260324T164000
DTEND;TZID=Europe/Berlin:20260324T181000
UID:V41872110K-20260324T164000@VHSBÖBLINGEN-SINDELFINGEN
SUMMARY:Englisch für Grundschulkinder  3. und 4. Klasse (V41872110K) 
LOCATION:Höfle, 105, 1. OG, Pestalozzistr. 4, 71032 Böblingen
END:VEVENT
BEGIN:VEVENT
DTSTAMP:20260421T125940
DTSTART;TZID=Europe/Berlin:20260421T164000
DTEND;TZID=Europe/Berlin:20260421T181000
UID:V41872110K-20260421T164000@VHSBÖBLINGEN-SINDELFINGEN
SUMMARY:Englisch für Grundschulkinder  3. und 4. Klasse (V41872110K) 
LOCATION:Höfle, 105, 1. OG, Pestalozzistr. 4, 71032 Böblingen
END:VEVENT
BEGIN:VEVENT
DTSTAMP:20260421T125940
DTSTART;TZID=Europe/Berlin:20260428T164000
DTEND;TZID=Europe/Berlin:20260428T181000
UID:V41872110K-20260428T164000@VHSBÖBLINGEN-SINDELFINGEN
SUMMARY:Englisch für Grundschulkinder  3. und 4. Klasse (V41872110K) 
LOCATION:Höfle, 105, 1. OG, Pestalozzistr. 4, 71032 Böblingen
END:VEVENT
BEGIN:VEVENT
DTSTAMP:20260421T125940
DTSTART;TZID=Europe/Berlin:20260505T164000
DTEND;TZID=Europe/Berlin:20260505T181000
UID:V41872110K-20260505T164000@VHSBÖBLINGEN-SINDELFINGEN
SUMMARY:Englisch für Grundschulkinder  3. und 4. Klasse (V41872110K) 
LOCATION:Höfle, 105, 1. OG, Pestalozzistr. 4, 71032 Böblingen
END:VEVENT
BEGIN:VEVENT
DTSTAMP:20260421T125940
DTSTART;TZID=Europe/Berlin:20260512T164000
DTEND;TZID=Europe/Berlin:20260512T181000
UID:V41872110K-20260512T164000@VHSBÖBLINGEN-SINDELFINGEN
SUMMARY:Englisch für Grundschulkinder  3. und 4. Klasse (V41872110K) 
LOCATION:Höfle, 105, 1. OG, Pestalozzistr. 4, 71032 Böblingen
END:VEVENT
BEGIN:VEVENT
DTSTAMP:20260421T125940
DTSTART;TZID=Europe/Berlin:20260519T164000
DTEND;TZID=Europe/Berlin:20260519T181000
UID:V41872110K-20260519T164000@VHSBÖBLINGEN-SINDELFINGEN
SUMMARY:Englisch für Grundschulkinder  3. und 4. Klasse (V41872110K) 
LOCATION:Höfle, 105, 1. OG, Pestalozzistr. 4, 71032 Böblingen
END:VEVENT
BEGIN:VEVENT
DTSTAMP:20260421T125940
DTSTART;TZID=Europe/Berlin:20260609T164000
DTEND;TZID=Europe/Berlin:20260609T181000
UID:V41872110K-20260609T164000@VHSBÖBLINGEN-SINDELFINGEN
SUMMARY:Englisch für Grundschulkinder  3. und 4. Klasse (V41872110K) 
LOCATION:Höfle, 105, 1. OG, Pestalozzistr. 4, 71032 Böblingen
END:VEVENT
BEGIN:VEVENT
DTSTAMP:20260421T125940
DTSTART;TZID=Europe/Berlin:20260616T164000
DTEND;TZID=Europe/Berlin:20260616T181000
UID:V41872110K-20260616T164000@VHSBÖBLINGEN-SINDELFINGEN
SUMMARY:Englisch für Grundschulkinder  3. und 4. Klasse (V41872110K) 
LOCATION:Höfle, 105, 1. OG, Pestalozzistr. 4, 71032 Böblingen
END:VEVENT
BEGIN:VEVENT
DTSTAMP:20260421T125940
DTSTART;TZID=Europe/Berlin:20260623T164000
DTEND;TZID=Europe/Berlin:20260623T181000
UID:V41872110K-20260623T164000@VHSBÖBLINGEN-SINDELFINGEN
SUMMARY:Englisch für Grundschulkinder  3. und 4. Klasse (V41872110K) 
LOCATION:Höfle, 105, 1. OG, Pestalozzistr. 4, 71032 Böblingen
END:VEVENT
END:VCALENDAR