BEGIN:VCALENDAR
VERSION:2.0
PRODID:https://www.kufer.de/kuferweb / DE
METHOD:PUBLISH
CALSCALE:GREGORIAN
X-WR-TIMEZONE:Europe/Berlin
BEGIN:VTIMEZONE
TZID:Europe/Berlin
X-LIC-LOCATION:Europe/Berlin
BEGIN:DAYLIGHT
TZOFFSETFROM:+0100
TZOFFSETTO:+0200
TZNAME:CEST
DTSTART:19700329T020000
RRULE:FREQ=YEARLY;INTERVAL=1;BYDAY=-1SU;BYMONTH=3
END:DAYLIGHT
BEGIN:STANDARD
TZOFFSETFROM:+0200
TZOFFSETTO:+0100
TZNAME:CET
DTSTART:19701025T030000
RRULE:FREQ=YEARLY;INTERVAL=1;BYDAY=-1SU;BYMONTH=10
END:STANDARD
END:VTIMEZONE
BEGIN:VEVENT
DTSTAMP:20260421T023653
DTSTART;TZID=Europe/Berlin:20260310T144000
DTEND;TZID=Europe/Berlin:20260310T154000
UID:V41871310K-20260310T144000@VHSBÖBLINGEN-SINDELFINGEN
SUMMARY:Englisch für Kinder der Grundschule Königsknoll  1. und 2. Klasse (V41871310K) 
LOCATION:Königsknoll GS, ___, Wengertstr. 3, 71063 Sindelfingen
END:VEVENT
BEGIN:VEVENT
DTSTAMP:20260421T023653
DTSTART;TZID=Europe/Berlin:20260317T144000
DTEND;TZID=Europe/Berlin:20260317T154000
UID:V41871310K-20260317T144000@VHSBÖBLINGEN-SINDELFINGEN
SUMMARY:Englisch für Kinder der Grundschule Königsknoll  1. und 2. Klasse (V41871310K) 
LOCATION:Königsknoll GS, ___, Wengertstr. 3, 71063 Sindelfingen
END:VEVENT
BEGIN:VEVENT
DTSTAMP:20260421T023653
DTSTART;TZID=Europe/Berlin:20260324T144000
DTEND;TZID=Europe/Berlin:20260324T154000
UID:V41871310K-20260324T144000@VHSBÖBLINGEN-SINDELFINGEN
SUMMARY:Englisch für Kinder der Grundschule Königsknoll  1. und 2. Klasse (V41871310K) 
LOCATION:Königsknoll GS, ___, Wengertstr. 3, 71063 Sindelfingen
END:VEVENT
BEGIN:VEVENT
DTSTAMP:20260421T023653
DTSTART;TZID=Europe/Berlin:20260414T144000
DTEND;TZID=Europe/Berlin:20260414T154000
UID:V41871310K-20260414T144000@VHSBÖBLINGEN-SINDELFINGEN
SUMMARY:Englisch für Kinder der Grundschule Königsknoll  1. und 2. Klasse (V41871310K) 
LOCATION:Königsknoll GS, ___, Wengertstr. 3, 71063 Sindelfingen
END:VEVENT
BEGIN:VEVENT
DTSTAMP:20260421T023653
DTSTART;TZID=Europe/Berlin:20260421T144000
DTEND;TZID=Europe/Berlin:20260421T154000
UID:V41871310K-20260421T144000@VHSBÖBLINGEN-SINDELFINGEN
SUMMARY:Englisch für Kinder der Grundschule Königsknoll  1. und 2. Klasse (V41871310K) 
LOCATION:Königsknoll GS, ___, Wengertstr. 3, 71063 Sindelfingen
END:VEVENT
BEGIN:VEVENT
DTSTAMP:20260421T023653
DTSTART;TZID=Europe/Berlin:20260428T144000
DTEND;TZID=Europe/Berlin:20260428T154000
UID:V41871310K-20260428T144000@VHSBÖBLINGEN-SINDELFINGEN
SUMMARY:Englisch für Kinder der Grundschule Königsknoll  1. und 2. Klasse (V41871310K) 
LOCATION:Königsknoll GS, ___, Wengertstr. 3, 71063 Sindelfingen
END:VEVENT
BEGIN:VEVENT
DTSTAMP:20260421T023653
DTSTART;TZID=Europe/Berlin:20260505T144000
DTEND;TZID=Europe/Berlin:20260505T154000
UID:V41871310K-20260505T144000@VHSBÖBLINGEN-SINDELFINGEN
SUMMARY:Englisch für Kinder der Grundschule Königsknoll  1. und 2. Klasse (V41871310K) 
LOCATION:Königsknoll GS, ___, Wengertstr. 3, 71063 Sindelfingen
END:VEVENT
BEGIN:VEVENT
DTSTAMP:20260421T023653
DTSTART;TZID=Europe/Berlin:20260512T144000
DTEND;TZID=Europe/Berlin:20260512T154000
UID:V41871310K-20260512T144000@VHSBÖBLINGEN-SINDELFINGEN
SUMMARY:Englisch für Kinder der Grundschule Königsknoll  1. und 2. Klasse (V41871310K) 
LOCATION:Königsknoll GS, ___, Wengertstr. 3, 71063 Sindelfingen
END:VEVENT
BEGIN:VEVENT
DTSTAMP:20260421T023653
DTSTART;TZID=Europe/Berlin:20260519T144000
DTEND;TZID=Europe/Berlin:20260519T154000
UID:V41871310K-20260519T144000@VHSBÖBLINGEN-SINDELFINGEN
SUMMARY:Englisch für Kinder der Grundschule Königsknoll  1. und 2. Klasse (V41871310K) 
LOCATION:Königsknoll GS, ___, Wengertstr. 3, 71063 Sindelfingen
END:VEVENT
BEGIN:VEVENT
DTSTAMP:20260421T023653
DTSTART;TZID=Europe/Berlin:20260609T144000
DTEND;TZID=Europe/Berlin:20260609T154000
UID:V41871310K-20260609T144000@VHSBÖBLINGEN-SINDELFINGEN
SUMMARY:Englisch für Kinder der Grundschule Königsknoll  1. und 2. Klasse (V41871310K) 
LOCATION:Königsknoll GS, ___, Wengertstr. 3, 71063 Sindelfingen
END:VEVENT
BEGIN:VEVENT
DTSTAMP:20260421T023653
DTSTART;TZID=Europe/Berlin:20260616T144000
DTEND;TZID=Europe/Berlin:20260616T154000
UID:V41871310K-20260616T144000@VHSBÖBLINGEN-SINDELFINGEN
SUMMARY:Englisch für Kinder der Grundschule Königsknoll  1. und 2. Klasse (V41871310K) 
LOCATION:Königsknoll GS, ___, Wengertstr. 3, 71063 Sindelfingen
END:VEVENT
BEGIN:VEVENT
DTSTAMP:20260421T023653
DTSTART;TZID=Europe/Berlin:20260623T144000
DTEND;TZID=Europe/Berlin:20260623T154000
UID:V41871310K-20260623T144000@VHSBÖBLINGEN-SINDELFINGEN
SUMMARY:Englisch für Kinder der Grundschule Königsknoll  1. und 2. Klasse (V41871310K) 
LOCATION:Königsknoll GS, ___, Wengertstr. 3, 71063 Sindelfingen
END:VEVENT
END:VCALENDAR