BEGIN:VCALENDAR
VERSION:2.0
PRODID:https://www.kufer.de/kuferweb / DE
METHOD:PUBLISH
CALSCALE:GREGORIAN
X-WR-TIMEZONE:Europe/Berlin
BEGIN:VTIMEZONE
TZID:Europe/Berlin
X-LIC-LOCATION:Europe/Berlin
BEGIN:DAYLIGHT
TZOFFSETFROM:+0100
TZOFFSETTO:+0200
TZNAME:CEST
DTSTART:19700329T020000
RRULE:FREQ=YEARLY;INTERVAL=1;BYDAY=-1SU;BYMONTH=3
END:DAYLIGHT
BEGIN:STANDARD
TZOFFSETFROM:+0200
TZOFFSETTO:+0100
TZNAME:CET
DTSTART:19701025T030000
RRULE:FREQ=YEARLY;INTERVAL=1;BYDAY=-1SU;BYMONTH=10
END:STANDARD
END:VTIMEZONE
BEGIN:VEVENT
DTSTAMP:20260421T023648
DTSTART;TZID=Europe/Berlin:20260310T133000
DTEND;TZID=Europe/Berlin:20260310T143000
UID:V41871210K-20260310T133000@VHSBÖBLINGEN-SINDELFINGEN
SUMMARY:Englisch für Kinder der Grundschule Königsknoll  1. und 2. Klasse (V41871210K) 
LOCATION:Königsknoll GS, ___, Wengertstr. 3, 71063 Sindelfingen
END:VEVENT
BEGIN:VEVENT
DTSTAMP:20260421T023648
DTSTART;TZID=Europe/Berlin:20260317T133000
DTEND;TZID=Europe/Berlin:20260317T143000
UID:V41871210K-20260317T133000@VHSBÖBLINGEN-SINDELFINGEN
SUMMARY:Englisch für Kinder der Grundschule Königsknoll  1. und 2. Klasse (V41871210K) 
LOCATION:Königsknoll GS, ___, Wengertstr. 3, 71063 Sindelfingen
END:VEVENT
BEGIN:VEVENT
DTSTAMP:20260421T023648
DTSTART;TZID=Europe/Berlin:20260324T133000
DTEND;TZID=Europe/Berlin:20260324T143000
UID:V41871210K-20260324T133000@VHSBÖBLINGEN-SINDELFINGEN
SUMMARY:Englisch für Kinder der Grundschule Königsknoll  1. und 2. Klasse (V41871210K) 
LOCATION:Königsknoll GS, ___, Wengertstr. 3, 71063 Sindelfingen
END:VEVENT
BEGIN:VEVENT
DTSTAMP:20260421T023648
DTSTART;TZID=Europe/Berlin:20260414T133000
DTEND;TZID=Europe/Berlin:20260414T143000
UID:V41871210K-20260414T133000@VHSBÖBLINGEN-SINDELFINGEN
SUMMARY:Englisch für Kinder der Grundschule Königsknoll  1. und 2. Klasse (V41871210K) 
LOCATION:Königsknoll GS, ___, Wengertstr. 3, 71063 Sindelfingen
END:VEVENT
BEGIN:VEVENT
DTSTAMP:20260421T023648
DTSTART;TZID=Europe/Berlin:20260421T133000
DTEND;TZID=Europe/Berlin:20260421T143000
UID:V41871210K-20260421T133000@VHSBÖBLINGEN-SINDELFINGEN
SUMMARY:Englisch für Kinder der Grundschule Königsknoll  1. und 2. Klasse (V41871210K) 
LOCATION:Königsknoll GS, ___, Wengertstr. 3, 71063 Sindelfingen
END:VEVENT
BEGIN:VEVENT
DTSTAMP:20260421T023648
DTSTART;TZID=Europe/Berlin:20260428T133000
DTEND;TZID=Europe/Berlin:20260428T143000
UID:V41871210K-20260428T133000@VHSBÖBLINGEN-SINDELFINGEN
SUMMARY:Englisch für Kinder der Grundschule Königsknoll  1. und 2. Klasse (V41871210K) 
LOCATION:Königsknoll GS, ___, Wengertstr. 3, 71063 Sindelfingen
END:VEVENT
BEGIN:VEVENT
DTSTAMP:20260421T023648
DTSTART;TZID=Europe/Berlin:20260505T133000
DTEND;TZID=Europe/Berlin:20260505T143000
UID:V41871210K-20260505T133000@VHSBÖBLINGEN-SINDELFINGEN
SUMMARY:Englisch für Kinder der Grundschule Königsknoll  1. und 2. Klasse (V41871210K) 
LOCATION:Königsknoll GS, ___, Wengertstr. 3, 71063 Sindelfingen
END:VEVENT
BEGIN:VEVENT
DTSTAMP:20260421T023648
DTSTART;TZID=Europe/Berlin:20260512T133000
DTEND;TZID=Europe/Berlin:20260512T143000
UID:V41871210K-20260512T133000@VHSBÖBLINGEN-SINDELFINGEN
SUMMARY:Englisch für Kinder der Grundschule Königsknoll  1. und 2. Klasse (V41871210K) 
LOCATION:Königsknoll GS, ___, Wengertstr. 3, 71063 Sindelfingen
END:VEVENT
BEGIN:VEVENT
DTSTAMP:20260421T023648
DTSTART;TZID=Europe/Berlin:20260519T133000
DTEND;TZID=Europe/Berlin:20260519T143000
UID:V41871210K-20260519T133000@VHSBÖBLINGEN-SINDELFINGEN
SUMMARY:Englisch für Kinder der Grundschule Königsknoll  1. und 2. Klasse (V41871210K) 
LOCATION:Königsknoll GS, ___, Wengertstr. 3, 71063 Sindelfingen
END:VEVENT
BEGIN:VEVENT
DTSTAMP:20260421T023648
DTSTART;TZID=Europe/Berlin:20260609T133000
DTEND;TZID=Europe/Berlin:20260609T143000
UID:V41871210K-20260609T133000@VHSBÖBLINGEN-SINDELFINGEN
SUMMARY:Englisch für Kinder der Grundschule Königsknoll  1. und 2. Klasse (V41871210K) 
LOCATION:Königsknoll GS, ___, Wengertstr. 3, 71063 Sindelfingen
END:VEVENT
BEGIN:VEVENT
DTSTAMP:20260421T023648
DTSTART;TZID=Europe/Berlin:20260616T133000
DTEND;TZID=Europe/Berlin:20260616T143000
UID:V41871210K-20260616T133000@VHSBÖBLINGEN-SINDELFINGEN
SUMMARY:Englisch für Kinder der Grundschule Königsknoll  1. und 2. Klasse (V41871210K) 
LOCATION:Königsknoll GS, ___, Wengertstr. 3, 71063 Sindelfingen
END:VEVENT
BEGIN:VEVENT
DTSTAMP:20260421T023648
DTSTART;TZID=Europe/Berlin:20260623T133000
DTEND;TZID=Europe/Berlin:20260623T143000
UID:V41871210K-20260623T133000@VHSBÖBLINGEN-SINDELFINGEN
SUMMARY:Englisch für Kinder der Grundschule Königsknoll  1. und 2. Klasse (V41871210K) 
LOCATION:Königsknoll GS, ___, Wengertstr. 3, 71063 Sindelfingen
END:VEVENT
END:VCALENDAR