BEGIN:VCALENDAR
VERSION:2.0
PRODID:https://www.kufer.de/kuferweb / DE
METHOD:PUBLISH
CALSCALE:GREGORIAN
X-WR-TIMEZONE:Europe/Berlin
BEGIN:VTIMEZONE
TZID:Europe/Berlin
X-LIC-LOCATION:Europe/Berlin
BEGIN:DAYLIGHT
TZOFFSETFROM:+0100
TZOFFSETTO:+0200
TZNAME:CEST
DTSTART:19700329T020000
RRULE:FREQ=YEARLY;INTERVAL=1;BYDAY=-1SU;BYMONTH=3
END:DAYLIGHT
BEGIN:STANDARD
TZOFFSETFROM:+0200
TZOFFSETTO:+0100
TZNAME:CET
DTSTART:19701025T030000
RRULE:FREQ=YEARLY;INTERVAL=1;BYDAY=-1SU;BYMONTH=10
END:STANDARD
END:VTIMEZONE
BEGIN:VEVENT
DTSTAMP:20260421T130807
DTSTART;TZID=Europe/Berlin:20260309T154500
DTEND;TZID=Europe/Berlin:20260309T164500
UID:V41871010K-20260309T154500@VHSBÖBLINGEN-SINDELFINGEN
SUMMARY:Englisch für Grundschulkinder 1. und 2. Klasse (V41871010K) 
LOCATION:Höfle, 105, 1. OG, Pestalozzistr. 4, 71032 Böblingen
END:VEVENT
BEGIN:VEVENT
DTSTAMP:20260421T130807
DTSTART;TZID=Europe/Berlin:20260316T154500
DTEND;TZID=Europe/Berlin:20260316T164500
UID:V41871010K-20260316T154500@VHSBÖBLINGEN-SINDELFINGEN
SUMMARY:Englisch für Grundschulkinder 1. und 2. Klasse (V41871010K) 
LOCATION:Höfle, 105, 1. OG, Pestalozzistr. 4, 71032 Böblingen
END:VEVENT
BEGIN:VEVENT
DTSTAMP:20260421T130807
DTSTART;TZID=Europe/Berlin:20260323T154500
DTEND;TZID=Europe/Berlin:20260323T164500
UID:V41871010K-20260323T154500@VHSBÖBLINGEN-SINDELFINGEN
SUMMARY:Englisch für Grundschulkinder 1. und 2. Klasse (V41871010K) 
LOCATION:Höfle, 105, 1. OG, Pestalozzistr. 4, 71032 Böblingen
END:VEVENT
BEGIN:VEVENT
DTSTAMP:20260421T130807
DTSTART;TZID=Europe/Berlin:20260413T154500
DTEND;TZID=Europe/Berlin:20260413T164500
UID:V41871010K-20260413T154500@VHSBÖBLINGEN-SINDELFINGEN
SUMMARY:Englisch für Grundschulkinder 1. und 2. Klasse (V41871010K) 
LOCATION:Höfle, 105, 1. OG, Pestalozzistr. 4, 71032 Böblingen
END:VEVENT
BEGIN:VEVENT
DTSTAMP:20260421T130807
DTSTART;TZID=Europe/Berlin:20260420T154500
DTEND;TZID=Europe/Berlin:20260420T164500
UID:V41871010K-20260420T154500@VHSBÖBLINGEN-SINDELFINGEN
SUMMARY:Englisch für Grundschulkinder 1. und 2. Klasse (V41871010K) 
LOCATION:Höfle, 105, 1. OG, Pestalozzistr. 4, 71032 Böblingen
END:VEVENT
BEGIN:VEVENT
DTSTAMP:20260421T130807
DTSTART;TZID=Europe/Berlin:20260427T154500
DTEND;TZID=Europe/Berlin:20260427T164500
UID:V41871010K-20260427T154500@VHSBÖBLINGEN-SINDELFINGEN
SUMMARY:Englisch für Grundschulkinder 1. und 2. Klasse (V41871010K) 
LOCATION:Höfle, 105, 1. OG, Pestalozzistr. 4, 71032 Böblingen
END:VEVENT
BEGIN:VEVENT
DTSTAMP:20260421T130807
DTSTART;TZID=Europe/Berlin:20260504T154500
DTEND;TZID=Europe/Berlin:20260504T164500
UID:V41871010K-20260504T154500@VHSBÖBLINGEN-SINDELFINGEN
SUMMARY:Englisch für Grundschulkinder 1. und 2. Klasse (V41871010K) 
LOCATION:Höfle, 105, 1. OG, Pestalozzistr. 4, 71032 Böblingen
END:VEVENT
BEGIN:VEVENT
DTSTAMP:20260421T130807
DTSTART;TZID=Europe/Berlin:20260511T154500
DTEND;TZID=Europe/Berlin:20260511T164500
UID:V41871010K-20260511T154500@VHSBÖBLINGEN-SINDELFINGEN
SUMMARY:Englisch für Grundschulkinder 1. und 2. Klasse (V41871010K) 
LOCATION:Höfle, 105, 1. OG, Pestalozzistr. 4, 71032 Böblingen
END:VEVENT
BEGIN:VEVENT
DTSTAMP:20260421T130807
DTSTART;TZID=Europe/Berlin:20260518T154500
DTEND;TZID=Europe/Berlin:20260518T164500
UID:V41871010K-20260518T154500@VHSBÖBLINGEN-SINDELFINGEN
SUMMARY:Englisch für Grundschulkinder 1. und 2. Klasse (V41871010K) 
LOCATION:Höfle, 105, 1. OG, Pestalozzistr. 4, 71032 Böblingen
END:VEVENT
BEGIN:VEVENT
DTSTAMP:20260421T130807
DTSTART;TZID=Europe/Berlin:20260608T154500
DTEND;TZID=Europe/Berlin:20260608T164500
UID:V41871010K-20260608T154500@VHSBÖBLINGEN-SINDELFINGEN
SUMMARY:Englisch für Grundschulkinder 1. und 2. Klasse (V41871010K) 
LOCATION:Höfle, 105, 1. OG, Pestalozzistr. 4, 71032 Böblingen
END:VEVENT
BEGIN:VEVENT
DTSTAMP:20260421T130807
DTSTART;TZID=Europe/Berlin:20260615T154500
DTEND;TZID=Europe/Berlin:20260615T164500
UID:V41871010K-20260615T154500@VHSBÖBLINGEN-SINDELFINGEN
SUMMARY:Englisch für Grundschulkinder 1. und 2. Klasse (V41871010K) 
LOCATION:Höfle, 105, 1. OG, Pestalozzistr. 4, 71032 Böblingen
END:VEVENT
BEGIN:VEVENT
DTSTAMP:20260421T130807
DTSTART;TZID=Europe/Berlin:20260622T154500
DTEND;TZID=Europe/Berlin:20260622T164500
UID:V41871010K-20260622T154500@VHSBÖBLINGEN-SINDELFINGEN
SUMMARY:Englisch für Grundschulkinder 1. und 2. Klasse (V41871010K) 
LOCATION:Höfle, 105, 1. OG, Pestalozzistr. 4, 71032 Böblingen
END:VEVENT
END:VCALENDAR