BEGIN:VCALENDAR
VERSION:2.0
PRODID:https://www.kufer.de/kuferweb / DE
METHOD:PUBLISH
CALSCALE:GREGORIAN
X-WR-TIMEZONE:Europe/Berlin
BEGIN:VTIMEZONE
TZID:Europe/Berlin
X-LIC-LOCATION:Europe/Berlin
BEGIN:DAYLIGHT
TZOFFSETFROM:+0100
TZOFFSETTO:+0200
TZNAME:CEST
DTSTART:19700329T020000
RRULE:FREQ=YEARLY;INTERVAL=1;BYDAY=-1SU;BYMONTH=3
END:DAYLIGHT
BEGIN:STANDARD
TZOFFSETFROM:+0200
TZOFFSETTO:+0100
TZNAME:CET
DTSTART:19701025T030000
RRULE:FREQ=YEARLY;INTERVAL=1;BYDAY=-1SU;BYMONTH=10
END:STANDARD
END:VTIMEZONE
BEGIN:VEVENT
DTSTAMP:20260421T043127
DTSTART;TZID=Europe/Berlin:20260313T172000
DTEND;TZID=Europe/Berlin:20260313T180500
UID:V41870910K-20260313T172000@VHSBÖBLINGEN-SINDELFINGEN
SUMMARY:English for Fun  für Kindergartenkinder ab 3 Jahren (V41870910K) 
LOCATION:Höfle, Saal, 107, 1. OG, Pestalozzistr. 4, 71032 Böblingen
END:VEVENT
BEGIN:VEVENT
DTSTAMP:20260421T043127
DTSTART;TZID=Europe/Berlin:20260320T172000
DTEND;TZID=Europe/Berlin:20260320T180500
UID:V41870910K-20260320T172000@VHSBÖBLINGEN-SINDELFINGEN
SUMMARY:English for Fun  für Kindergartenkinder ab 3 Jahren (V41870910K) 
LOCATION:Höfle, Saal, 107, 1. OG, Pestalozzistr. 4, 71032 Böblingen
END:VEVENT
BEGIN:VEVENT
DTSTAMP:20260421T043127
DTSTART;TZID=Europe/Berlin:20260327T172000
DTEND;TZID=Europe/Berlin:20260327T180500
UID:V41870910K-20260327T172000@VHSBÖBLINGEN-SINDELFINGEN
SUMMARY:English for Fun  für Kindergartenkinder ab 3 Jahren (V41870910K) 
LOCATION:Höfle, Saal, 107, 1. OG, Pestalozzistr. 4, 71032 Böblingen
END:VEVENT
BEGIN:VEVENT
DTSTAMP:20260421T043127
DTSTART;TZID=Europe/Berlin:20260417T172000
DTEND;TZID=Europe/Berlin:20260417T180500
UID:V41870910K-20260417T172000@VHSBÖBLINGEN-SINDELFINGEN
SUMMARY:English for Fun  für Kindergartenkinder ab 3 Jahren (V41870910K) 
LOCATION:Höfle, Saal, 107, 1. OG, Pestalozzistr. 4, 71032 Böblingen
END:VEVENT
BEGIN:VEVENT
DTSTAMP:20260421T043127
DTSTART;TZID=Europe/Berlin:20260424T172000
DTEND;TZID=Europe/Berlin:20260424T180500
UID:V41870910K-20260424T172000@VHSBÖBLINGEN-SINDELFINGEN
SUMMARY:English for Fun  für Kindergartenkinder ab 3 Jahren (V41870910K) 
LOCATION:Höfle, Saal, 107, 1. OG, Pestalozzistr. 4, 71032 Böblingen
END:VEVENT
BEGIN:VEVENT
DTSTAMP:20260421T043127
DTSTART;TZID=Europe/Berlin:20260508T172000
DTEND;TZID=Europe/Berlin:20260508T180500
UID:V41870910K-20260508T172000@VHSBÖBLINGEN-SINDELFINGEN
SUMMARY:English for Fun  für Kindergartenkinder ab 3 Jahren (V41870910K) 
LOCATION:Höfle, Saal, 107, 1. OG, Pestalozzistr. 4, 71032 Böblingen
END:VEVENT
BEGIN:VEVENT
DTSTAMP:20260421T043127
DTSTART;TZID=Europe/Berlin:20260522T172000
DTEND;TZID=Europe/Berlin:20260522T180500
UID:V41870910K-20260522T172000@VHSBÖBLINGEN-SINDELFINGEN
SUMMARY:English for Fun  für Kindergartenkinder ab 3 Jahren (V41870910K) 
LOCATION:Höfle, Saal, 107, 1. OG, Pestalozzistr. 4, 71032 Böblingen
END:VEVENT
BEGIN:VEVENT
DTSTAMP:20260421T043127
DTSTART;TZID=Europe/Berlin:20260612T172000
DTEND;TZID=Europe/Berlin:20260612T180500
UID:V41870910K-20260612T172000@VHSBÖBLINGEN-SINDELFINGEN
SUMMARY:English for Fun  für Kindergartenkinder ab 3 Jahren (V41870910K) 
LOCATION:Höfle, Saal, 107, 1. OG, Pestalozzistr. 4, 71032 Böblingen
END:VEVENT
BEGIN:VEVENT
DTSTAMP:20260421T043127
DTSTART;TZID=Europe/Berlin:20260619T172000
DTEND;TZID=Europe/Berlin:20260619T180500
UID:V41870910K-20260619T172000@VHSBÖBLINGEN-SINDELFINGEN
SUMMARY:English for Fun  für Kindergartenkinder ab 3 Jahren (V41870910K) 
LOCATION:Höfle, Saal, 107, 1. OG, Pestalozzistr. 4, 71032 Böblingen
END:VEVENT
BEGIN:VEVENT
DTSTAMP:20260421T043127
DTSTART;TZID=Europe/Berlin:20260626T172000
DTEND;TZID=Europe/Berlin:20260626T180500
UID:V41870910K-20260626T172000@VHSBÖBLINGEN-SINDELFINGEN
SUMMARY:English for Fun  für Kindergartenkinder ab 3 Jahren (V41870910K) 
LOCATION:Höfle, Saal, 107, 1. OG, Pestalozzistr. 4, 71032 Böblingen
END:VEVENT
BEGIN:VEVENT
DTSTAMP:20260421T043127
DTSTART;TZID=Europe/Berlin:20260703T172000
DTEND;TZID=Europe/Berlin:20260703T180500
UID:V41870910K-20260703T172000@VHSBÖBLINGEN-SINDELFINGEN
SUMMARY:English for Fun  für Kindergartenkinder ab 3 Jahren (V41870910K) 
LOCATION:Höfle, Saal, 107, 1. OG, Pestalozzistr. 4, 71032 Böblingen
END:VEVENT
BEGIN:VEVENT
DTSTAMP:20260421T043127
DTSTART;TZID=Europe/Berlin:20260710T172000
DTEND;TZID=Europe/Berlin:20260710T180500
UID:V41870910K-20260710T172000@VHSBÖBLINGEN-SINDELFINGEN
SUMMARY:English for Fun  für Kindergartenkinder ab 3 Jahren (V41870910K) 
LOCATION:Höfle, Saal, 107, 1. OG, Pestalozzistr. 4, 71032 Böblingen
END:VEVENT
END:VCALENDAR