BEGIN:VCALENDAR
VERSION:2.0
PRODID:https://www.kufer.de/kuferweb / DE
METHOD:PUBLISH
CALSCALE:GREGORIAN
X-WR-TIMEZONE:Europe/Berlin
BEGIN:VTIMEZONE
TZID:Europe/Berlin
X-LIC-LOCATION:Europe/Berlin
BEGIN:DAYLIGHT
TZOFFSETFROM:+0100
TZOFFSETTO:+0200
TZNAME:CEST
DTSTART:19700329T020000
RRULE:FREQ=YEARLY;INTERVAL=1;BYDAY=-1SU;BYMONTH=3
END:DAYLIGHT
BEGIN:STANDARD
TZOFFSETFROM:+0200
TZOFFSETTO:+0100
TZNAME:CET
DTSTART:19701025T030000
RRULE:FREQ=YEARLY;INTERVAL=1;BYDAY=-1SU;BYMONTH=10
END:STANDARD
END:VTIMEZONE
BEGIN:VEVENT
DTSTAMP:20260421T043335
DTSTART;TZID=Europe/Berlin:20260313T145000
DTEND;TZID=Europe/Berlin:20260313T153500
UID:V41870610K-20260313T145000@VHSBÖBLINGEN-SINDELFINGEN
SUMMARY:English for Fun  für Kindergartenkinder 5 - 6 Jahre (V41870610K) 
LOCATION:Höfle, Saal, 107, 1. OG, Pestalozzistr. 4, 71032 Böblingen
END:VEVENT
BEGIN:VEVENT
DTSTAMP:20260421T043335
DTSTART;TZID=Europe/Berlin:20260320T145000
DTEND;TZID=Europe/Berlin:20260320T153500
UID:V41870610K-20260320T145000@VHSBÖBLINGEN-SINDELFINGEN
SUMMARY:English for Fun  für Kindergartenkinder 5 - 6 Jahre (V41870610K) 
LOCATION:Höfle, Saal, 107, 1. OG, Pestalozzistr. 4, 71032 Böblingen
END:VEVENT
BEGIN:VEVENT
DTSTAMP:20260421T043335
DTSTART;TZID=Europe/Berlin:20260327T145000
DTEND;TZID=Europe/Berlin:20260327T153500
UID:V41870610K-20260327T145000@VHSBÖBLINGEN-SINDELFINGEN
SUMMARY:English for Fun  für Kindergartenkinder 5 - 6 Jahre (V41870610K) 
LOCATION:Höfle, Saal, 107, 1. OG, Pestalozzistr. 4, 71032 Böblingen
END:VEVENT
BEGIN:VEVENT
DTSTAMP:20260421T043335
DTSTART;TZID=Europe/Berlin:20260417T145000
DTEND;TZID=Europe/Berlin:20260417T153500
UID:V41870610K-20260417T145000@VHSBÖBLINGEN-SINDELFINGEN
SUMMARY:English for Fun  für Kindergartenkinder 5 - 6 Jahre (V41870610K) 
LOCATION:Höfle, Saal, 107, 1. OG, Pestalozzistr. 4, 71032 Böblingen
END:VEVENT
BEGIN:VEVENT
DTSTAMP:20260421T043335
DTSTART;TZID=Europe/Berlin:20260424T145000
DTEND;TZID=Europe/Berlin:20260424T153500
UID:V41870610K-20260424T145000@VHSBÖBLINGEN-SINDELFINGEN
SUMMARY:English for Fun  für Kindergartenkinder 5 - 6 Jahre (V41870610K) 
LOCATION:Höfle, Saal, 107, 1. OG, Pestalozzistr. 4, 71032 Böblingen
END:VEVENT
BEGIN:VEVENT
DTSTAMP:20260421T043335
DTSTART;TZID=Europe/Berlin:20260508T145000
DTEND;TZID=Europe/Berlin:20260508T153500
UID:V41870610K-20260508T145000@VHSBÖBLINGEN-SINDELFINGEN
SUMMARY:English for Fun  für Kindergartenkinder 5 - 6 Jahre (V41870610K) 
LOCATION:Höfle, Saal, 107, 1. OG, Pestalozzistr. 4, 71032 Böblingen
END:VEVENT
BEGIN:VEVENT
DTSTAMP:20260421T043335
DTSTART;TZID=Europe/Berlin:20260522T145000
DTEND;TZID=Europe/Berlin:20260522T153500
UID:V41870610K-20260522T145000@VHSBÖBLINGEN-SINDELFINGEN
SUMMARY:English for Fun  für Kindergartenkinder 5 - 6 Jahre (V41870610K) 
LOCATION:Höfle, Saal, 107, 1. OG, Pestalozzistr. 4, 71032 Böblingen
END:VEVENT
BEGIN:VEVENT
DTSTAMP:20260421T043335
DTSTART;TZID=Europe/Berlin:20260612T145000
DTEND;TZID=Europe/Berlin:20260612T153500
UID:V41870610K-20260612T145000@VHSBÖBLINGEN-SINDELFINGEN
SUMMARY:English for Fun  für Kindergartenkinder 5 - 6 Jahre (V41870610K) 
LOCATION:Höfle, Saal, 107, 1. OG, Pestalozzistr. 4, 71032 Böblingen
END:VEVENT
BEGIN:VEVENT
DTSTAMP:20260421T043335
DTSTART;TZID=Europe/Berlin:20260619T145000
DTEND;TZID=Europe/Berlin:20260619T153500
UID:V41870610K-20260619T145000@VHSBÖBLINGEN-SINDELFINGEN
SUMMARY:English for Fun  für Kindergartenkinder 5 - 6 Jahre (V41870610K) 
LOCATION:Höfle, Saal, 107, 1. OG, Pestalozzistr. 4, 71032 Böblingen
END:VEVENT
BEGIN:VEVENT
DTSTAMP:20260421T043335
DTSTART;TZID=Europe/Berlin:20260626T145000
DTEND;TZID=Europe/Berlin:20260626T153500
UID:V41870610K-20260626T145000@VHSBÖBLINGEN-SINDELFINGEN
SUMMARY:English for Fun  für Kindergartenkinder 5 - 6 Jahre (V41870610K) 
LOCATION:Höfle, Saal, 107, 1. OG, Pestalozzistr. 4, 71032 Böblingen
END:VEVENT
BEGIN:VEVENT
DTSTAMP:20260421T043335
DTSTART;TZID=Europe/Berlin:20260703T145000
DTEND;TZID=Europe/Berlin:20260703T153500
UID:V41870610K-20260703T145000@VHSBÖBLINGEN-SINDELFINGEN
SUMMARY:English for Fun  für Kindergartenkinder 5 - 6 Jahre (V41870610K) 
LOCATION:Höfle, Saal, 107, 1. OG, Pestalozzistr. 4, 71032 Böblingen
END:VEVENT
BEGIN:VEVENT
DTSTAMP:20260421T043335
DTSTART;TZID=Europe/Berlin:20260710T145000
DTEND;TZID=Europe/Berlin:20260710T153500
UID:V41870610K-20260710T145000@VHSBÖBLINGEN-SINDELFINGEN
SUMMARY:English for Fun  für Kindergartenkinder 5 - 6 Jahre (V41870610K) 
LOCATION:Höfle, Saal, 107, 1. OG, Pestalozzistr. 4, 71032 Böblingen
END:VEVENT
END:VCALENDAR