BEGIN:VCALENDAR
VERSION:2.0
PRODID:https://www.kufer.de/kuferweb / DE
METHOD:PUBLISH
CALSCALE:GREGORIAN
X-WR-TIMEZONE:Europe/Berlin
BEGIN:VTIMEZONE
TZID:Europe/Berlin
X-LIC-LOCATION:Europe/Berlin
BEGIN:DAYLIGHT
TZOFFSETFROM:+0100
TZOFFSETTO:+0200
TZNAME:CEST
DTSTART:19700329T020000
RRULE:FREQ=YEARLY;INTERVAL=1;BYDAY=-1SU;BYMONTH=3
END:DAYLIGHT
BEGIN:STANDARD
TZOFFSETFROM:+0200
TZOFFSETTO:+0100
TZNAME:CET
DTSTART:19701025T030000
RRULE:FREQ=YEARLY;INTERVAL=1;BYDAY=-1SU;BYMONTH=10
END:STANDARD
END:VTIMEZONE
BEGIN:VEVENT
DTSTAMP:20260421T074430
DTSTART;TZID=Europe/Berlin:20260313T163000
DTEND;TZID=Europe/Berlin:20260313T171500
UID:V41870410K-20260313T163000@VHSBÖBLINGEN-SINDELFINGEN
SUMMARY:English for Fun  für Kindergartenkinder 3 - 4 Jahre (V41870410K) 
LOCATION:Höfle, Saal, 107, 1. OG, Pestalozzistr. 4, 71032 Böblingen
END:VEVENT
BEGIN:VEVENT
DTSTAMP:20260421T074430
DTSTART;TZID=Europe/Berlin:20260320T163000
DTEND;TZID=Europe/Berlin:20260320T171500
UID:V41870410K-20260320T163000@VHSBÖBLINGEN-SINDELFINGEN
SUMMARY:English for Fun  für Kindergartenkinder 3 - 4 Jahre (V41870410K) 
LOCATION:Höfle, Saal, 107, 1. OG, Pestalozzistr. 4, 71032 Böblingen
END:VEVENT
BEGIN:VEVENT
DTSTAMP:20260421T074430
DTSTART;TZID=Europe/Berlin:20260327T163000
DTEND;TZID=Europe/Berlin:20260327T171500
UID:V41870410K-20260327T163000@VHSBÖBLINGEN-SINDELFINGEN
SUMMARY:English for Fun  für Kindergartenkinder 3 - 4 Jahre (V41870410K) 
LOCATION:Höfle, Saal, 107, 1. OG, Pestalozzistr. 4, 71032 Böblingen
END:VEVENT
BEGIN:VEVENT
DTSTAMP:20260421T074430
DTSTART;TZID=Europe/Berlin:20260417T163000
DTEND;TZID=Europe/Berlin:20260417T171500
UID:V41870410K-20260417T163000@VHSBÖBLINGEN-SINDELFINGEN
SUMMARY:English for Fun  für Kindergartenkinder 3 - 4 Jahre (V41870410K) 
LOCATION:Höfle, Saal, 107, 1. OG, Pestalozzistr. 4, 71032 Böblingen
END:VEVENT
BEGIN:VEVENT
DTSTAMP:20260421T074430
DTSTART;TZID=Europe/Berlin:20260424T163000
DTEND;TZID=Europe/Berlin:20260424T171500
UID:V41870410K-20260424T163000@VHSBÖBLINGEN-SINDELFINGEN
SUMMARY:English for Fun  für Kindergartenkinder 3 - 4 Jahre (V41870410K) 
LOCATION:Höfle, Saal, 107, 1. OG, Pestalozzistr. 4, 71032 Böblingen
END:VEVENT
BEGIN:VEVENT
DTSTAMP:20260421T074430
DTSTART;TZID=Europe/Berlin:20260508T163000
DTEND;TZID=Europe/Berlin:20260508T171500
UID:V41870410K-20260508T163000@VHSBÖBLINGEN-SINDELFINGEN
SUMMARY:English for Fun  für Kindergartenkinder 3 - 4 Jahre (V41870410K) 
LOCATION:Höfle, Saal, 107, 1. OG, Pestalozzistr. 4, 71032 Böblingen
END:VEVENT
BEGIN:VEVENT
DTSTAMP:20260421T074430
DTSTART;TZID=Europe/Berlin:20260522T163000
DTEND;TZID=Europe/Berlin:20260522T171500
UID:V41870410K-20260522T163000@VHSBÖBLINGEN-SINDELFINGEN
SUMMARY:English for Fun  für Kindergartenkinder 3 - 4 Jahre (V41870410K) 
LOCATION:Höfle, Saal, 107, 1. OG, Pestalozzistr. 4, 71032 Böblingen
END:VEVENT
BEGIN:VEVENT
DTSTAMP:20260421T074430
DTSTART;TZID=Europe/Berlin:20260612T163000
DTEND;TZID=Europe/Berlin:20260612T171500
UID:V41870410K-20260612T163000@VHSBÖBLINGEN-SINDELFINGEN
SUMMARY:English for Fun  für Kindergartenkinder 3 - 4 Jahre (V41870410K) 
LOCATION:Höfle, Saal, 107, 1. OG, Pestalozzistr. 4, 71032 Böblingen
END:VEVENT
BEGIN:VEVENT
DTSTAMP:20260421T074430
DTSTART;TZID=Europe/Berlin:20260619T163000
DTEND;TZID=Europe/Berlin:20260619T171500
UID:V41870410K-20260619T163000@VHSBÖBLINGEN-SINDELFINGEN
SUMMARY:English for Fun  für Kindergartenkinder 3 - 4 Jahre (V41870410K) 
LOCATION:Höfle, Saal, 107, 1. OG, Pestalozzistr. 4, 71032 Böblingen
END:VEVENT
BEGIN:VEVENT
DTSTAMP:20260421T074430
DTSTART;TZID=Europe/Berlin:20260626T163000
DTEND;TZID=Europe/Berlin:20260626T171500
UID:V41870410K-20260626T163000@VHSBÖBLINGEN-SINDELFINGEN
SUMMARY:English for Fun  für Kindergartenkinder 3 - 4 Jahre (V41870410K) 
LOCATION:Höfle, Saal, 107, 1. OG, Pestalozzistr. 4, 71032 Böblingen
END:VEVENT
BEGIN:VEVENT
DTSTAMP:20260421T074430
DTSTART;TZID=Europe/Berlin:20260703T163000
DTEND;TZID=Europe/Berlin:20260703T171500
UID:V41870410K-20260703T163000@VHSBÖBLINGEN-SINDELFINGEN
SUMMARY:English for Fun  für Kindergartenkinder 3 - 4 Jahre (V41870410K) 
LOCATION:Höfle, Saal, 107, 1. OG, Pestalozzistr. 4, 71032 Böblingen
END:VEVENT
BEGIN:VEVENT
DTSTAMP:20260421T074430
DTSTART;TZID=Europe/Berlin:20260710T163000
DTEND;TZID=Europe/Berlin:20260710T171500
UID:V41870410K-20260710T163000@VHSBÖBLINGEN-SINDELFINGEN
SUMMARY:English for Fun  für Kindergartenkinder 3 - 4 Jahre (V41870410K) 
LOCATION:Höfle, Saal, 107, 1. OG, Pestalozzistr. 4, 71032 Böblingen
END:VEVENT
END:VCALENDAR