BEGIN:VCALENDAR
VERSION:2.0
PRODID:https://www.kufer.de/kuferweb / DE
METHOD:PUBLISH
CALSCALE:GREGORIAN
X-WR-TIMEZONE:Europe/Berlin
BEGIN:VTIMEZONE
TZID:Europe/Berlin
X-LIC-LOCATION:Europe/Berlin
BEGIN:DAYLIGHT
TZOFFSETFROM:+0100
TZOFFSETTO:+0200
TZNAME:CEST
DTSTART:19700329T020000
RRULE:FREQ=YEARLY;INTERVAL=1;BYDAY=-1SU;BYMONTH=3
END:DAYLIGHT
BEGIN:STANDARD
TZOFFSETFROM:+0200
TZOFFSETTO:+0100
TZNAME:CET
DTSTART:19701025T030000
RRULE:FREQ=YEARLY;INTERVAL=1;BYDAY=-1SU;BYMONTH=10
END:STANDARD
END:VTIMEZONE
BEGIN:VEVENT
DTSTAMP:20260421T091708
DTSTART;TZID=Europe/Berlin:20260507T104500
DTEND;TZID=Europe/Berlin:20260507T121500
UID:V41810111-20260507T104500@VHSBÖBLINGEN-SINDELFINGEN
SUMMARY:Englisch A1, Auffrischung (V41810111) 
LOCATION:AI, VHS, Raum 16, Hauptstr. 15, 71134 Aidlingen
END:VEVENT
BEGIN:VEVENT
DTSTAMP:20260421T091708
DTSTART;TZID=Europe/Berlin:20260521T104500
DTEND;TZID=Europe/Berlin:20260521T121500
UID:V41810111-20260521T104500@VHSBÖBLINGEN-SINDELFINGEN
SUMMARY:Englisch A1, Auffrischung (V41810111) 
LOCATION:AI, VHS, Raum 16, Hauptstr. 15, 71134 Aidlingen
END:VEVENT
BEGIN:VEVENT
DTSTAMP:20260421T091708
DTSTART;TZID=Europe/Berlin:20260611T104500
DTEND;TZID=Europe/Berlin:20260611T121500
UID:V41810111-20260611T104500@VHSBÖBLINGEN-SINDELFINGEN
SUMMARY:Englisch A1, Auffrischung (V41810111) 
LOCATION:AI, VHS, Raum 16, Hauptstr. 15, 71134 Aidlingen
END:VEVENT
BEGIN:VEVENT
DTSTAMP:20260421T091708
DTSTART;TZID=Europe/Berlin:20260618T104500
DTEND;TZID=Europe/Berlin:20260618T121500
UID:V41810111-20260618T104500@VHSBÖBLINGEN-SINDELFINGEN
SUMMARY:Englisch A1, Auffrischung (V41810111) 
LOCATION:AI, VHS, Raum 16, Hauptstr. 15, 71134 Aidlingen
END:VEVENT
BEGIN:VEVENT
DTSTAMP:20260421T091708
DTSTART;TZID=Europe/Berlin:20260625T104500
DTEND;TZID=Europe/Berlin:20260625T121500
UID:V41810111-20260625T104500@VHSBÖBLINGEN-SINDELFINGEN
SUMMARY:Englisch A1, Auffrischung (V41810111) 
LOCATION:AI, VHS, Raum 16, Hauptstr. 15, 71134 Aidlingen
END:VEVENT
BEGIN:VEVENT
DTSTAMP:20260421T091708
DTSTART;TZID=Europe/Berlin:20260702T104500
DTEND;TZID=Europe/Berlin:20260702T121500
UID:V41810111-20260702T104500@VHSBÖBLINGEN-SINDELFINGEN
SUMMARY:Englisch A1, Auffrischung (V41810111) 
LOCATION:AI, VHS, Raum 16, Hauptstr. 15, 71134 Aidlingen
END:VEVENT
END:VCALENDAR