BEGIN:VCALENDAR
VERSION:2.0
PRODID:https://www.kufer.de/kuferweb / DE
METHOD:PUBLISH
CALSCALE:GREGORIAN
X-WR-TIMEZONE:Europe/Berlin
BEGIN:VTIMEZONE
TZID:Europe/Berlin
X-LIC-LOCATION:Europe/Berlin
BEGIN:DAYLIGHT
TZOFFSETFROM:+0100
TZOFFSETTO:+0200
TZNAME:CEST
DTSTART:19700329T020000
RRULE:FREQ=YEARLY;INTERVAL=1;BYDAY=-1SU;BYMONTH=3
END:DAYLIGHT
BEGIN:STANDARD
TZOFFSETFROM:+0200
TZOFFSETTO:+0100
TZNAME:CET
DTSTART:19701025T030000
RRULE:FREQ=YEARLY;INTERVAL=1;BYDAY=-1SU;BYMONTH=10
END:STANDARD
END:VTIMEZONE
BEGIN:VEVENT
DTSTAMP:20260420T200021
DTSTART;TZID=Europe/Berlin:20260613T093000
DTEND;TZID=Europe/Berlin:20260613T124500
UID:V41790110-20260613T093000@VHSBÖBLINGEN-SINDELFINGEN
SUMMARY:Englisch A1, Fit für die Reise (V41790110) 
LOCATION:Höfle, 001, EG, Pestalozzistr. 4, 71032 Böblingen
END:VEVENT
BEGIN:VEVENT
DTSTAMP:20260420T200021
DTSTART;TZID=Europe/Berlin:20260620T093000
DTEND;TZID=Europe/Berlin:20260620T124500
UID:V41790110-20260620T093000@VHSBÖBLINGEN-SINDELFINGEN
SUMMARY:Englisch A1, Fit für die Reise (V41790110) 
LOCATION:Höfle, 001, EG, Pestalozzistr. 4, 71032 Böblingen
END:VEVENT
BEGIN:VEVENT
DTSTAMP:20260420T200021
DTSTART;TZID=Europe/Berlin:20260627T093000
DTEND;TZID=Europe/Berlin:20260627T124500
UID:V41790110-20260627T093000@VHSBÖBLINGEN-SINDELFINGEN
SUMMARY:Englisch A1, Fit für die Reise (V41790110) 
LOCATION:Höfle, 001, EG, Pestalozzistr. 4, 71032 Böblingen
END:VEVENT
END:VCALENDAR