BEGIN:VCALENDAR
VERSION:2.0
PRODID:https://www.kufer.de/kuferweb / DE
METHOD:PUBLISH
CALSCALE:GREGORIAN
X-WR-TIMEZONE:Europe/Berlin
BEGIN:VTIMEZONE
TZID:Europe/Berlin
X-LIC-LOCATION:Europe/Berlin
BEGIN:DAYLIGHT
TZOFFSETFROM:+0100
TZOFFSETTO:+0200
TZNAME:CEST
DTSTART:19700329T020000
RRULE:FREQ=YEARLY;INTERVAL=1;BYDAY=-1SU;BYMONTH=3
END:DAYLIGHT
BEGIN:STANDARD
TZOFFSETFROM:+0200
TZOFFSETTO:+0100
TZNAME:CET
DTSTART:19701025T030000
RRULE:FREQ=YEARLY;INTERVAL=1;BYDAY=-1SU;BYMONTH=10
END:STANDARD
END:VTIMEZONE
BEGIN:VEVENT
DTSTAMP:20260420T214302
DTSTART;TZID=Europe/Berlin:20260305T174500
DTEND;TZID=Europe/Berlin:20260305T200000
UID:V41494410-20260305T174500@VHSBÖBLINGEN-SINDELFINGEN
SUMMARY:Englisch B2, Conversation (V41494410) 
LOCATION:GHH, 203, 2.OG, Böblinger Str. 8, 71065 Sindelfingen
END:VEVENT
BEGIN:VEVENT
DTSTAMP:20260420T214302
DTSTART;TZID=Europe/Berlin:20260312T174500
DTEND;TZID=Europe/Berlin:20260312T200000
UID:V41494410-20260312T174500@VHSBÖBLINGEN-SINDELFINGEN
SUMMARY:Englisch B2, Conversation (V41494410) 
LOCATION:GHH, 203, 2.OG, Böblinger Str. 8, 71065 Sindelfingen
END:VEVENT
BEGIN:VEVENT
DTSTAMP:20260420T214302
DTSTART;TZID=Europe/Berlin:20260319T174500
DTEND;TZID=Europe/Berlin:20260319T200000
UID:V41494410-20260319T174500@VHSBÖBLINGEN-SINDELFINGEN
SUMMARY:Englisch B2, Conversation (V41494410) 
LOCATION:GHH, 203, 2.OG, Böblinger Str. 8, 71065 Sindelfingen
END:VEVENT
BEGIN:VEVENT
DTSTAMP:20260420T214302
DTSTART;TZID=Europe/Berlin:20260326T174500
DTEND;TZID=Europe/Berlin:20260326T200000
UID:V41494410-20260326T174500@VHSBÖBLINGEN-SINDELFINGEN
SUMMARY:Englisch B2, Conversation (V41494410) 
LOCATION:GHH, 203, 2.OG, Böblinger Str. 8, 71065 Sindelfingen
END:VEVENT
BEGIN:VEVENT
DTSTAMP:20260420T214302
DTSTART;TZID=Europe/Berlin:20260416T174500
DTEND;TZID=Europe/Berlin:20260416T200000
UID:V41494410-20260416T174500@VHSBÖBLINGEN-SINDELFINGEN
SUMMARY:Englisch B2, Conversation (V41494410) 
LOCATION:GHH, 203, 2.OG, Böblinger Str. 8, 71065 Sindelfingen
END:VEVENT
BEGIN:VEVENT
DTSTAMP:20260420T214302
DTSTART;TZID=Europe/Berlin:20260423T174500
DTEND;TZID=Europe/Berlin:20260423T200000
UID:V41494410-20260423T174500@VHSBÖBLINGEN-SINDELFINGEN
SUMMARY:Englisch B2, Conversation (V41494410) 
LOCATION:GHH, 203, 2.OG, Böblinger Str. 8, 71065 Sindelfingen
END:VEVENT
BEGIN:VEVENT
DTSTAMP:20260420T214302
DTSTART;TZID=Europe/Berlin:20260430T174500
DTEND;TZID=Europe/Berlin:20260430T200000
UID:V41494410-20260430T174500@VHSBÖBLINGEN-SINDELFINGEN
SUMMARY:Englisch B2, Conversation (V41494410) 
LOCATION:GHH, 203, 2.OG, Böblinger Str. 8, 71065 Sindelfingen
END:VEVENT
BEGIN:VEVENT
DTSTAMP:20260420T214302
DTSTART;TZID=Europe/Berlin:20260507T174500
DTEND;TZID=Europe/Berlin:20260507T200000
UID:V41494410-20260507T174500@VHSBÖBLINGEN-SINDELFINGEN
SUMMARY:Englisch B2, Conversation (V41494410) 
LOCATION:GHH, 203, 2.OG, Böblinger Str. 8, 71065 Sindelfingen
END:VEVENT
BEGIN:VEVENT
DTSTAMP:20260420T214302
DTSTART;TZID=Europe/Berlin:20260521T174500
DTEND;TZID=Europe/Berlin:20260521T200000
UID:V41494410-20260521T174500@VHSBÖBLINGEN-SINDELFINGEN
SUMMARY:Englisch B2, Conversation (V41494410) 
LOCATION:GHH, 203, 2.OG, Böblinger Str. 8, 71065 Sindelfingen
END:VEVENT
BEGIN:VEVENT
DTSTAMP:20260420T214302
DTSTART;TZID=Europe/Berlin:20260611T174500
DTEND;TZID=Europe/Berlin:20260611T200000
UID:V41494410-20260611T174500@VHSBÖBLINGEN-SINDELFINGEN
SUMMARY:Englisch B2, Conversation (V41494410) 
LOCATION:GHH, 203, 2.OG, Böblinger Str. 8, 71065 Sindelfingen
END:VEVENT
BEGIN:VEVENT
DTSTAMP:20260420T214302
DTSTART;TZID=Europe/Berlin:20260618T174500
DTEND;TZID=Europe/Berlin:20260618T200000
UID:V41494410-20260618T174500@VHSBÖBLINGEN-SINDELFINGEN
SUMMARY:Englisch B2, Conversation (V41494410) 
LOCATION:GHH, 203, 2.OG, Böblinger Str. 8, 71065 Sindelfingen
END:VEVENT
BEGIN:VEVENT
DTSTAMP:20260420T214302
DTSTART;TZID=Europe/Berlin:20260625T174500
DTEND;TZID=Europe/Berlin:20260625T200000
UID:V41494410-20260625T174500@VHSBÖBLINGEN-SINDELFINGEN
SUMMARY:Englisch B2, Conversation (V41494410) 
LOCATION:GHH, 203, 2.OG, Böblinger Str. 8, 71065 Sindelfingen
END:VEVENT
END:VCALENDAR