BEGIN:VCALENDAR
VERSION:2.0
PRODID:https://www.kufer.de/kuferweb / DE
METHOD:PUBLISH
CALSCALE:GREGORIAN
X-WR-TIMEZONE:Europe/Berlin
BEGIN:VTIMEZONE
TZID:Europe/Berlin
X-LIC-LOCATION:Europe/Berlin
BEGIN:DAYLIGHT
TZOFFSETFROM:+0100
TZOFFSETTO:+0200
TZNAME:CEST
DTSTART:19700329T020000
RRULE:FREQ=YEARLY;INTERVAL=1;BYDAY=-1SU;BYMONTH=3
END:DAYLIGHT
BEGIN:STANDARD
TZOFFSETFROM:+0200
TZOFFSETTO:+0100
TZNAME:CET
DTSTART:19701025T030000
RRULE:FREQ=YEARLY;INTERVAL=1;BYDAY=-1SU;BYMONTH=10
END:STANDARD
END:VTIMEZONE
BEGIN:VEVENT
DTSTAMP:20260420T212009
DTSTART;TZID=Europe/Berlin:20260302T093000
DTEND;TZID=Europe/Berlin:20260302T114500
UID:V41447510-20260302T093000@VHSBÖBLINGEN-SINDELFINGEN
SUMMARY:Englisch B2 (V41447510) 
LOCATION:GHH, 104, 1.OG, Böblinger Str. 8, 71065 Sindelfingen
END:VEVENT
BEGIN:VEVENT
DTSTAMP:20260420T212009
DTSTART;TZID=Europe/Berlin:20260309T093000
DTEND;TZID=Europe/Berlin:20260309T114500
UID:V41447510-20260309T093000@VHSBÖBLINGEN-SINDELFINGEN
SUMMARY:Englisch B2 (V41447510) 
LOCATION:GHH, 104, 1.OG, Böblinger Str. 8, 71065 Sindelfingen
END:VEVENT
BEGIN:VEVENT
DTSTAMP:20260420T212009
DTSTART;TZID=Europe/Berlin:20260316T093000
DTEND;TZID=Europe/Berlin:20260316T114500
UID:V41447510-20260316T093000@VHSBÖBLINGEN-SINDELFINGEN
SUMMARY:Englisch B2 (V41447510) 
LOCATION:GHH, 104, 1.OG, Böblinger Str. 8, 71065 Sindelfingen
END:VEVENT
BEGIN:VEVENT
DTSTAMP:20260420T212009
DTSTART;TZID=Europe/Berlin:20260323T093000
DTEND;TZID=Europe/Berlin:20260323T114500
UID:V41447510-20260323T093000@VHSBÖBLINGEN-SINDELFINGEN
SUMMARY:Englisch B2 (V41447510) 
LOCATION:GHH, 104, 1.OG, Böblinger Str. 8, 71065 Sindelfingen
END:VEVENT
BEGIN:VEVENT
DTSTAMP:20260420T212009
DTSTART;TZID=Europe/Berlin:20260413T093000
DTEND;TZID=Europe/Berlin:20260413T114500
UID:V41447510-20260413T093000@VHSBÖBLINGEN-SINDELFINGEN
SUMMARY:Englisch B2 (V41447510) 
LOCATION:GHH, 104, 1.OG, Böblinger Str. 8, 71065 Sindelfingen
END:VEVENT
BEGIN:VEVENT
DTSTAMP:20260420T212009
DTSTART;TZID=Europe/Berlin:20260420T093000
DTEND;TZID=Europe/Berlin:20260420T114500
UID:V41447510-20260420T093000@VHSBÖBLINGEN-SINDELFINGEN
SUMMARY:Englisch B2 (V41447510) 
LOCATION:GHH, 104, 1.OG, Böblinger Str. 8, 71065 Sindelfingen
END:VEVENT
BEGIN:VEVENT
DTSTAMP:20260420T212009
DTSTART;TZID=Europe/Berlin:20260427T093000
DTEND;TZID=Europe/Berlin:20260427T114500
UID:V41447510-20260427T093000@VHSBÖBLINGEN-SINDELFINGEN
SUMMARY:Englisch B2 (V41447510) 
LOCATION:GHH, 104, 1.OG, Böblinger Str. 8, 71065 Sindelfingen
END:VEVENT
BEGIN:VEVENT
DTSTAMP:20260420T212009
DTSTART;TZID=Europe/Berlin:20260504T093000
DTEND;TZID=Europe/Berlin:20260504T114500
UID:V41447510-20260504T093000@VHSBÖBLINGEN-SINDELFINGEN
SUMMARY:Englisch B2 (V41447510) 
LOCATION:GHH, 104, 1.OG, Böblinger Str. 8, 71065 Sindelfingen
END:VEVENT
BEGIN:VEVENT
DTSTAMP:20260420T212009
DTSTART;TZID=Europe/Berlin:20260511T093000
DTEND;TZID=Europe/Berlin:20260511T114500
UID:V41447510-20260511T093000@VHSBÖBLINGEN-SINDELFINGEN
SUMMARY:Englisch B2 (V41447510) 
LOCATION:GHH, 104, 1.OG, Böblinger Str. 8, 71065 Sindelfingen
END:VEVENT
BEGIN:VEVENT
DTSTAMP:20260420T212009
DTSTART;TZID=Europe/Berlin:20260518T093000
DTEND;TZID=Europe/Berlin:20260518T114500
UID:V41447510-20260518T093000@VHSBÖBLINGEN-SINDELFINGEN
SUMMARY:Englisch B2 (V41447510) 
LOCATION:GHH, 104, 1.OG, Böblinger Str. 8, 71065 Sindelfingen
END:VEVENT
BEGIN:VEVENT
DTSTAMP:20260420T212009
DTSTART;TZID=Europe/Berlin:20260608T093000
DTEND;TZID=Europe/Berlin:20260608T114500
UID:V41447510-20260608T093000@VHSBÖBLINGEN-SINDELFINGEN
SUMMARY:Englisch B2 (V41447510) 
LOCATION:GHH, 104, 1.OG, Böblinger Str. 8, 71065 Sindelfingen
END:VEVENT
BEGIN:VEVENT
DTSTAMP:20260420T212009
DTSTART;TZID=Europe/Berlin:20260615T093000
DTEND;TZID=Europe/Berlin:20260615T114500
UID:V41447510-20260615T093000@VHSBÖBLINGEN-SINDELFINGEN
SUMMARY:Englisch B2 (V41447510) 
LOCATION:GHH, 104, 1.OG, Böblinger Str. 8, 71065 Sindelfingen
END:VEVENT
BEGIN:VEVENT
DTSTAMP:20260420T212009
DTSTART;TZID=Europe/Berlin:20260622T093000
DTEND;TZID=Europe/Berlin:20260622T114500
UID:V41447510-20260622T093000@VHSBÖBLINGEN-SINDELFINGEN
SUMMARY:Englisch B2 (V41447510) 
LOCATION:GHH, 104, 1.OG, Böblinger Str. 8, 71065 Sindelfingen
END:VEVENT
END:VCALENDAR