BEGIN:VCALENDAR
VERSION:2.0
PRODID:https://www.kufer.de/kuferweb / DE
METHOD:PUBLISH
CALSCALE:GREGORIAN
X-WR-TIMEZONE:Europe/Berlin
BEGIN:VTIMEZONE
TZID:Europe/Berlin
X-LIC-LOCATION:Europe/Berlin
BEGIN:DAYLIGHT
TZOFFSETFROM:+0100
TZOFFSETTO:+0200
TZNAME:CEST
DTSTART:19700329T020000
RRULE:FREQ=YEARLY;INTERVAL=1;BYDAY=-1SU;BYMONTH=3
END:DAYLIGHT
BEGIN:STANDARD
TZOFFSETFROM:+0200
TZOFFSETTO:+0100
TZNAME:CET
DTSTART:19701025T030000
RRULE:FREQ=YEARLY;INTERVAL=1;BYDAY=-1SU;BYMONTH=10
END:STANDARD
END:VTIMEZONE
BEGIN:VEVENT
DTSTAMP:20260421T152600
DTSTART;TZID=Europe/Berlin:20260304T100000
DTEND;TZID=Europe/Berlin:20260304T113000
UID:V41433521-20260304T100000@VHSBÖBLINGEN-SINDELFINGEN
SUMMARY:Englisch B2  (V41433521) 
LOCATION:HO, Haus am Ziegelhof, Eingang: Betreutes Wohnen, vhs-Seminarraum, Eberhardstr. 21, 71088 Holzgerlingen
END:VEVENT
BEGIN:VEVENT
DTSTAMP:20260421T152600
DTSTART;TZID=Europe/Berlin:20260311T100000
DTEND;TZID=Europe/Berlin:20260311T113000
UID:V41433521-20260311T100000@VHSBÖBLINGEN-SINDELFINGEN
SUMMARY:Englisch B2  (V41433521) 
LOCATION:HO, Haus am Ziegelhof, Eingang: Betreutes Wohnen, vhs-Seminarraum, Eberhardstr. 21, 71088 Holzgerlingen
END:VEVENT
BEGIN:VEVENT
DTSTAMP:20260421T152600
DTSTART;TZID=Europe/Berlin:20260318T100000
DTEND;TZID=Europe/Berlin:20260318T113000
UID:V41433521-20260318T100000@VHSBÖBLINGEN-SINDELFINGEN
SUMMARY:Englisch B2  (V41433521) 
LOCATION:HO, Haus am Ziegelhof, Eingang: Betreutes Wohnen, vhs-Seminarraum, Eberhardstr. 21, 71088 Holzgerlingen
END:VEVENT
BEGIN:VEVENT
DTSTAMP:20260421T152600
DTSTART;TZID=Europe/Berlin:20260325T100000
DTEND;TZID=Europe/Berlin:20260325T113000
UID:V41433521-20260325T100000@VHSBÖBLINGEN-SINDELFINGEN
SUMMARY:Englisch B2  (V41433521) 
LOCATION:HO, Haus am Ziegelhof, Eingang: Betreutes Wohnen, vhs-Seminarraum, Eberhardstr. 21, 71088 Holzgerlingen
END:VEVENT
BEGIN:VEVENT
DTSTAMP:20260421T152600
DTSTART;TZID=Europe/Berlin:20260415T100000
DTEND;TZID=Europe/Berlin:20260415T113000
UID:V41433521-20260415T100000@VHSBÖBLINGEN-SINDELFINGEN
SUMMARY:Englisch B2  (V41433521) 
LOCATION:HO, Haus am Ziegelhof, Eingang: Betreutes Wohnen, vhs-Seminarraum, Eberhardstr. 21, 71088 Holzgerlingen
END:VEVENT
BEGIN:VEVENT
DTSTAMP:20260421T152600
DTSTART;TZID=Europe/Berlin:20260422T100000
DTEND;TZID=Europe/Berlin:20260422T113000
UID:V41433521-20260422T100000@VHSBÖBLINGEN-SINDELFINGEN
SUMMARY:Englisch B2  (V41433521) 
LOCATION:HO, Haus am Ziegelhof, Eingang: Betreutes Wohnen, vhs-Seminarraum, Eberhardstr. 21, 71088 Holzgerlingen
END:VEVENT
BEGIN:VEVENT
DTSTAMP:20260421T152600
DTSTART;TZID=Europe/Berlin:20260429T100000
DTEND;TZID=Europe/Berlin:20260429T113000
UID:V41433521-20260429T100000@VHSBÖBLINGEN-SINDELFINGEN
SUMMARY:Englisch B2  (V41433521) 
LOCATION:HO, Haus am Ziegelhof, Eingang: Betreutes Wohnen, vhs-Seminarraum, Eberhardstr. 21, 71088 Holzgerlingen
END:VEVENT
BEGIN:VEVENT
DTSTAMP:20260421T152600
DTSTART;TZID=Europe/Berlin:20260506T100000
DTEND;TZID=Europe/Berlin:20260506T113000
UID:V41433521-20260506T100000@VHSBÖBLINGEN-SINDELFINGEN
SUMMARY:Englisch B2  (V41433521) 
LOCATION:HO, Haus am Ziegelhof, Eingang: Betreutes Wohnen, vhs-Seminarraum, Eberhardstr. 21, 71088 Holzgerlingen
END:VEVENT
BEGIN:VEVENT
DTSTAMP:20260421T152600
DTSTART;TZID=Europe/Berlin:20260513T100000
DTEND;TZID=Europe/Berlin:20260513T113000
UID:V41433521-20260513T100000@VHSBÖBLINGEN-SINDELFINGEN
SUMMARY:Englisch B2  (V41433521) 
LOCATION:HO, Haus am Ziegelhof, Eingang: Betreutes Wohnen, vhs-Seminarraum, Eberhardstr. 21, 71088 Holzgerlingen
END:VEVENT
BEGIN:VEVENT
DTSTAMP:20260421T152600
DTSTART;TZID=Europe/Berlin:20260520T100000
DTEND;TZID=Europe/Berlin:20260520T113000
UID:V41433521-20260520T100000@VHSBÖBLINGEN-SINDELFINGEN
SUMMARY:Englisch B2  (V41433521) 
LOCATION:HO, Haus am Ziegelhof, Eingang: Betreutes Wohnen, vhs-Seminarraum, Eberhardstr. 21, 71088 Holzgerlingen
END:VEVENT
BEGIN:VEVENT
DTSTAMP:20260421T152600
DTSTART;TZID=Europe/Berlin:20260610T100000
DTEND;TZID=Europe/Berlin:20260610T113000
UID:V41433521-20260610T100000@VHSBÖBLINGEN-SINDELFINGEN
SUMMARY:Englisch B2  (V41433521) 
LOCATION:HO, Haus am Ziegelhof, Eingang: Betreutes Wohnen, vhs-Seminarraum, Eberhardstr. 21, 71088 Holzgerlingen
END:VEVENT
BEGIN:VEVENT
DTSTAMP:20260421T152600
DTSTART;TZID=Europe/Berlin:20260617T100000
DTEND;TZID=Europe/Berlin:20260617T113000
UID:V41433521-20260617T100000@VHSBÖBLINGEN-SINDELFINGEN
SUMMARY:Englisch B2  (V41433521) 
LOCATION:HO, Haus am Ziegelhof, Eingang: Betreutes Wohnen, vhs-Seminarraum, Eberhardstr. 21, 71088 Holzgerlingen
END:VEVENT
BEGIN:VEVENT
DTSTAMP:20260421T152600
DTSTART;TZID=Europe/Berlin:20260624T100000
DTEND;TZID=Europe/Berlin:20260624T113000
UID:V41433521-20260624T100000@VHSBÖBLINGEN-SINDELFINGEN
SUMMARY:Englisch B2  (V41433521) 
LOCATION:HO, Haus am Ziegelhof, Eingang: Betreutes Wohnen, vhs-Seminarraum, Eberhardstr. 21, 71088 Holzgerlingen
END:VEVENT
END:VCALENDAR