BEGIN:VCALENDAR
VERSION:2.0
PRODID:https://www.kufer.de/kuferweb / DE
METHOD:PUBLISH
CALSCALE:GREGORIAN
X-WR-TIMEZONE:Europe/Berlin
BEGIN:VTIMEZONE
TZID:Europe/Berlin
X-LIC-LOCATION:Europe/Berlin
BEGIN:DAYLIGHT
TZOFFSETFROM:+0100
TZOFFSETTO:+0200
TZNAME:CEST
DTSTART:19700329T020000
RRULE:FREQ=YEARLY;INTERVAL=1;BYDAY=-1SU;BYMONTH=3
END:DAYLIGHT
BEGIN:STANDARD
TZOFFSETFROM:+0200
TZOFFSETTO:+0100
TZNAME:CET
DTSTART:19701025T030000
RRULE:FREQ=YEARLY;INTERVAL=1;BYDAY=-1SU;BYMONTH=10
END:STANDARD
END:VTIMEZONE
BEGIN:VEVENT
DTSTAMP:20260421T005026
DTSTART;TZID=Europe/Berlin:20260305T084500
DTEND;TZID=Europe/Berlin:20260305T101500
UID:V41398018-20260305T084500@VHSBÖBLINGEN-SINDELFINGEN
SUMMARY:Englisch B1 - B2, Conversation (V41398018) 
LOCATION:GR, Seniorenzentrum Adrienne von Bülow, Clubraum, Döffinger Str. 30, 71120 Grafenau
END:VEVENT
BEGIN:VEVENT
DTSTAMP:20260421T005026
DTSTART;TZID=Europe/Berlin:20260312T084500
DTEND;TZID=Europe/Berlin:20260312T101500
UID:V41398018-20260312T084500@VHSBÖBLINGEN-SINDELFINGEN
SUMMARY:Englisch B1 - B2, Conversation (V41398018) 
LOCATION:GR, Seniorenzentrum Adrienne von Bülow, Clubraum, Döffinger Str. 30, 71120 Grafenau
END:VEVENT
BEGIN:VEVENT
DTSTAMP:20260421T005026
DTSTART;TZID=Europe/Berlin:20260319T084500
DTEND;TZID=Europe/Berlin:20260319T101500
UID:V41398018-20260319T084500@VHSBÖBLINGEN-SINDELFINGEN
SUMMARY:Englisch B1 - B2, Conversation (V41398018) 
LOCATION:GR, Seniorenzentrum Adrienne von Bülow, Clubraum, Döffinger Str. 30, 71120 Grafenau
END:VEVENT
BEGIN:VEVENT
DTSTAMP:20260421T005026
DTSTART;TZID=Europe/Berlin:20260326T084500
DTEND;TZID=Europe/Berlin:20260326T101500
UID:V41398018-20260326T084500@VHSBÖBLINGEN-SINDELFINGEN
SUMMARY:Englisch B1 - B2, Conversation (V41398018) 
LOCATION:GR, Seniorenzentrum Adrienne von Bülow, Clubraum, Döffinger Str. 30, 71120 Grafenau
END:VEVENT
BEGIN:VEVENT
DTSTAMP:20260421T005026
DTSTART;TZID=Europe/Berlin:20260416T084500
DTEND;TZID=Europe/Berlin:20260416T101500
UID:V41398018-20260416T084500@VHSBÖBLINGEN-SINDELFINGEN
SUMMARY:Englisch B1 - B2, Conversation (V41398018) 
LOCATION:GR, Seniorenzentrum Adrienne von Bülow, Clubraum, Döffinger Str. 30, 71120 Grafenau
END:VEVENT
BEGIN:VEVENT
DTSTAMP:20260421T005026
DTSTART;TZID=Europe/Berlin:20260423T084500
DTEND;TZID=Europe/Berlin:20260423T101500
UID:V41398018-20260423T084500@VHSBÖBLINGEN-SINDELFINGEN
SUMMARY:Englisch B1 - B2, Conversation (V41398018) 
LOCATION:GR, Seniorenzentrum Adrienne von Bülow, Clubraum, Döffinger Str. 30, 71120 Grafenau
END:VEVENT
BEGIN:VEVENT
DTSTAMP:20260421T005026
DTSTART;TZID=Europe/Berlin:20260430T084500
DTEND;TZID=Europe/Berlin:20260430T101500
UID:V41398018-20260430T084500@VHSBÖBLINGEN-SINDELFINGEN
SUMMARY:Englisch B1 - B2, Conversation (V41398018) 
LOCATION:GR, Seniorenzentrum Adrienne von Bülow, Clubraum, Döffinger Str. 30, 71120 Grafenau
END:VEVENT
BEGIN:VEVENT
DTSTAMP:20260421T005026
DTSTART;TZID=Europe/Berlin:20260507T084500
DTEND;TZID=Europe/Berlin:20260507T101500
UID:V41398018-20260507T084500@VHSBÖBLINGEN-SINDELFINGEN
SUMMARY:Englisch B1 - B2, Conversation (V41398018) 
LOCATION:GR, Seniorenzentrum Adrienne von Bülow, Clubraum, Döffinger Str. 30, 71120 Grafenau
END:VEVENT
BEGIN:VEVENT
DTSTAMP:20260421T005026
DTSTART;TZID=Europe/Berlin:20260521T084500
DTEND;TZID=Europe/Berlin:20260521T101500
UID:V41398018-20260521T084500@VHSBÖBLINGEN-SINDELFINGEN
SUMMARY:Englisch B1 - B2, Conversation (V41398018) 
LOCATION:GR, Seniorenzentrum Adrienne von Bülow, Clubraum, Döffinger Str. 30, 71120 Grafenau
END:VEVENT
BEGIN:VEVENT
DTSTAMP:20260421T005026
DTSTART;TZID=Europe/Berlin:20260611T084500
DTEND;TZID=Europe/Berlin:20260611T101500
UID:V41398018-20260611T084500@VHSBÖBLINGEN-SINDELFINGEN
SUMMARY:Englisch B1 - B2, Conversation (V41398018) 
LOCATION:GR, Seniorenzentrum Adrienne von Bülow, Clubraum, Döffinger Str. 30, 71120 Grafenau
END:VEVENT
BEGIN:VEVENT
DTSTAMP:20260421T005026
DTSTART;TZID=Europe/Berlin:20260618T084500
DTEND;TZID=Europe/Berlin:20260618T101500
UID:V41398018-20260618T084500@VHSBÖBLINGEN-SINDELFINGEN
SUMMARY:Englisch B1 - B2, Conversation (V41398018) 
LOCATION:GR, Seniorenzentrum Adrienne von Bülow, Clubraum, Döffinger Str. 30, 71120 Grafenau
END:VEVENT
BEGIN:VEVENT
DTSTAMP:20260421T005026
DTSTART;TZID=Europe/Berlin:20260625T084500
DTEND;TZID=Europe/Berlin:20260625T101500
UID:V41398018-20260625T084500@VHSBÖBLINGEN-SINDELFINGEN
SUMMARY:Englisch B1 - B2, Conversation (V41398018) 
LOCATION:GR, Seniorenzentrum Adrienne von Bülow, Clubraum, Döffinger Str. 30, 71120 Grafenau
END:VEVENT
BEGIN:VEVENT
DTSTAMP:20260421T005026
DTSTART;TZID=Europe/Berlin:20260702T084500
DTEND;TZID=Europe/Berlin:20260702T101500
UID:V41398018-20260702T084500@VHSBÖBLINGEN-SINDELFINGEN
SUMMARY:Englisch B1 - B2, Conversation (V41398018) 
LOCATION:GR, Seniorenzentrum Adrienne von Bülow, Clubraum, Döffinger Str. 30, 71120 Grafenau
END:VEVENT
BEGIN:VEVENT
DTSTAMP:20260421T005026
DTSTART;TZID=Europe/Berlin:20260709T084500
DTEND;TZID=Europe/Berlin:20260709T101500
UID:V41398018-20260709T084500@VHSBÖBLINGEN-SINDELFINGEN
SUMMARY:Englisch B1 - B2, Conversation (V41398018) 
LOCATION:GR, Seniorenzentrum Adrienne von Bülow, Clubraum, Döffinger Str. 30, 71120 Grafenau
END:VEVENT
END:VCALENDAR