BEGIN:VCALENDAR
VERSION:2.0
PRODID:https://www.kufer.de/kuferweb / DE
METHOD:PUBLISH
CALSCALE:GREGORIAN
X-WR-TIMEZONE:Europe/Berlin
BEGIN:VTIMEZONE
TZID:Europe/Berlin
X-LIC-LOCATION:Europe/Berlin
BEGIN:DAYLIGHT
TZOFFSETFROM:+0100
TZOFFSETTO:+0200
TZNAME:CEST
DTSTART:19700329T020000
RRULE:FREQ=YEARLY;INTERVAL=1;BYDAY=-1SU;BYMONTH=3
END:DAYLIGHT
BEGIN:STANDARD
TZOFFSETFROM:+0200
TZOFFSETTO:+0100
TZNAME:CET
DTSTART:19701025T030000
RRULE:FREQ=YEARLY;INTERVAL=1;BYDAY=-1SU;BYMONTH=10
END:STANDARD
END:VTIMEZONE
BEGIN:VEVENT
DTSTAMP:20260421T003356
DTSTART;TZID=Europe/Berlin:20260303T160000
DTEND;TZID=Europe/Berlin:20260303T181500
UID:V41395010-20260303T160000@VHSBÖBLINGEN-SINDELFINGEN
SUMMARY:Englisch B1, Conversation (V41395010) 
LOCATION:GHH, 201, 2.OG, Böblinger Str. 8, 71065 Sindelfingen
END:VEVENT
BEGIN:VEVENT
DTSTAMP:20260421T003356
DTSTART;TZID=Europe/Berlin:20260310T160000
DTEND;TZID=Europe/Berlin:20260310T181500
UID:V41395010-20260310T160000@VHSBÖBLINGEN-SINDELFINGEN
SUMMARY:Englisch B1, Conversation (V41395010) 
LOCATION:GHH, 201, 2.OG, Böblinger Str. 8, 71065 Sindelfingen
END:VEVENT
BEGIN:VEVENT
DTSTAMP:20260421T003356
DTSTART;TZID=Europe/Berlin:20260317T160000
DTEND;TZID=Europe/Berlin:20260317T181500
UID:V41395010-20260317T160000@VHSBÖBLINGEN-SINDELFINGEN
SUMMARY:Englisch B1, Conversation (V41395010) 
LOCATION:GHH, 201, 2.OG, Böblinger Str. 8, 71065 Sindelfingen
END:VEVENT
BEGIN:VEVENT
DTSTAMP:20260421T003356
DTSTART;TZID=Europe/Berlin:20260324T160000
DTEND;TZID=Europe/Berlin:20260324T181500
UID:V41395010-20260324T160000@VHSBÖBLINGEN-SINDELFINGEN
SUMMARY:Englisch B1, Conversation (V41395010) 
LOCATION:GHH, 201, 2.OG, Böblinger Str. 8, 71065 Sindelfingen
END:VEVENT
BEGIN:VEVENT
DTSTAMP:20260421T003356
DTSTART;TZID=Europe/Berlin:20260414T160000
DTEND;TZID=Europe/Berlin:20260414T181500
UID:V41395010-20260414T160000@VHSBÖBLINGEN-SINDELFINGEN
SUMMARY:Englisch B1, Conversation (V41395010) 
LOCATION:GHH, 201, 2.OG, Böblinger Str. 8, 71065 Sindelfingen
END:VEVENT
BEGIN:VEVENT
DTSTAMP:20260421T003356
DTSTART;TZID=Europe/Berlin:20260421T160000
DTEND;TZID=Europe/Berlin:20260421T181500
UID:V41395010-20260421T160000@VHSBÖBLINGEN-SINDELFINGEN
SUMMARY:Englisch B1, Conversation (V41395010) 
LOCATION:GHH, 201, 2.OG, Böblinger Str. 8, 71065 Sindelfingen
END:VEVENT
BEGIN:VEVENT
DTSTAMP:20260421T003356
DTSTART;TZID=Europe/Berlin:20260428T160000
DTEND;TZID=Europe/Berlin:20260428T181500
UID:V41395010-20260428T160000@VHSBÖBLINGEN-SINDELFINGEN
SUMMARY:Englisch B1, Conversation (V41395010) 
LOCATION:GHH, 201, 2.OG, Böblinger Str. 8, 71065 Sindelfingen
END:VEVENT
BEGIN:VEVENT
DTSTAMP:20260421T003356
DTSTART;TZID=Europe/Berlin:20260505T160000
DTEND;TZID=Europe/Berlin:20260505T181500
UID:V41395010-20260505T160000@VHSBÖBLINGEN-SINDELFINGEN
SUMMARY:Englisch B1, Conversation (V41395010) 
LOCATION:GHH, 201, 2.OG, Böblinger Str. 8, 71065 Sindelfingen
END:VEVENT
BEGIN:VEVENT
DTSTAMP:20260421T003356
DTSTART;TZID=Europe/Berlin:20260512T160000
DTEND;TZID=Europe/Berlin:20260512T181500
UID:V41395010-20260512T160000@VHSBÖBLINGEN-SINDELFINGEN
SUMMARY:Englisch B1, Conversation (V41395010) 
LOCATION:GHH, 201, 2.OG, Böblinger Str. 8, 71065 Sindelfingen
END:VEVENT
BEGIN:VEVENT
DTSTAMP:20260421T003356
DTSTART;TZID=Europe/Berlin:20260519T160000
DTEND;TZID=Europe/Berlin:20260519T181500
UID:V41395010-20260519T160000@VHSBÖBLINGEN-SINDELFINGEN
SUMMARY:Englisch B1, Conversation (V41395010) 
LOCATION:GHH, 201, 2.OG, Böblinger Str. 8, 71065 Sindelfingen
END:VEVENT
BEGIN:VEVENT
DTSTAMP:20260421T003356
DTSTART;TZID=Europe/Berlin:20260609T160000
DTEND;TZID=Europe/Berlin:20260609T181500
UID:V41395010-20260609T160000@VHSBÖBLINGEN-SINDELFINGEN
SUMMARY:Englisch B1, Conversation (V41395010) 
LOCATION:GHH, 201, 2.OG, Böblinger Str. 8, 71065 Sindelfingen
END:VEVENT
BEGIN:VEVENT
DTSTAMP:20260421T003356
DTSTART;TZID=Europe/Berlin:20260616T160000
DTEND;TZID=Europe/Berlin:20260616T181500
UID:V41395010-20260616T160000@VHSBÖBLINGEN-SINDELFINGEN
SUMMARY:Englisch B1, Conversation (V41395010) 
LOCATION:GHH, 201, 2.OG, Böblinger Str. 8, 71065 Sindelfingen
END:VEVENT
BEGIN:VEVENT
DTSTAMP:20260421T003356
DTSTART;TZID=Europe/Berlin:20260623T160000
DTEND;TZID=Europe/Berlin:20260623T181500
UID:V41395010-20260623T160000@VHSBÖBLINGEN-SINDELFINGEN
SUMMARY:Englisch B1, Conversation (V41395010) 
LOCATION:GHH, 201, 2.OG, Böblinger Str. 8, 71065 Sindelfingen
END:VEVENT
END:VCALENDAR