BEGIN:VCALENDAR
VERSION:2.0
PRODID:https://www.kufer.de/kuferweb / DE
METHOD:PUBLISH
CALSCALE:GREGORIAN
X-WR-TIMEZONE:Europe/Berlin
BEGIN:VTIMEZONE
TZID:Europe/Berlin
X-LIC-LOCATION:Europe/Berlin
BEGIN:DAYLIGHT
TZOFFSETFROM:+0100
TZOFFSETTO:+0200
TZNAME:CEST
DTSTART:19700329T020000
RRULE:FREQ=YEARLY;INTERVAL=1;BYDAY=-1SU;BYMONTH=3
END:DAYLIGHT
BEGIN:STANDARD
TZOFFSETFROM:+0200
TZOFFSETTO:+0100
TZNAME:CET
DTSTART:19701025T030000
RRULE:FREQ=YEARLY;INTERVAL=1;BYDAY=-1SU;BYMONTH=10
END:STANDARD
END:VTIMEZONE
BEGIN:VEVENT
DTSTAMP:20260421T041503
DTSTART;TZID=Europe/Berlin:20260305T191500
DTEND;TZID=Europe/Berlin:20260305T204500
UID:V41339210-20260305T191500@VHSBÖBLINGEN-SINDELFINGEN
SUMMARY:Englisch B1 (V41339210) 
LOCATION:KSZ, A1.13, Steinbeisstr. 2, 71034 Böblingen
END:VEVENT
BEGIN:VEVENT
DTSTAMP:20260421T041503
DTSTART;TZID=Europe/Berlin:20260312T191500
DTEND;TZID=Europe/Berlin:20260312T204500
UID:V41339210-20260312T191500@VHSBÖBLINGEN-SINDELFINGEN
SUMMARY:Englisch B1 (V41339210) 
LOCATION:KSZ, A1.13, Steinbeisstr. 2, 71034 Böblingen
END:VEVENT
BEGIN:VEVENT
DTSTAMP:20260421T041503
DTSTART;TZID=Europe/Berlin:20260319T191500
DTEND;TZID=Europe/Berlin:20260319T204500
UID:V41339210-20260319T191500@VHSBÖBLINGEN-SINDELFINGEN
SUMMARY:Englisch B1 (V41339210) 
LOCATION:KSZ, A1.13, Steinbeisstr. 2, 71034 Böblingen
END:VEVENT
BEGIN:VEVENT
DTSTAMP:20260421T041503
DTSTART;TZID=Europe/Berlin:20260326T191500
DTEND;TZID=Europe/Berlin:20260326T204500
UID:V41339210-20260326T191500@VHSBÖBLINGEN-SINDELFINGEN
SUMMARY:Englisch B1 (V41339210) 
LOCATION:KSZ, A1.13, Steinbeisstr. 2, 71034 Böblingen
END:VEVENT
BEGIN:VEVENT
DTSTAMP:20260421T041503
DTSTART;TZID=Europe/Berlin:20260416T191500
DTEND;TZID=Europe/Berlin:20260416T204500
UID:V41339210-20260416T191500@VHSBÖBLINGEN-SINDELFINGEN
SUMMARY:Englisch B1 (V41339210) 
LOCATION:KSZ, A1.13, Steinbeisstr. 2, 71034 Böblingen
END:VEVENT
BEGIN:VEVENT
DTSTAMP:20260421T041503
DTSTART;TZID=Europe/Berlin:20260423T191500
DTEND;TZID=Europe/Berlin:20260423T204500
UID:V41339210-20260423T191500@VHSBÖBLINGEN-SINDELFINGEN
SUMMARY:Englisch B1 (V41339210) 
LOCATION:KSZ, A1.13, Steinbeisstr. 2, 71034 Böblingen
END:VEVENT
BEGIN:VEVENT
DTSTAMP:20260421T041503
DTSTART;TZID=Europe/Berlin:20260430T191500
DTEND;TZID=Europe/Berlin:20260430T204500
UID:V41339210-20260430T191500@VHSBÖBLINGEN-SINDELFINGEN
SUMMARY:Englisch B1 (V41339210) 
LOCATION:KSZ, A1.13, Steinbeisstr. 2, 71034 Böblingen
END:VEVENT
BEGIN:VEVENT
DTSTAMP:20260421T041503
DTSTART;TZID=Europe/Berlin:20260507T191500
DTEND;TZID=Europe/Berlin:20260507T204500
UID:V41339210-20260507T191500@VHSBÖBLINGEN-SINDELFINGEN
SUMMARY:Englisch B1 (V41339210) 
LOCATION:KSZ, A1.13, Steinbeisstr. 2, 71034 Böblingen
END:VEVENT
BEGIN:VEVENT
DTSTAMP:20260421T041503
DTSTART;TZID=Europe/Berlin:20260521T191500
DTEND;TZID=Europe/Berlin:20260521T204500
UID:V41339210-20260521T191500@VHSBÖBLINGEN-SINDELFINGEN
SUMMARY:Englisch B1 (V41339210) 
LOCATION:KSZ, A1.13, Steinbeisstr. 2, 71034 Böblingen
END:VEVENT
BEGIN:VEVENT
DTSTAMP:20260421T041503
DTSTART;TZID=Europe/Berlin:20260611T191500
DTEND;TZID=Europe/Berlin:20260611T204500
UID:V41339210-20260611T191500@VHSBÖBLINGEN-SINDELFINGEN
SUMMARY:Englisch B1 (V41339210) 
LOCATION:KSZ, A1.13, Steinbeisstr. 2, 71034 Böblingen
END:VEVENT
BEGIN:VEVENT
DTSTAMP:20260421T041503
DTSTART;TZID=Europe/Berlin:20260618T191500
DTEND;TZID=Europe/Berlin:20260618T204500
UID:V41339210-20260618T191500@VHSBÖBLINGEN-SINDELFINGEN
SUMMARY:Englisch B1 (V41339210) 
LOCATION:KSZ, A1.13, Steinbeisstr. 2, 71034 Böblingen
END:VEVENT
BEGIN:VEVENT
DTSTAMP:20260421T041503
DTSTART;TZID=Europe/Berlin:20260625T191500
DTEND;TZID=Europe/Berlin:20260625T204500
UID:V41339210-20260625T191500@VHSBÖBLINGEN-SINDELFINGEN
SUMMARY:Englisch B1 (V41339210) 
LOCATION:KSZ, A1.13, Steinbeisstr. 2, 71034 Böblingen
END:VEVENT
END:VCALENDAR