BEGIN:VCALENDAR
VERSION:2.0
PRODID:https://www.kufer.de/kuferweb / DE
METHOD:PUBLISH
CALSCALE:GREGORIAN
X-WR-TIMEZONE:Europe/Berlin
BEGIN:VTIMEZONE
TZID:Europe/Berlin
X-LIC-LOCATION:Europe/Berlin
BEGIN:DAYLIGHT
TZOFFSETFROM:+0100
TZOFFSETTO:+0200
TZNAME:CEST
DTSTART:19700329T020000
RRULE:FREQ=YEARLY;INTERVAL=1;BYDAY=-1SU;BYMONTH=3
END:DAYLIGHT
BEGIN:STANDARD
TZOFFSETFROM:+0200
TZOFFSETTO:+0100
TZNAME:CET
DTSTART:19701025T030000
RRULE:FREQ=YEARLY;INTERVAL=1;BYDAY=-1SU;BYMONTH=10
END:STANDARD
END:VTIMEZONE
BEGIN:VEVENT
DTSTAMP:20260420T164545
DTSTART;TZID=Europe/Berlin:20260420T190000
DTEND;TZID=Europe/Berlin:20260420T200000
UID:V41292061-20260420T190000@VHSBÖBLINGEN-SINDELFINGEN
SUMMARY:Englisch A2, Basic Conversation (V41292061) 
LOCATION:WE, GMS, Raum B010, In der Röte 92, 71093 Weil im Schönbuch
END:VEVENT
BEGIN:VEVENT
DTSTAMP:20260420T164545
DTSTART;TZID=Europe/Berlin:20260427T190000
DTEND;TZID=Europe/Berlin:20260427T200000
UID:V41292061-20260427T190000@VHSBÖBLINGEN-SINDELFINGEN
SUMMARY:Englisch A2, Basic Conversation (V41292061) 
LOCATION:WE, GMS, Raum B010, In der Röte 92, 71093 Weil im Schönbuch
END:VEVENT
BEGIN:VEVENT
DTSTAMP:20260420T164545
DTSTART;TZID=Europe/Berlin:20260504T190000
DTEND;TZID=Europe/Berlin:20260504T200000
UID:V41292061-20260504T190000@VHSBÖBLINGEN-SINDELFINGEN
SUMMARY:Englisch A2, Basic Conversation (V41292061) 
LOCATION:WE, GMS, Raum B010, In der Röte 92, 71093 Weil im Schönbuch
END:VEVENT
BEGIN:VEVENT
DTSTAMP:20260420T164545
DTSTART;TZID=Europe/Berlin:20260511T190000
DTEND;TZID=Europe/Berlin:20260511T200000
UID:V41292061-20260511T190000@VHSBÖBLINGEN-SINDELFINGEN
SUMMARY:Englisch A2, Basic Conversation (V41292061) 
LOCATION:WE, GMS, Raum B010, In der Röte 92, 71093 Weil im Schönbuch
END:VEVENT
BEGIN:VEVENT
DTSTAMP:20260420T164545
DTSTART;TZID=Europe/Berlin:20260518T190000
DTEND;TZID=Europe/Berlin:20260518T200000
UID:V41292061-20260518T190000@VHSBÖBLINGEN-SINDELFINGEN
SUMMARY:Englisch A2, Basic Conversation (V41292061) 
LOCATION:WE, GMS, Raum B010, In der Röte 92, 71093 Weil im Schönbuch
END:VEVENT
BEGIN:VEVENT
DTSTAMP:20260420T164545
DTSTART;TZID=Europe/Berlin:20260608T190000
DTEND;TZID=Europe/Berlin:20260608T200000
UID:V41292061-20260608T190000@VHSBÖBLINGEN-SINDELFINGEN
SUMMARY:Englisch A2, Basic Conversation (V41292061) 
LOCATION:WE, GMS, Raum B010, In der Röte 92, 71093 Weil im Schönbuch
END:VEVENT
BEGIN:VEVENT
DTSTAMP:20260420T164545
DTSTART;TZID=Europe/Berlin:20260615T190000
DTEND;TZID=Europe/Berlin:20260615T200000
UID:V41292061-20260615T190000@VHSBÖBLINGEN-SINDELFINGEN
SUMMARY:Englisch A2, Basic Conversation (V41292061) 
LOCATION:WE, GMS, Raum B010, In der Röte 92, 71093 Weil im Schönbuch
END:VEVENT
BEGIN:VEVENT
DTSTAMP:20260420T164545
DTSTART;TZID=Europe/Berlin:20260622T190000
DTEND;TZID=Europe/Berlin:20260622T200000
UID:V41292061-20260622T190000@VHSBÖBLINGEN-SINDELFINGEN
SUMMARY:Englisch A2, Basic Conversation (V41292061) 
LOCATION:WE, GMS, Raum B010, In der Röte 92, 71093 Weil im Schönbuch
END:VEVENT
BEGIN:VEVENT
DTSTAMP:20260420T164545
DTSTART;TZID=Europe/Berlin:20260629T190000
DTEND;TZID=Europe/Berlin:20260629T200000
UID:V41292061-20260629T190000@VHSBÖBLINGEN-SINDELFINGEN
SUMMARY:Englisch A2, Basic Conversation (V41292061) 
LOCATION:WE, GMS, Raum B010, In der Röte 92, 71093 Weil im Schönbuch
END:VEVENT
BEGIN:VEVENT
DTSTAMP:20260420T164545
DTSTART;TZID=Europe/Berlin:20260706T190000
DTEND;TZID=Europe/Berlin:20260706T200000
UID:V41292061-20260706T190000@VHSBÖBLINGEN-SINDELFINGEN
SUMMARY:Englisch A2, Basic Conversation (V41292061) 
LOCATION:WE, GMS, Raum B010, In der Röte 92, 71093 Weil im Schönbuch
END:VEVENT
END:VCALENDAR