BEGIN:VCALENDAR
VERSION:2.0
PRODID:https://www.kufer.de/kuferweb / DE
METHOD:PUBLISH
CALSCALE:GREGORIAN
X-WR-TIMEZONE:Europe/Berlin
BEGIN:VTIMEZONE
TZID:Europe/Berlin
X-LIC-LOCATION:Europe/Berlin
BEGIN:DAYLIGHT
TZOFFSETFROM:+0100
TZOFFSETTO:+0200
TZNAME:CEST
DTSTART:19700329T020000
RRULE:FREQ=YEARLY;INTERVAL=1;BYDAY=-1SU;BYMONTH=3
END:DAYLIGHT
BEGIN:STANDARD
TZOFFSETFROM:+0200
TZOFFSETTO:+0100
TZNAME:CET
DTSTART:19701025T030000
RRULE:FREQ=YEARLY;INTERVAL=1;BYDAY=-1SU;BYMONTH=10
END:STANDARD
END:VTIMEZONE
BEGIN:VEVENT
DTSTAMP:20260420T192605
DTSTART;TZID=Europe/Berlin:20260309T183000
DTEND;TZID=Europe/Berlin:20260309T200000
UID:V41135010-20260309T183000@VHSBÖBLINGEN-SINDELFINGEN
SUMMARY:Englisch A1 (V41135010) 
LOCATION:Stifts, vhs.4, 1. OG, Böblinger Str. 24, 71065 Sindelfingen
END:VEVENT
BEGIN:VEVENT
DTSTAMP:20260420T192605
DTSTART;TZID=Europe/Berlin:20260316T183000
DTEND;TZID=Europe/Berlin:20260316T200000
UID:V41135010-20260316T183000@VHSBÖBLINGEN-SINDELFINGEN
SUMMARY:Englisch A1 (V41135010) 
LOCATION:Stifts, vhs.4, 1. OG, Böblinger Str. 24, 71065 Sindelfingen
END:VEVENT
BEGIN:VEVENT
DTSTAMP:20260420T192605
DTSTART;TZID=Europe/Berlin:20260323T183000
DTEND;TZID=Europe/Berlin:20260323T200000
UID:V41135010-20260323T183000@VHSBÖBLINGEN-SINDELFINGEN
SUMMARY:Englisch A1 (V41135010) 
LOCATION:Stifts, vhs.4, 1. OG, Böblinger Str. 24, 71065 Sindelfingen
END:VEVENT
BEGIN:VEVENT
DTSTAMP:20260420T192605
DTSTART;TZID=Europe/Berlin:20260413T183000
DTEND;TZID=Europe/Berlin:20260413T200000
UID:V41135010-20260413T183000@VHSBÖBLINGEN-SINDELFINGEN
SUMMARY:Englisch A1 (V41135010) 
LOCATION:Stifts, vhs.4, 1. OG, Böblinger Str. 24, 71065 Sindelfingen
END:VEVENT
BEGIN:VEVENT
DTSTAMP:20260420T192605
DTSTART;TZID=Europe/Berlin:20260420T183000
DTEND;TZID=Europe/Berlin:20260420T200000
UID:V41135010-20260420T183000@VHSBÖBLINGEN-SINDELFINGEN
SUMMARY:Englisch A1 (V41135010) 
LOCATION:Stifts, vhs.4, 1. OG, Böblinger Str. 24, 71065 Sindelfingen
END:VEVENT
BEGIN:VEVENT
DTSTAMP:20260420T192605
DTSTART;TZID=Europe/Berlin:20260427T183000
DTEND;TZID=Europe/Berlin:20260427T200000
UID:V41135010-20260427T183000@VHSBÖBLINGEN-SINDELFINGEN
SUMMARY:Englisch A1 (V41135010) 
LOCATION:Stifts, vhs.4, 1. OG, Böblinger Str. 24, 71065 Sindelfingen
END:VEVENT
BEGIN:VEVENT
DTSTAMP:20260420T192605
DTSTART;TZID=Europe/Berlin:20260504T183000
DTEND;TZID=Europe/Berlin:20260504T200000
UID:V41135010-20260504T183000@VHSBÖBLINGEN-SINDELFINGEN
SUMMARY:Englisch A1 (V41135010) 
LOCATION:Stifts, vhs.4, 1. OG, Böblinger Str. 24, 71065 Sindelfingen
END:VEVENT
BEGIN:VEVENT
DTSTAMP:20260420T192605
DTSTART;TZID=Europe/Berlin:20260511T183000
DTEND;TZID=Europe/Berlin:20260511T200000
UID:V41135010-20260511T183000@VHSBÖBLINGEN-SINDELFINGEN
SUMMARY:Englisch A1 (V41135010) 
LOCATION:Stifts, vhs.4, 1. OG, Böblinger Str. 24, 71065 Sindelfingen
END:VEVENT
BEGIN:VEVENT
DTSTAMP:20260420T192605
DTSTART;TZID=Europe/Berlin:20260518T183000
DTEND;TZID=Europe/Berlin:20260518T200000
UID:V41135010-20260518T183000@VHSBÖBLINGEN-SINDELFINGEN
SUMMARY:Englisch A1 (V41135010) 
LOCATION:Stifts, vhs.4, 1. OG, Böblinger Str. 24, 71065 Sindelfingen
END:VEVENT
BEGIN:VEVENT
DTSTAMP:20260420T192605
DTSTART;TZID=Europe/Berlin:20260608T183000
DTEND;TZID=Europe/Berlin:20260608T200000
UID:V41135010-20260608T183000@VHSBÖBLINGEN-SINDELFINGEN
SUMMARY:Englisch A1 (V41135010) 
LOCATION:Stifts, vhs.4, 1. OG, Böblinger Str. 24, 71065 Sindelfingen
END:VEVENT
BEGIN:VEVENT
DTSTAMP:20260420T192605
DTSTART;TZID=Europe/Berlin:20260615T183000
DTEND;TZID=Europe/Berlin:20260615T200000
UID:V41135010-20260615T183000@VHSBÖBLINGEN-SINDELFINGEN
SUMMARY:Englisch A1 (V41135010) 
LOCATION:Stifts, vhs.4, 1. OG, Böblinger Str. 24, 71065 Sindelfingen
END:VEVENT
BEGIN:VEVENT
DTSTAMP:20260420T192605
DTSTART;TZID=Europe/Berlin:20260622T183000
DTEND;TZID=Europe/Berlin:20260622T200000
UID:V41135010-20260622T183000@VHSBÖBLINGEN-SINDELFINGEN
SUMMARY:Englisch A1 (V41135010) 
LOCATION:Stifts, vhs.4, 1. OG, Böblinger Str. 24, 71065 Sindelfingen
END:VEVENT
BEGIN:VEVENT
DTSTAMP:20260420T192605
DTSTART;TZID=Europe/Berlin:20260629T183000
DTEND;TZID=Europe/Berlin:20260629T200000
UID:V41135010-20260629T183000@VHSBÖBLINGEN-SINDELFINGEN
SUMMARY:Englisch A1 (V41135010) 
LOCATION:Stifts, vhs.4, 1. OG, Böblinger Str. 24, 71065 Sindelfingen
END:VEVENT
BEGIN:VEVENT
DTSTAMP:20260420T192605
DTSTART;TZID=Europe/Berlin:20260706T183000
DTEND;TZID=Europe/Berlin:20260706T200000
UID:V41135010-20260706T183000@VHSBÖBLINGEN-SINDELFINGEN
SUMMARY:Englisch A1 (V41135010) 
LOCATION:Stifts, vhs.4, 1. OG, Böblinger Str. 24, 71065 Sindelfingen
END:VEVENT
END:VCALENDAR