BEGIN:VCALENDAR
VERSION:2.0
PRODID:https://www.kufer.de/kuferweb / DE
METHOD:PUBLISH
CALSCALE:GREGORIAN
X-WR-TIMEZONE:Europe/Berlin
BEGIN:VTIMEZONE
TZID:Europe/Berlin
X-LIC-LOCATION:Europe/Berlin
BEGIN:DAYLIGHT
TZOFFSETFROM:+0100
TZOFFSETTO:+0200
TZNAME:CEST
DTSTART:19700329T020000
RRULE:FREQ=YEARLY;INTERVAL=1;BYDAY=-1SU;BYMONTH=3
END:DAYLIGHT
BEGIN:STANDARD
TZOFFSETFROM:+0200
TZOFFSETTO:+0100
TZNAME:CET
DTSTART:19701025T030000
RRULE:FREQ=YEARLY;INTERVAL=1;BYDAY=-1SU;BYMONTH=10
END:STANDARD
END:VTIMEZONE
BEGIN:VEVENT
DTSTAMP:20260421T152511
DTSTART;TZID=Europe/Berlin:20260417T180000
DTEND;TZID=Europe/Berlin:20260417T210000
UID:V38630821-20260417T180000@VHSBÖBLINGEN-SINDELFINGEN
SUMMARY:Couscous, Märchen und Kunst Kochen und Malen - mit allen Sinnen (V38630821) 
LOCATION:HO, Grund- und Werkrealschule, C - Neubau, Küche, Berkenstr. 18, 71088 Holzgerlingen
END:VEVENT
BEGIN:VEVENT
DTSTAMP:20260421T152511
DTSTART;TZID=Europe/Berlin:20260418T100000
DTEND;TZID=Europe/Berlin:20260418T140000
UID:V38630821-20260418T100000@VHSBÖBLINGEN-SINDELFINGEN
SUMMARY:Couscous, Märchen und Kunst Kochen und Malen - mit allen Sinnen (V38630821) 
LOCATION:HO, Grund- und Werkrealschule, C - Neubau, Malort, Berkenstr. 18, 71088 Holzgerlingen
END:VEVENT
END:VCALENDAR