BEGIN:VCALENDAR
VERSION:2.0
PRODID:https://www.kufer.de/kuferweb / DE
METHOD:PUBLISH
CALSCALE:GREGORIAN
X-WR-TIMEZONE:Europe/Berlin
BEGIN:VTIMEZONE
TZID:Europe/Berlin
X-LIC-LOCATION:Europe/Berlin
BEGIN:DAYLIGHT
TZOFFSETFROM:+0100
TZOFFSETTO:+0200
TZNAME:CEST
DTSTART:19700329T020000
RRULE:FREQ=YEARLY;INTERVAL=1;BYDAY=-1SU;BYMONTH=3
END:DAYLIGHT
BEGIN:STANDARD
TZOFFSETFROM:+0200
TZOFFSETTO:+0100
TZNAME:CET
DTSTART:19701025T030000
RRULE:FREQ=YEARLY;INTERVAL=1;BYDAY=-1SU;BYMONTH=10
END:STANDARD
END:VTIMEZONE
BEGIN:VEVENT
DTSTAMP:20260422T015007
DTSTART;TZID=Europe/Berlin:20260304T183000
DTEND;TZID=Europe/Berlin:20260304T213000
UID:V38421618-20260304T183000@VHSBÖBLINGEN-SINDELFINGEN
SUMMARY:Feierabendküche - Genusswerkstatt 1x im Monat mittwochs -  Kochen & Austauschen (V38421618) 
LOCATION:GR, Gemeinschaftsschule Döffingen, Schulküche, Bergstr. 18, 71120 Grafenau
END:VEVENT
BEGIN:VEVENT
DTSTAMP:20260422T015007
DTSTART;TZID=Europe/Berlin:20260415T183000
DTEND;TZID=Europe/Berlin:20260415T213000
UID:V38421618-20260415T183000@VHSBÖBLINGEN-SINDELFINGEN
SUMMARY:Feierabendküche - Genusswerkstatt 1x im Monat mittwochs -  Kochen & Austauschen (V38421618) 
LOCATION:GR, Gemeinschaftsschule Döffingen, Schulküche, Bergstr. 18, 71120 Grafenau
END:VEVENT
BEGIN:VEVENT
DTSTAMP:20260422T015007
DTSTART;TZID=Europe/Berlin:20260506T183000
DTEND;TZID=Europe/Berlin:20260506T213000
UID:V38421618-20260506T183000@VHSBÖBLINGEN-SINDELFINGEN
SUMMARY:Feierabendküche - Genusswerkstatt 1x im Monat mittwochs -  Kochen & Austauschen (V38421618) 
LOCATION:GR, Gemeinschaftsschule Döffingen, Schulküche, Bergstr. 18, 71120 Grafenau
END:VEVENT
BEGIN:VEVENT
DTSTAMP:20260422T015007
DTSTART;TZID=Europe/Berlin:20260610T183000
DTEND;TZID=Europe/Berlin:20260610T213000
UID:V38421618-20260610T183000@VHSBÖBLINGEN-SINDELFINGEN
SUMMARY:Feierabendküche - Genusswerkstatt 1x im Monat mittwochs -  Kochen & Austauschen (V38421618) 
LOCATION:GR, Gemeinschaftsschule Döffingen, Schulküche, Bergstr. 18, 71120 Grafenau
END:VEVENT
END:VCALENDAR