BEGIN:VCALENDAR
VERSION:2.0
PRODID:https://www.kufer.de/kuferweb / DE
METHOD:PUBLISH
CALSCALE:GREGORIAN
X-WR-TIMEZONE:Europe/Berlin
BEGIN:VTIMEZONE
TZID:Europe/Berlin
X-LIC-LOCATION:Europe/Berlin
BEGIN:DAYLIGHT
TZOFFSETFROM:+0100
TZOFFSETTO:+0200
TZNAME:CEST
DTSTART:19700329T020000
RRULE:FREQ=YEARLY;INTERVAL=1;BYDAY=-1SU;BYMONTH=3
END:DAYLIGHT
BEGIN:STANDARD
TZOFFSETFROM:+0200
TZOFFSETTO:+0100
TZNAME:CET
DTSTART:19701025T030000
RRULE:FREQ=YEARLY;INTERVAL=1;BYDAY=-1SU;BYMONTH=10
END:STANDARD
END:VTIMEZONE
BEGIN:VEVENT
DTSTAMP:20260421T152835
DTSTART;TZID=Europe/Berlin:20260305T190000
DTEND;TZID=Europe/Berlin:20260305T223000
UID:V38421221-20260305T190000@VHSBÖBLINGEN-SINDELFINGEN
SUMMARY:Kochen nur für Männer (V38421221) 
LOCATION:HO, Otto-Rommel-Realschule, G - Hauptbau, Küche, Schillerstraße 22, 71088 Holzgerlingen
END:VEVENT
BEGIN:VEVENT
DTSTAMP:20260421T152835
DTSTART;TZID=Europe/Berlin:20260312T190000
DTEND;TZID=Europe/Berlin:20260312T223000
UID:V38421221-20260312T190000@VHSBÖBLINGEN-SINDELFINGEN
SUMMARY:Kochen nur für Männer (V38421221) 
LOCATION:HO, Otto-Rommel-Realschule, G - Hauptbau, Küche, Schillerstraße 22, 71088 Holzgerlingen
END:VEVENT
BEGIN:VEVENT
DTSTAMP:20260421T152835
DTSTART;TZID=Europe/Berlin:20260319T190000
DTEND;TZID=Europe/Berlin:20260319T223000
UID:V38421221-20260319T190000@VHSBÖBLINGEN-SINDELFINGEN
SUMMARY:Kochen nur für Männer (V38421221) 
LOCATION:HO, Otto-Rommel-Realschule, G - Hauptbau, Küche, Schillerstraße 22, 71088 Holzgerlingen
END:VEVENT
BEGIN:VEVENT
DTSTAMP:20260421T152835
DTSTART;TZID=Europe/Berlin:20260326T190000
DTEND;TZID=Europe/Berlin:20260326T223000
UID:V38421221-20260326T190000@VHSBÖBLINGEN-SINDELFINGEN
SUMMARY:Kochen nur für Männer (V38421221) 
LOCATION:HO, Otto-Rommel-Realschule, G - Hauptbau, Küche, Schillerstraße 22, 71088 Holzgerlingen
END:VEVENT
END:VCALENDAR