BEGIN:VCALENDAR
VERSION:2.0
PRODID:https://www.kufer.de/kuferweb / DE
METHOD:PUBLISH
CALSCALE:GREGORIAN
X-WR-TIMEZONE:Europe/Berlin
BEGIN:VTIMEZONE
TZID:Europe/Berlin
X-LIC-LOCATION:Europe/Berlin
BEGIN:DAYLIGHT
TZOFFSETFROM:+0100
TZOFFSETTO:+0200
TZNAME:CEST
DTSTART:19700329T020000
RRULE:FREQ=YEARLY;INTERVAL=1;BYDAY=-1SU;BYMONTH=3
END:DAYLIGHT
BEGIN:STANDARD
TZOFFSETFROM:+0200
TZOFFSETTO:+0100
TZNAME:CET
DTSTART:19701025T030000
RRULE:FREQ=YEARLY;INTERVAL=1;BYDAY=-1SU;BYMONTH=10
END:STANDARD
END:VTIMEZONE
BEGIN:VEVENT
DTSTAMP:20260421T105323
DTSTART;TZID=Europe/Berlin:20260320T163000
DTEND;TZID=Europe/Berlin:20260320T193000
UID:V38421022K-20260320T163000@VHSBÖBLINGEN-SINDELFINGEN
SUMMARY:Kinder-Kochkurs: Kleine Köche – große Gerichte (V38421022K) 
LOCATION:MA, Johannes Kepler GMS, Verwaltungsgeb., Schulküche, Marienstr. 5, 71106 Magstadt
END:VEVENT
BEGIN:VEVENT
DTSTAMP:20260421T105323
DTSTART;TZID=Europe/Berlin:20260327T163000
DTEND;TZID=Europe/Berlin:20260327T193000
UID:V38421022K-20260327T163000@VHSBÖBLINGEN-SINDELFINGEN
SUMMARY:Kinder-Kochkurs: Kleine Köche – große Gerichte (V38421022K) 
LOCATION:MA, Johannes Kepler GMS, Verwaltungsgeb., Schulküche, Marienstr. 5, 71106 Magstadt
END:VEVENT
BEGIN:VEVENT
DTSTAMP:20260421T105323
DTSTART;TZID=Europe/Berlin:20260417T163000
DTEND;TZID=Europe/Berlin:20260417T193000
UID:V38421022K-20260417T163000@VHSBÖBLINGEN-SINDELFINGEN
SUMMARY:Kinder-Kochkurs: Kleine Köche – große Gerichte (V38421022K) 
LOCATION:MA, Johannes Kepler GMS, Verwaltungsgeb., Schulküche, Marienstr. 5, 71106 Magstadt
END:VEVENT
END:VCALENDAR