BEGIN:VCALENDAR
VERSION:2.0
PRODID:https://www.kufer.de/kuferweb / DE
METHOD:PUBLISH
CALSCALE:GREGORIAN
X-WR-TIMEZONE:Europe/Berlin
BEGIN:VTIMEZONE
TZID:Europe/Berlin
X-LIC-LOCATION:Europe/Berlin
BEGIN:DAYLIGHT
TZOFFSETFROM:+0100
TZOFFSETTO:+0200
TZNAME:CEST
DTSTART:19700329T020000
RRULE:FREQ=YEARLY;INTERVAL=1;BYDAY=-1SU;BYMONTH=3
END:DAYLIGHT
BEGIN:STANDARD
TZOFFSETFROM:+0200
TZOFFSETTO:+0100
TZNAME:CET
DTSTART:19701025T030000
RRULE:FREQ=YEARLY;INTERVAL=1;BYDAY=-1SU;BYMONTH=10
END:STANDARD
END:VTIMEZONE
BEGIN:VEVENT
DTSTAMP:20260421T041235
DTSTART;TZID=Europe/Berlin:20260725T100000
DTEND;TZID=Europe/Berlin:20260725T170000
UID:V37459010-20260725T100000@VHSBÖBLINGEN-SINDELFINGEN
SUMMARY:Windsurfen für Teilnehmer ab 12 Jahren (V37459010) 
LOCATION:Nagoldtalsperre, Parkplatz 3
END:VEVENT
BEGIN:VEVENT
DTSTAMP:20260421T041235
DTSTART;TZID=Europe/Berlin:20260726T100000
DTEND;TZID=Europe/Berlin:20260726T170000
UID:V37459010-20260726T100000@VHSBÖBLINGEN-SINDELFINGEN
SUMMARY:Windsurfen für Teilnehmer ab 12 Jahren (V37459010) 
LOCATION:Nagoldtalsperre, Parkplatz 3
END:VEVENT
END:VCALENDAR